Report for Dist-Zilla-Stash-PodWeaver-1.005

Back
From: metabase:user:fb19509c-17e3-11e3-a14d-fdb79081a995
Subject: PASS Dist-Zilla-Stash-PodWeaver-1.005 v5.19.3 Mac OS X
Date: 2013-09-07T17:36:34Z

This distribution has been tested as part of the CPAN Testers
project, supporting the Perl programming language.  See
http://wiki.cpantesters.org/ for more information or email
questions to cpan-testers-discuss@perl.org


--
Dear RWSTAUNER,

This is a computer-generated report for Dist-Zilla-Stash-PodWeaver-1.005
on perl 5.19.3, created by App::cpanminus::reporter 0.10 (1.6931).

Thank you for uploading your work to CPAN.  Congratulations!
All tests were successful.

Sections of this report:

    * Tester comments
    * Program output
    * Prerequisites
    * Environment and other context

------------------------------
TESTER COMMENTS
------------------------------

Additional comments from tester:

none provided

------------------------------
PROGRAM OUTPUT
------------------------------

Output from '':

Building and testing Dist-Zilla-Stash-PodWeaver-1.005
cp lib/Dist/Zilla/Stash/PodWeaver.pm blib/lib/Dist/Zilla/Stash/PodWeaver.pm
Manifying blib/man3/Dist::Zilla::Stash::PodWeaver.0
PERL_DL_NONLAZY=1 /Users/ether/perl5/perlbrew/perls/19.3/bin/perl5.19.3 "-MExtUtils::Command::MM" "-e" "test_harness(0, 'blib/lib', 'blib/arch')" t/*.t
t/00-compile.t ......... ok
t/00-report-prereqs.t .. skipped: $ENV{AUTOMATED_TESTING} not set
t/ini-config.t ......... ok
All tests successful.
Files=3, Tests=16,  2 wallclock secs ( 0.03 usr  0.01 sys +  1.85 cusr  0.11 csys =  2.00 CPU)
Result: PASS

------------------------------
PREREQUISITES
------------------------------

Prerequisite modules loaded:

    No requirements found

------------------------------
ENVIRONMENT AND OTHER CONTEXT
------------------------------

Environment variables:

    LANG = en_US
    PATH = /Users/ether/bin:/Users/ether/git/misc/install/bourbon/bin:/Users/ether/.perlbrew/libs/19.3@std/bin:/Users/ether/perl5/perlbrew/bin:/Users/ether/perl5/perlbrew/perls/19.3/bin:/opt/local/bin:/opt/local/sbin:/usr/bin:/bin:/usr/sbin:/sbin:/usr/local/bin:/opt/local/share/git-core/contrib/workdir
    PERL5LIB = /Users/ether/.perlbrew/libs/19.3@std/lib/perl5
    PERLBREW_BASHRC_VERSION = 0.66
    PERLBREW_HOME = /Users/ether/.perlbrew
    PERLBREW_LIB = std
    PERLBREW_MANPATH = /Users/ether/.perlbrew/libs/19.3@std/man:/Users/ether/perl5/perlbrew/perls/19.3/man
    PERLBREW_PATH = /Users/ether/.perlbrew/libs/19.3@std/bin:/Users/ether/perl5/perlbrew/bin:/Users/ether/perl5/perlbrew/perls/19.3/bin
    PERLBREW_PERL = 19.3
    PERLBREW_ROOT = /Users/ether/perl5/perlbrew
    PERLBREW_VERSION = 0.66
    PERLDOC_PAGER = less -sicMr
    PERL_AUTOINSTALL_PREFER_CPAN = 1
    PERL_LOCAL_LIB_ROOT = /Users/ether/.perlbrew/libs/19.3@std
    PERL_MB_OPT = --install_base /Users/ether/.perlbrew/libs/19.3@std
    PERL_MM_OPT = INSTALL_BASE=/Users/ether/.perlbrew/libs/19.3@std
    SHELL = /bin/bash
    TERM = xterm-color
    TMPDIR = /var/folders/kx/9dgyhhpn2yb7v2mggnr385fr0000gn/T/

Perl special variables (and OS-specific diagnostics, for MSWin32):

    EGID = 20 20 402 12 61 79 80 81 98
    EUID = 501
    EXECUTABLE_NAME = /Users/ether/perl5/perlbrew/perls/19.3/bin/perl5.19.3
    GID = 20 20 402 12 61 79 80 81 98
    UID = 501

Perl module toolchain versions installed:

    Module              Have    
    ------------------- --------
    CPAN                2.00    
    CPAN::Meta          2.132140
    Cwd                 3.44    
    ExtUtils::CBuilder  0.280210
    ExtUtils::Command   1.17    
    ExtUtils::Install   1.60    
    ExtUtils::MakeMaker 6.72    
    ExtUtils::Manifest  1.63    
    ExtUtils::ParseXS   3.21    
    File::Spec          3.44    
    JSON                2.59    
    JSON::PP            2.27202 
    Module::Build       0.4007  
    Module::Signature   n/a     
    Parse::CPAN::Meta   1.4405  
    Test::Harness       3.28    
    Test::More          0.98    
    YAML                0.84    
    YAML::Syck          1.27    
    version             0.9903  


--

Summary of my perl5 (revision 5 version 19 subversion 3) configuration:
   
  Platform:
    osname=darwin, osvers=12.4.0, archname=darwin-2level
    uname='darwin bourbon 12.4.0 darwin kernel version 12.4.0: wed may 1 17:57:12 pdt 2013; root:xnu-2050.24.15~1release_x86_64 x86_64 '
    config_args='-de -Dprefix=/Users/ether/perl5/perlbrew/perls/19.3 -Dman1dir=none -Dman3dir=none -Dusedevel -Aeval:scriptdir=/Users/ether/perl5/perlbrew/perls/19.3/bin'
    hint=recommended, useposix=true, d_sigaction=define
    useithreads=undef, usemultiplicity=undef
    useperlio=define, d_sfio=undef, uselargefiles=define, usesocks=undef
    use64bitint=define, use64bitall=define, uselongdouble=undef
    usemymalloc=n, bincompat5005=undef
  Compiler:
    cc='cc', ccflags ='-fno-common -DPERL_DARWIN -fno-strict-aliasing -pipe -fstack-protector -I/opt/local/include',
    optimize='-O3',
    cppflags='-fno-common -DPERL_DARWIN -fno-strict-aliasing -pipe -fstack-protector -I/opt/local/include'
    ccversion='', gccversion='4.2.1 Compatible Apple LLVM 4.2 (clang-425.0.28)', gccosandvers=''
    intsize=4, longsize=8, ptrsize=8, doublesize=8, byteorder=12345678
    d_longlong=define, longlongsize=8, d_longdbl=define, longdblsize=16
    ivtype='long', ivsize=8, nvtype='double', nvsize=8, Off_t='off_t', lseeksize=8
    alignbytes=8, prototype=define
  Linker and Libraries:
    ld='env MACOSX_DEPLOYMENT_TARGET=10.3 cc', ldflags =' -fstack-protector -L/opt/local/lib'
    libpth=/opt/local/lib /usr/lib
    libs=-lgdbm -ldbm -ldl -lm -lutil -lc
    perllibs=-ldl -lm -lutil -lc
    libc=, so=dylib, useshrplib=false, libperl=libperl.a
    gnulibc_version=''
  Dynamic Linking:
    dlsrc=dl_dlopen.xs, dlext=bundle, d_dlsymun=undef, ccdlflags=' '
    cccdlflags=' ', lddlflags=' -bundle -undefined dynamic_lookup -L/opt/local/lib -fstack-protector'


Characteristics of this binary (from libperl): 
  Compile-time options: HAS_TIMES PERLIO_LAYERS PERL_DONT_CREATE_GVSV
                        PERL_HASH_FUNC_ONE_AT_A_TIME_HARD PERL_MALLOC_WRAP
                        PERL_NEW_COPY_ON_WRITE PERL_PRESERVE_IVUV
                        PERL_USE_DEVEL USE_64_BIT_ALL USE_64_BIT_INT
                        USE_LARGE_FILES USE_LOCALE USE_LOCALE_COLLATE
                        USE_LOCALE_CTYPE USE_LOCALE_NUMERIC USE_PERLIO
                        USE_PERL_ATOF
  Built under darwin
  Compiled at Aug 20 2013 14:37:03
  %ENV:
    PERL5LIB="/Users/ether/.perlbrew/libs/19.3@std/lib/perl5"
    PERLBREW_BASHRC_VERSION="0.66"
    PERLBREW_HOME="/Users/ether/.perlbrew"
    PERLBREW_LIB="std"
    PERLBREW_MANPATH="/Users/ether/.perlbrew/libs/19.3@std/man:/Users/ether/perl5/perlbrew/perls/19.3/man"
    PERLBREW_PATH="/Users/ether/.perlbrew/libs/19.3@std/bin:/Users/ether/perl5/perlbrew/bin:/Users/ether/perl5/perlbrew/perls/19.3/bin"
    PERLBREW_PERL="19.3"
    PERLBREW_ROOT="/Users/ether/perl5/perlbrew"
    PERLBREW_VERSION="0.66"
    PERLDOC_PAGER="less -sicMr"
    PERL_AUTOINSTALL_PREFER_CPAN="1"
    PERL_LOCAL_LIB_ROOT="/Users/ether/.perlbrew/libs/19.3@std"
    PERL_MB_OPT="--install_base /Users/ether/.perlbrew/libs/19.3@std"
    PERL_MM_OPT="INSTALL_BASE=/Users/ether/.perlbrew/libs/19.3@std"
  @INC:
    /Users/ether/.perlbrew/libs/19.3@std/lib/perl5/darwin-2level
    /Users/ether/.perlbrew/libs/19.3@std/lib/perl5
    /Users/ether/perl5/perlbrew/perls/19.3/lib/site_perl/5.19.3/darwin-2level
    /Users/ether/perl5/perlbrew/perls/19.3/lib/site_perl/5.19.3
    /Users/ether/perl5/perlbrew/perls/19.3/lib/5.19.3/darwin-2level
    /Users/ether/perl5/perlbrew/perls/19.3/lib/5.19.3
    .