XString v0.005 Perl 5 v5.42.0 amd64-freebsd

Status
Pass
From
Michele Beltrame
Dist
XString v0.005
Platform
Perl 5 v5.42.0 amd64-freebsd
Date
2025-10-13 20:34:39
ID
0a53b39e-a874-11f0-afda-f3ad91d7e3b3
This distribution has been tested as part of the CPAN Testers
project, supporting the Perl programming language.  See
http://wiki.cpantesters.org/ for more information or email
questions to cpan-testers-discuss@perl.org


--
Dear icolas .,

This is a computer-generated report for XString-0.005
on perl 5.42.0, created by CPAN-Reporter-1.2020.

Thank you for uploading your work to CPAN.  Congratulations!
All tests were successful.

Sections of this report:

    * Tester comments
    * Program output
    * Prerequisites
    * Environment and other context

------------------------------
TESTER COMMENTS
------------------------------

Additional comments from tester:

none provided

------------------------------
PROGRAM OUTPUT
------------------------------

Output from '/usr/bin/make test':

"/usr/home/italpro/perl5/perlbrew/perls/perl-5.42.0/bin/perl" -MExtUtils::Command::MM -e 'cp_nonempty' -- XString.bs blib/arch/auto/XString/XString.bs 644
PERL_DL_NONLAZY=1 "/usr/home/italpro/perl5/perlbrew/perls/perl-5.42.0/bin/perl" "-MExtUtils::Command::MM" "-MTest::Harness" "-e" "undef *Test::Harness::Switches; test_harness(0, 'blib/lib', 'blib/arch')" t/*.t
t/00-load.t ............ ok
# 
# Versions for all modules listed in MYMETA.json (including optional ones):
# 
# === Configure Requires ===
# 
#     Module              Want Have
#     ------------------- ---- ----
#     ExtUtils::MakeMaker  any 7.76
# 
# === Build Requires ===
# 
#     Module              Want Have
#     ------------------- ---- ----
#     ExtUtils::MakeMaker  any 7.76
# 
# === Test Requires ===
# 
#     Module              Want     Have
#     ------------------- ---- --------
#     ExtUtils::MakeMaker  any     7.76
#     File::Spec           any     3.94
#     File::Temp           any   0.2311
#     Test::More          0.87 1.302210
# 
# === Test Recommends ===
# 
#     Module         Want     Have
#     ---------- -------- --------
#     CPAN::Meta 2.120900 2.150010
# 
# === Runtime Requires ===
# 
#     Module Want Have
#     ------ ---- ----
# 
t/00-report-prereqs.t .. ok
t/cstring.t ............ ok
t/perlstring.t ......... ok
All tests successful.
Files=4, Tests=282,  0 wallclock secs ( 0.02 usr  0.00 sys +  0.21 cusr  0.04 csys =  0.27 CPU)
Result: PASS

------------------------------
PREREQUISITES
------------------------------

Prerequisite modules loaded:

requires:

    Module              Need     Have    
    ------------------- -------- --------
    perl                5.008    5.042000

build_requires:

    Module              Need     Have    
    ------------------- -------- --------
    ExtUtils::MakeMaker 0        7.76    
    File::Spec          0        3.94    
    File::Temp          0        0.2311  
    Test::More          0.87     1.302210

configure_requires:

    Module              Need     Have    
    ------------------- -------- --------
    ExtUtils::MakeMaker 0        7.76    

opt_build_requires:

    Module              Need     Have    
    ------------------- -------- --------
    CPAN::Meta          2.120900 2.150010


------------------------------
ENVIRONMENT AND OTHER CONTEXT
------------------------------

Environment variables:

    LANG = en_US.UTF-8
    LC_ALL = en_US.UTF-8
    NONINTERACTIVE_TESTING = 1
    PATH = /usr/home/italpro/perl5/perlbrew/bin:/usr/home/italpro/perl5/perlbrew/perls/perl-5.42.0/bin:/home/italpro/bin:/usr/local/pgsql/bin:/sbin:/bin:/usr/sbin:/usr/bin:/usr/local/sbin:/usr/local/bin:/usr/home/italpro/bin
    PERL5LIB = 
    PERL5OPT = 
    PERL5_CPANPLUS_IS_RUNNING = 44357
    PERL5_CPAN_IS_RUNNING = 44357
    PERLBREW_HOME = /usr/home/italpro/.perlbrew
    PERLBREW_MANPATH = /usr/home/italpro/perl5/perlbrew/perls/perl-5.42.0/man
    PERLBREW_PATH = /usr/home/italpro/perl5/perlbrew/bin:/usr/home/italpro/perl5/perlbrew/perls/perl-5.42.0/bin
    PERLBREW_PERL = perl-5.42.0
    PERLBREW_ROOT = /usr/home/italpro/perl5/perlbrew
    PERLBREW_SHELLRC_VERSION = 0.88
    PERLBREW_VERSION = 0.88
    PERL_MM_USE_DEFAULT = 1
    PERL_USE_UNSAFE_INC = 1
    SHELL = /usr/local/bin/bash
    TERM = xterm-256color

Perl special variables (and OS-specific diagnostics, for MSWin32):

    $^X = /usr/home/italpro/perl5/perlbrew/perls/perl-5.42.0/bin/perl
    $UID/$EUID = 41869 / 41869
    $GID = 1000 1000 861
    $EGID = 1000 1000 861

Perl module toolchain versions installed:

    Module              Have    
    ------------------- --------
    CPAN                2.38    
    CPAN::Meta          2.150010
    Cwd                 3.94    
    ExtUtils::CBuilder  0.280242
    ExtUtils::Command   7.76    
    ExtUtils::Install   2.22    
    ExtUtils::MakeMaker 7.76    
    ExtUtils::Manifest  1.75    
    ExtUtils::ParseXS   3.57    
    File::Spec          3.94    
    JSON                4.10    
    JSON::PP            4.16    
    Module::Build       0.4234  
    Module::Signature   n/a     
    Parse::CPAN::Meta   2.150010
    Test2               1.302210
    Test::Harness       3.50    
    Test::More          1.302210
    YAML                n/a     
    YAML::Syck          n/a     
    version             0.9933  


--

Summary of my perl5 (revision 5 version 42 subversion 0) configuration:
   
  Platform:
    osname=freebsd
    osvers=13.5-release
    archname=amd64-freebsd
    uname='freebsd qs4387.pair.com 13.5-release freebsd 13.5-release releng13.5-n259162-882b9f3f2218 generic amd64 '
    config_args='-de -Dprefix=/usr/home/italpro/perl5/perlbrew/perls/perl-5.42.0 -Aeval:scriptdir=/usr/home/italpro/perl5/perlbrew/perls/perl-5.42.0/bin'
    hint=recommended
    useposix=true
    d_sigaction=define
    useithreads=undef
    usemultiplicity=undef
    use64bitint=define
    use64bitall=define
    uselongdouble=undef
    usemymalloc=n
    default_inc_excludes_dot=define
  Compiler:
    cc='cc'
    ccflags ='-DHAS_FPSETMASK -DHAS_FLOATINGPOINT_H -DNO_POSIX_2008_LOCALE -fno-strict-aliasing -pipe -fstack-protector-strong -I/usr/local/include'
    optimize='-O2'
    cppflags='-DHAS_FPSETMASK -DHAS_FLOATINGPOINT_H -DNO_POSIX_2008_LOCALE -fno-strict-aliasing -pipe -fstack-protector-strong -I/usr/local/include'
    ccversion=''
    gccversion='FreeBSD Clang 19.1.7 (https://github.com/llvm/llvm-project.git llvmorg-19.1.7-0-gcd708029e0b2)'
    gccosandvers=''
    intsize=4
    longsize=8
    ptrsize=8
    doublesize=8
    byteorder=12345678
    doublekind=3
    d_longlong=define
    longlongsize=8
    d_longdbl=define
    longdblsize=16
    longdblkind=3
    ivtype='long'
    ivsize=8
    nvtype='double'
    nvsize=8
    Off_t='off_t'
    lseeksize=8
    alignbytes=8
    prototype=define
  Linker and Libraries:
    ld='cc'
    ldflags ='-Wl,-E  -fstack-protector-strong -L/usr/local/lib'
    libpth=/usr/lib /usr/local/lib /usr/lib/clang/19/lib
    libs=-lpthread -lgdbm -ldl -lm -lcrypt -lutil -lc
    perllibs=-lpthread -ldl -lm -lcrypt -lutil -lc
    libc=
    so=so
    useshrplib=false
    libperl=libperl.a
    gnulibc_version=''
  Dynamic Linking:
    dlsrc=dl_dlopen.xs
    dlext=so
    d_dlsymun=undef
    ccdlflags=' '
    cccdlflags='-DPIC -fPIC'
    lddlflags='-shared  -L/usr/local/lib -fstack-protector-strong'


Characteristics of this binary (from libperl): 
  Compile-time options:
    HAS_LONG_DOUBLE
    HAS_STRTOLD
    HAS_TIMES
    PERLIO_LAYERS
    PERL_COPY_ON_WRITE
    PERL_DONT_CREATE_GVSV
    PERL_HASH_FUNC_SIPHASH13
    PERL_HASH_USE_SBOX32
    PERL_MALLOC_WRAP
    PERL_OP_PARENT
    PERL_PRESERVE_IVUV
    PERL_USE_SAFE_PUTENV
    USE_64_BIT_ALL
    USE_64_BIT_INT
    USE_LARGE_FILES
    USE_LOCALE
    USE_LOCALE_COLLATE
    USE_LOCALE_CTYPE
    USE_LOCALE_NUMERIC
    USE_LOCALE_TIME
    USE_PERLIO
    USE_PERL_ATOF
  Built under freebsd
  Compiled at Oct  9 2025 04:04:12
  %ENV:
    PERL5LIB=""
    PERL5OPT=""
    PERL5_CPANPLUS_IS_RUNNING="44357"
    PERL5_CPAN_IS_RUNNING="44357"
    PERLBREW_HOME="/usr/home/italpro/.perlbrew"
    PERLBREW_MANPATH="/usr/home/italpro/perl5/perlbrew/perls/perl-5.42.0/man"
    PERLBREW_PATH="/usr/home/italpro/perl5/perlbrew/bin:/usr/home/italpro/perl5/perlbrew/perls/perl-5.42.0/bin"
    PERLBREW_PERL="perl-5.42.0"
    PERLBREW_ROOT="/usr/home/italpro/perl5/perlbrew"
    PERLBREW_SHELLRC_VERSION="0.88"
    PERLBREW_VERSION="0.88"
    PERL_MM_USE_DEFAULT="1"
    PERL_USE_UNSAFE_INC="1"
  @INC:
    /usr/home/italpro/perl5/perlbrew/perls/perl-5.42.0/lib/site_perl/5.42.0/amd64-freebsd
    /usr/home/italpro/perl5/perlbrew/perls/perl-5.42.0/lib/site_perl/5.42.0
    /usr/home/italpro/perl5/perlbrew/perls/perl-5.42.0/lib/5.42.0/amd64-freebsd
    /usr/home/italpro/perl5/perlbrew/perls/perl-5.42.0/lib/5.42.0
    .