Back
From: metabase:user:b53c7f44-4c0e-11e4-9ced-a04ade49192c
Subject: PASS Catalyst-Controller-ActionRole-0.17 v5.10.0 GNU/Linux
Date: 2015-04-16T06:58:51Z
This distribution has been tested as part of the CPAN Testers
project, supporting the Perl programming language. See
http://wiki.cpantesters.org/ for more information or email
questions to cpan-testers-discuss@perl.org
--
Dear Karen Etheridge,
This is a computer-generated report for Catalyst-Controller-ActionRole-0.17
on perl 5.10.0, created by CPAN-Reporter-1.2011.
Thank you for uploading your work to CPAN. Congratulations!
All tests were successful.
Sections of this report:
* Tester comments
* Program output
* Prerequisites
* Environment and other context
------------------------------
TESTER COMMENTS
------------------------------
Additional comments from tester:
this report is from an automated smoke testing program
and was not reviewed by a human for accuracy
------------------------------
PROGRAM OUTPUT
------------------------------
Output from '/usr/bin/make test':
PERL_DL_NONLAZY=1 "/opt/perl492-32-O0-5.10.0/bin/perl" "-MExtUtils::Command::MM" "-MTest::Harness" "-e" "undef *Test::Harness::Switches; test_harness(0, 'blib/lib', 'blib/arch')" t/*.t
#
# Versions for all modules listed in MYMETA.json (including optional ones):
#
# === Configure Requires ===
#
# Module Want Have
# ------------------- ----- -----
# Module::Build::Tiny 0.039 0.039
#
# === Build Requires ===
#
# Module Want Have
# ------------------- ---- ----
# ExtUtils::MakeMaker any 7.04
#
# === Test Requires ===
#
# Module Want Have
# ---------------------- ---- --------
# Catalyst any 5.90085
# Catalyst::Action any undef
# Catalyst::Action::REST 0.74 1.19
# Catalyst::Test any undef
# ExtUtils::MakeMaker any 7.04
# File::Spec any 3.47
# FindBin any 1.49
# Moose::Role any 2.1403
# Test::More any 1.001014
# lib any 0.63
# namespace::clean any 0.25
# parent any 0.232
# strict any 1.04
# warnings any 1.06
#
# === Test Recommends ===
#
# Module Want Have
# ---------- -------- --------
# CPAN::Meta 2.120900 2.150001
#
# === Runtime Requires ===
#
# Module Want Have
# --------------------- ------- -------
# Catalyst::Controller any undef
# Catalyst::Runtime 5.80025 5.90085
# Catalyst::Utils any undef
# Class::Load any 0.22
# List::Util any 1.41
# Moose any 2.1403
# Moose::Meta::Class any 2.1403
# MooseX::Types::Moose any 0.45
# String::RewritePrefix 0.004 0.007
# namespace::autoclean any 0.24
#
t/00-report-prereqs.t ..... ok
t/action-class.t .......... ok
t/basic.t ................. ok
t/basic_rest.t ............ ok
t/execution-via-config.t .. ok
t/execution-via-does.t .... ok
All tests successful.
Files=6, Tests=44, 47 wallclock secs ( 0.20 usr 0.04 sys + 33.17 cusr 1.19 csys = 34.60 CPU)
Result: PASS
------------------------------
PREREQUISITES
------------------------------
Prerequisite modules loaded:
requires:
Module Need Have
---------------------- -------- --------
Catalyst::Controller 0 0
Catalyst::Runtime 5.80025 5.90085
Catalyst::Utils 0 0
Class::Load 0 0.22
List::Util 0 1.41
Moose 0 2.1403
Moose::Meta::Class 0 2.1403
MooseX::Types::Moose 0 0.45
namespace::autoclean 0 0.24
perl 5.006 5.010000
String::RewritePrefix 0.004 0.007
build_requires:
Module Need Have
---------------------- -------- --------
Catalyst 0 5.90085
Catalyst::Action 0 0
Catalyst::Action::REST 0.74 1.19
Catalyst::Test 0 0
ExtUtils::MakeMaker 0 7.04
File::Spec 0 3.47
FindBin 0 1.49
lib 0 0.63
Moose::Role 0 2.1403
namespace::clean 0 0.25
parent 0 0.232
strict 0 1.04
Test::More 0 1.001014
warnings 0 1.06
configure_requires:
Module Need Have
---------------------- -------- --------
Module::Build::Tiny 0.039 0.039
perl 5.006 5.010000
opt_build_requires:
Module Need Have
---------------------- -------- --------
CPAN::Meta 2.120900 2.150001
------------------------------
ENVIRONMENT AND OTHER CONTEXT
------------------------------
Environment variables:
AUTOMATED_TESTING = 1
LANG = en_US.utf8
MB_TEST_EXPERIMENTAL = 1
MOD_PERL = 0
NONINTERACTIVE_TESTING = 1
PATH = /usr/lib/qt-3.3/bin:/usr/kerberos/sbin:/usr/kerberos/bin:/usr/lib/ccache:/usr/local/sbin:/usr/sbin:/sbin:/usr/local/bin:/usr/bin:/bin:/usr/lib/firebird/bin:/opt/real/RealPlayer:/root/bin:/usr/lib/firebird/bin:/opt/real/RealPlayer
PERL5LIB =
PERL5OPT =
PERL5_CPANPLUS_IS_RUNNING = 4496
PERL5_CPAN_IS_RUNNING = 4496
PERL_EXTUTILS_AUTOINSTALL = --defaultdeps
PERL_MM_USE_DEFAULT = 1
SHELL = /bin/bash
TERM = xterm
Perl special variables (and OS-specific diagnostics, for MSWin32):
$^X = /opt/perl492-32-O0-5.10.0/bin/perl
$UID/$EUID = 0 / 0
$GID = 0 0 1 2 3 4 6 10
$EGID = 0 0 1 2 3 4 6 10
Perl module toolchain versions installed:
Module Have
------------------- --------
CPAN 2.10
CPAN::Meta 2.150001
Cwd 3.47
ExtUtils::CBuilder 0.280220
ExtUtils::Command 1.16
ExtUtils::Install 2.04
ExtUtils::MakeMaker 7.04
ExtUtils::Manifest 1.70
ExtUtils::ParseXS 3.24
File::Spec 3.47
JSON 2.90
JSON::PP 2.27300
Module::Build 0.4211
Module::Signature 0.77
Parse::CPAN::Meta 1.4414
Test::Harness 3.35
Test::More 1.001014
YAML 1.14
YAML::Syck 1.29
version 0.9912
--
Summary of my perl5 (revision 5 version 10 subversion 0) configuration:
Platform:
osname=linux, osvers=2.6.32.63, archname=i686-linux-thread-multi-64int-ld
uname='linux localhost.localdomain 2.6.32.63 #2 smp fri jan 30 10:45:01 pst 2015 i686 i686 i386 gnulinux '
config_args='-Dcc=/opt/492/bin/gcc -Dprefix=/opt/perl492-32-O0-5.10.0 -DDEBUGGING'
hint=recommended, useposix=true, d_sigaction=define
useithreads=define, usemultiplicity=define
useperlio=define, d_sfio=undef, uselargefiles=define, usesocks=undef
use64bitint=define, use64bitall=undef, uselongdouble=define
usemymalloc=y, bincompat5005=undef
Compiler:
cc='/opt/492/bin/gcc', ccflags ='-D_REENTRANT -D_GNU_SOURCE -DDEBUGGING -fno-strict-aliasing -pipe -I/usr/local/include -D_LARGEFILE_SOURCE -D_FILE_OFFSET_BITS=64',
optimize='-O0 -g',
cppflags='-D_REENTRANT -D_GNU_SOURCE -DDEBUGGING -fno-strict-aliasing -pipe -I/usr/local/include'
ccversion='', gccversion='4.9.2', gccosandvers=''
intsize=4, longsize=4, ptrsize=4, doublesize=8, byteorder=12345678
d_longlong=define, longlongsize=8, d_longdbl=define, longdblsize=12
ivtype='long long', ivsize=8, nvtype='long double', nvsize=12, Off_t='off_t', lseeksize=8
alignbytes=4, prototype=define
Linker and Libraries:
ld='/opt/492/bin/gcc', ldflags =' -L/usr/local/lib'
libpth=/usr/local/lib /lib /usr/lib
libs=-lnsl -lgdbm -ldb -ldl -lm -lcrypt -lutil -lpthread -lc
perllibs=-lnsl -ldl -lm -lcrypt -lutil -lpthread -lc
libc=/lib/libc-2.8.so, so=so, useshrplib=true, libperl=libperl.so
gnulibc_version='2.8'
Dynamic Linking:
dlsrc=dl_dlopen.xs, dlext=so, d_dlsymun=undef, ccdlflags='-Wl,-E -Wl,-rpath,/opt/perl492-32-O0-5.10.0/lib/5.10.0/i686-linux-thread-multi-64int-ld/CORE'
cccdlflags='-fPIC', lddlflags='-shared -O0 -g -L/usr/local/lib'
Characteristics of this binary (from libperl):
Compile-time options: DEBUGGING MULTIPLICITY MYMALLOC PERL_DONT_CREATE_GVSV
PERL_IMPLICIT_CONTEXT PERL_MAD PERL_MALLOC_WRAP
PERL_TRACK_MEMPOOL USE_64_BIT_INT USE_ITHREADS
USE_LARGE_FILES USE_LONG_DOUBLE USE_PERLIO
USE_REENTRANT_API
Built under linux
Compiled at Apr 5 2015 11:00:24
%ENV:
PERL5LIB=""
PERL5OPT=""
PERL5_CPANPLUS_IS_RUNNING="4496"
PERL5_CPAN_IS_RUNNING="4496"
PERL_EXTUTILS_AUTOINSTALL="--defaultdeps"
PERL_MM_USE_DEFAULT="1"
@INC:
/opt/perl492-32-O0-5.10.0/lib/5.10.0/i686-linux-thread-multi-64int-ld
/opt/perl492-32-O0-5.10.0/lib/5.10.0
/opt/perl492-32-O0-5.10.0/lib/site_perl/5.10.0/i686-linux-thread-multi-64int-ld
/opt/perl492-32-O0-5.10.0/lib/site_perl/5.10.0
.