Params-ValidationCompiler v0.26 Perl 5 v5.26.0 x86_64-linux
- Status
- Pass
- From
- raytestinger
- Dist
-
Params-ValidationCompiler v0.26
- Platform
- Perl 5 v5.26.0 x86_64-linux
- Date
- 2018-02-04 20:14:49
- ID
- 0D3217DC-09E8-11E8-9F95-BA4EE4B7EC9D
From: "raytestinger" <testinger@yahoo.com>
X-Test-Reporter-Distfile: DROLSKY/Params-ValidationCompiler-0.26.tar.gz
X-Test-Reporter-Perl: v5.26.0
Subject: PASS Params-ValidationCompiler-0.26 x86_64-linux 4.10.0-30-generic
Report: This distribution has been tested as part of the CPAN Testers
project, supporting the Perl programming language. See
http://wiki.cpantesters.org/ for more information or email
questions to cpan-testers-discuss@perl.org
--
Dear DROLSKY,
This is a computer-generated report for Params-ValidationCompiler-0.26
on perl 5.26.0, created by App::cpanminus::reporter 0.17 (1.7043).
Thank you for uploading your work to CPAN. Congratulations!
All tests were successful.
Sections of this report:
* Tester comments
* Program output
* Prerequisites
* Environment and other context
------------------------------
TESTER COMMENTS
------------------------------
Additional comments from tester:
this report is from an automated smoke testing program
and was not reviewed by a human for accuracy
------------------------------
PROGRAM OUTPUT
------------------------------
Output from '':
Building and testing Params-ValidationCompiler-0.26
cp lib/Params/ValidationCompiler/Exceptions.pm blib/lib/Params/ValidationCompiler/Exceptions.pm
cp lib/Params/ValidationCompiler/Compiler.pm blib/lib/Params/ValidationCompiler/Compiler.pm
cp lib/Params/ValidationCompiler.pm blib/lib/Params/ValidationCompiler.pm
Manifying 3 pod documents
PERL_DL_NONLAZY=1 "/home/ray/perl5/perlbrew/perls/perl-5.26.0/bin/perl" "-MExtUtils::Command::MM" "-MTest::Harness" "-e" "undef *Test::Harness::Switches; test_harness(0, 'blib/lib', 'blib/arch')" t/*.t t/named/*.t t/positional/*.t
#
# Versions for all modules listed in MYMETA.json (including optional ones):
#
# === Configure Requires ===
#
# Module Want Have
# ------------------- ---- ----
# ExtUtils::MakeMaker any 7.30
#
# === Build Requires ===
#
# Module Want Have
# ------------------- ---- ----
# ExtUtils::MakeMaker any 7.30
#
# === Test Requires ===
#
# Module Want Have
# ------------------------- -------- --------
# ExtUtils::MakeMaker any 7.30
# File::Spec any 3.67
# Hash::Util any 0.22
# Specio 0.14 0.40
# Test2::Plugin::NoWarnings any 0.06
# Test2::Require::Module any 0.000094
# Test2::V0 any 0.000094
# Test::More 1.302015 1.302120
# Test::Without::Module any 0.20
#
# === Test Recommends ===
#
# Module Want Have
# ---------- -------- --------
# CPAN::Meta 2.120900 2.150010
#
# === Runtime Requires ===
#
# Module Want Have
# ---------------- ---- ----
# B any 1.68
# Carp any 1.42
# Eval::Closure any 0.14
# Exception::Class any 1.43
# Exporter any 5.72
# List::Util 1.29 1.49
# Scalar::Util any 1.49
# overload any 1.28
# strict any 1.11
# warnings any 1.37
#
# === Runtime Recommends ===
#
# Module Want Have
# --------- ---- ----
# Sub::Util 1.40 1.49
#
t/00-report-prereqs.t .... ok
t/default.t .............. ok
t/exceptions.t ........... ok
t/moose.t ................ ok
t/name-fails.t ........... ok
t/name.t ................. ok
t/named/args-check.t ..... ok
t/named/const-hash.t ..... skipped: Const::Fast doesn't work on dev/blead perl. Also the tests fail on Perl 5.18 but not others for no reason I can understand
t/named/locked-hash.t .... ok
t/named/required.t ....... ok
t/named/slurpy.t ......... ok
t/pairs-to-value-list.t .. ok
t/positional/default.t ... ok
t/positional/required.t .. ok
t/positional/slurpy.t .... ok
t/self-check.t ........... ok
t/source_for.t ........... ok
t/specio.t ............... ok
t/type-tiny.t ............ ok
All tests successful.
Files=19, Tests=81, 5 wallclock secs ( 0.07 usr 0.03 sys + 4.69 cusr 0.28 csys = 5.07 CPU)
Result: PASS
------------------------------
PREREQUISITES
------------------------------
Prerequisite modules loaded:
No requirements found
------------------------------
ENVIRONMENT AND OTHER CONTEXT
------------------------------
Environment variables:
AUTOMATED_TESTING = 1
LANG = en_US.UTF-8
LANGUAGE = en_US
NONINTERACTIVE_TESTING = 1
PATH = /home/ray/perl5/perlbrew/bin:/home/ray/perl5/perlbrew/perls/perl-5.26.0/bin:/home/ray/bin:/home/ray/.local/bin:/usr/local/sbin:/usr/local/bin:/usr/sbin:/usr/bin:/sbin:/bin:/usr/games:/usr/local/games
PERL5_CPANPLUS_IS_RUNNING = 30364
PERL5_CPAN_IS_RUNNING = 30364
PERLBREW_BASHRC_VERSION = 0.74
PERLBREW_HOME = /home/ray/.perlbrew
PERLBREW_MANPATH = /home/ray/perl5/perlbrew/perls/perl-5.26.0/man
PERLBREW_PATH = /home/ray/perl5/perlbrew/bin:/home/ray/perl5/perlbrew/perls/perl-5.26.0/bin
PERLBREW_PERL = perl-5.26.0
PERLBREW_ROOT = /home/ray/perl5/perlbrew
PERLBREW_VERSION = 0.80
PERL_CPANM_HOME = /tmp/g_A77V3AgV
PERL_CPAN_REPORTER_CONFIG = /tmp/g_A77V3AgV/config.ini
SHELL = /bin/bash
TERM = xterm
Perl special variables (and OS-specific diagnostics, for MSWin32):
EGID = 1000 4 24 27 30 46 113 130 1000
EUID = 1000
EXECUTABLE_NAME = /home/ray/perl5/perlbrew/perls/perl-5.26.0/bin/perl
GID = 1000 4 24 27 30 46 113 130 1000
UID = 1000
Perl module toolchain versions installed:
Module Have
------------------- --------
CPAN 2.18
CPAN::Meta 2.150010
Cwd 3.67
ExtUtils::CBuilder 0.280230
ExtUtils::Command 7.30
ExtUtils::Install 2.06
ExtUtils::MakeMaker 7.30
ExtUtils::Manifest 1.70
ExtUtils::ParseXS 3.34
File::Spec 3.67
JSON 2.94
JSON::PP 2.97000
Module::Build 0.4224
Module::Signature 0.81
Parse::CPAN::Meta 2.150010
Test::Harness 3.39
Test::More 1.302120
YAML 1.24
YAML::Syck 1.30
version 0.9917
--
Summary of my perl5 (revision 5 version 26 subversion 0) configuration:
Platform:
osname=linux
osvers=4.10.0-30-generic
archname=x86_64-linux
uname='linux ray-hp-250-g5-notebook-pc 4.10.0-30-generic #34~16.04.1-ubuntu smp wed aug 2 02:13:56 utc 2017 x86_64 x86_64 x86_64 gnulinux '
config_args='-de -Dprefix=/home/ray/perl5/perlbrew/perls/perl-5.26.0 -Aeval:scriptdir=/home/ray/perl5/perlbrew/perls/perl-5.26.0/bin'
hint=recommended
useposix=true
d_sigaction=define
useithreads=undef
usemultiplicity=undef
use64bitint=define
use64bitall=define
uselongdouble=undef
usemymalloc=n
default_inc_excludes_dot=define
bincompat5005=undef
Compiler:
cc='cc'
ccflags ='-fwrapv -fno-strict-aliasing -pipe -fstack-protector-strong -I/usr/local/include -D_LARGEFILE_SOURCE -D_FILE_OFFSET_BITS=64'
optimize='-O2'
cppflags='-fwrapv -fno-strict-aliasing -pipe -fstack-protector-strong -I/usr/local/include'
ccversion=''
gccversion='5.4.0 20160609'
gccosandvers=''
intsize=4
longsize=8
ptrsize=8
doublesize=8
byteorder=12345678
doublekind=3
d_longlong=define
longlongsize=8
d_longdbl=define
longdblsize=16
longdblkind=3
ivtype='long'
ivsize=8
nvtype='double'
nvsize=8
Off_t='off_t'
lseeksize=8
alignbytes=8
prototype=define
Linker and Libraries:
ld='cc'
ldflags =' -fstack-protector-strong -L/usr/local/lib'
libpth=/usr/local/lib /usr/lib/gcc/x86_64-linux-gnu/5/include-fixed /usr/include/x86_64-linux-gnu /usr/lib /lib/x86_64-linux-gnu /lib/../lib /usr/lib/x86_64-linux-gnu /usr/lib/../lib /lib
libs=-lpthread -lnsl -ldl -lm -lcrypt -lutil -lc
perllibs=-lpthread -lnsl -ldl -lm -lcrypt -lutil -lc
libc=libc-2.23.so
so=so
useshrplib=false
libperl=libperl.a
gnulibc_version='2.23'
Dynamic Linking:
dlsrc=dl_dlopen.xs
dlext=so
d_dlsymun=undef
ccdlflags='-Wl,-E'
cccdlflags='-fPIC'
lddlflags='-shared -O2 -L/usr/local/lib -fstack-protector-strong'
Characteristics of this binary (from libperl):
Compile-time options:
HAS_TIMES
PERLIO_LAYERS
PERL_COPY_ON_WRITE
PERL_DONT_CREATE_GVSV
PERL_MALLOC_WRAP
PERL_OP_PARENT
PERL_PRESERVE_IVUV
USE_64_BIT_ALL
USE_64_BIT_INT
USE_LARGE_FILES
USE_LOCALE
USE_LOCALE_COLLATE
USE_LOCALE_CTYPE
USE_LOCALE_NUMERIC
USE_LOCALE_TIME
USE_PERLIO
USE_PERL_ATOF
Locally applied patches:
Devel::PatchPerl 1.48
Built under linux
Compiled at Aug 5 2017 21:05:23
%ENV:
PERL5_CPANPLUS_IS_RUNNING="30364"
PERL5_CPAN_IS_RUNNING="30364"
PERLBREW_BASHRC_VERSION="0.74"
PERLBREW_HOME="/home/ray/.perlbrew"
PERLBREW_MANPATH="/home/ray/perl5/perlbrew/perls/perl-5.26.0/man"
PERLBREW_PATH="/home/ray/perl5/perlbrew/bin:/home/ray/perl5/perlbrew/perls/perl-5.26.0/bin"
PERLBREW_PERL="perl-5.26.0"
PERLBREW_ROOT="/home/ray/perl5/perlbrew"
PERLBREW_VERSION="0.80"
PERL_CPANM_HOME="/tmp/g_A77V3AgV"
PERL_CPAN_REPORTER_CONFIG="/tmp/g_A77V3AgV/config.ini"
@INC:
/home/ray/perl5/perlbrew/perls/perl-5.26.0/lib/site_perl/5.26.0/x86_64-linux
/home/ray/perl5/perlbrew/perls/perl-5.26.0/lib/site_perl/5.26.0
/home/ray/perl5/perlbrew/perls/perl-5.26.0/lib/5.26.0/x86_64-linux
/home/ray/perl5/perlbrew/perls/perl-5.26.0/lib/5.26.0