Database-Async v0.019 Perl 5 v5.36.3 x86_64-linux-thread-multi
- Status
- Pass
- From
- David Cantrell (DCANTRELL)
- Dist
-
Database-Async v0.019
- Platform
- Perl 5 v5.36.3 x86_64-linux-thread-multi
- Date
- 2023-12-06 05:19:32
- ID
- 09f16fb0-93f7-11ee-812e-786f7e87312f
This distribution has been tested as part of the CPAN Testers
project, supporting the Perl programming language. See
http://wiki.cpantesters.org/ for more information or email
questions to cpan-testers-discuss@perl.org
--
Dear Tom Molesworth,
This is a computer-generated report for Database-Async-0.019
on perl 5.36.3, created by CPAN-Reporter-1.2019.
Thank you for uploading your work to CPAN. Congratulations!
All tests were successful.
Sections of this report:
* Tester comments
* Program output
* Prerequisites
* Environment and other context
------------------------------
TESTER COMMENTS
------------------------------
Additional comments from tester:
this report is from an automated smoke testing program
and was not reviewed by a human for accuracy
------------------------------
PROGRAM OUTPUT
------------------------------
Output from '/usr/bin/make test':
PERL_DL_NONLAZY=1 "/home/david/cpantesting/perl-5.36.3/bin/perl" "-MExtUtils::Command::MM" "-MTest::Harness" "-e" "undef *Test::Harness::Switches; test_harness(0, 'blib/lib', 'blib/arch')" t/*.t
t/00-check-deps.t ...... ok
t/00-compile.t ......... ok
#
# Versions for all modules listed in MYMETA.json (including optional ones):
#
# === Configure Requires ===
#
# Module Want Have
# ------------------- ---- ----
# ExtUtils::MakeMaker any 7.70
#
# === Build Requires ===
#
# Module Want Have
# ------------------- ---- ----
# ExtUtils::MakeMaker any 7.70
#
# === Test Requires ===
#
# Module Want Have
# ------------------- ----- --------
# ExtUtils::MakeMaker any 7.70
# File::Spec any 3.84
# IO::Handle any 1.51
# IPC::Open3 any 1.22
# Test::CheckDeps 0.010 0.010
# Test::Fatal 0.010 0.017
# Test::More 0.98 1.302198
# Test::Refcount 0.07 0.10
#
# === Test Recommends ===
#
# Module Want Have
# ---------- -------- --------
# CPAN::Meta 2.120900 2.150010
#
# === Runtime Requires ===
#
# Module Want Have
# ------------------------ ----- --------
# Class::Method::Modifiers any 2.15
# Future 0.40 0.50
# Future::AsyncAwait 0.33 0.66
# IO::Async 0.68 0.802
# IO::Async::Notifier 0.68 0.802
# JSON::MaybeUTF8 any 2.000
# List::Util 1.50 1.63
# List::UtilsBy any 0.12
# Log::Any 1.050 1.717
# Module::Load any 0.36
# Path::Tiny 0.108 0.144
# Ryu 3.002 3.004
# Ryu::Async 0.016 0.020
# Scalar::Util 1.50 1.63
# Syntax::Keyword::Try 0.11 0.29
# Template 3.000 3.101
# URI any 5.21
# URI::db 0.19 0.21
# YAML::XS any 0.88
# curry any 2.000001
# indirect any 0.39
# mro any 1.26
# parent any 0.241
# perl 5.024 5.036003
#
t/00-report-prereqs.t .. ok
t/loop_removal.t ....... ok
t/new.t ................ ok
t/pool.t ............... ok
All tests successful.
Files=6, Tests=73, 3 wallclock secs ( 0.05 usr 0.01 sys + 2.13 cusr 0.35 csys = 2.54 CPU)
Result: PASS
------------------------------
PREREQUISITES
------------------------------
Prerequisite modules loaded:
requires:
Module Need Have
------------------------ -------- --------
Class::Method::Modifiers 0 2.15
curry 0 2.000001
Future 0.40 0.50
Future::AsyncAwait 0.33 0.66
indirect 0 0.39
IO::Async 0.68 0.802
IO::Async::Notifier 0.68 0.802
JSON::MaybeUTF8 0 2.000
List::Util 1.50 1.63
List::UtilsBy 0 0.12
Log::Any 1.050 1.717
Module::Load 0 0.36
mro 0 1.26
parent 0 0.241
Path::Tiny 0.108 0.144
perl 5.024 5.036003
Ryu 3.002 3.004
Ryu::Async 0.016 0.020
Scalar::Util 1.50 1.63
Syntax::Keyword::Try 0.11 0.29
Template 3.000 3.101
URI 0 5.21
URI::db 0.19 0.21
YAML::XS 0 0.88
build_requires:
Module Need Have
------------------------ -------- --------
ExtUtils::MakeMaker 0 7.70
File::Spec 0 3.84
IO::Handle 0 1.51
IPC::Open3 0 1.22
Test::CheckDeps 0.010 0.010
Test::Fatal 0.010 0.017
Test::More 0.98 1.302198
Test::Refcount 0.07 0.10
configure_requires:
Module Need Have
------------------------ -------- --------
ExtUtils::MakeMaker 0 7.70
opt_build_requires:
Module Need Have
------------------------ -------- --------
CPAN::Meta 2.120900 2.150010
------------------------------
ENVIRONMENT AND OTHER CONTEXT
------------------------------
Environment variables:
AUTOMATED_TESTING = 1
LANG = en_GB.UTF-8
LANGUAGE = en_GB:en
LC_TERMINAL = iTerm2
LC_TERMINAL_VERSION = 3.4.22
NONINTERACTIVE_TESTING = 1
PATH = /home/david/.nvm/versions/node/v20.10.0/bin:/home/david/.cargo/bin:/home/david/perl5/perlbrew/bin:/home/david/perl5/perlbrew/perls/perl-5.30.2/bin:/home/david/bin:/usr/local/bin:/usr/bin:/bin:/usr/local/games:/usr/games
PERL = 5.36.3
PERL5LIB =
PERL5OPT =
PERL5_CPANPLUS_IS_RUNNING = 94084
PERL5_CPAN_IS_RUNNING = 94084
PERLBREW_HOME = /home/david/.perlbrew
PERLBREW_MANPATH = /home/david/perl5/perlbrew/perls/perl-5.30.2/man
PERLBREW_PATH = /home/david/perl5/perlbrew/bin:/home/david/perl5/perlbrew/perls/perl-5.30.2/bin
PERLBREW_PERL = perl-5.30.2
PERLBREW_ROOT = /home/david/perl5/perlbrew
PERLBREW_SHELLRC_VERSION = 0.98
PERLBREW_VERSION = 0.98
PERLVER = 5.36.3
PERL_INLINE_DIRECTORY = /home/david/.Inline-5.36.3
PERL_MM_USE_DEFAULT = 1
PERL_USE_UNSAFE_INC = 0
SHELL = /bin/bash
TERM = screen
Perl special variables (and OS-specific diagnostics, for MSWin32):
$^X = /home/david/cpantesting/perl-5.36.3/bin/perl
$UID/$EUID = 1000 / 1000
$GID = 1000 24 25 27 29 30 44 46 109 1000
$EGID = 1000 24 25 27 29 30 44 46 109 1000
Perl module toolchain versions installed:
Module Have
------------------- --------
CPAN 2.33
CPAN::Meta 2.150010
Cwd 3.84
ExtUtils::CBuilder 0.280236
ExtUtils::Command 7.70
ExtUtils::Install 2.22
ExtUtils::MakeMaker 7.70
ExtUtils::Manifest 1.75
ExtUtils::ParseXS 3.51
File::Spec 3.84
JSON 4.10
JSON::PP 4.16
Module::Build 0.4234
Module::Signature n/a
Parse::CPAN::Meta 2.150010
Test2 1.302198
Test::Harness 3.48
Test::More 1.302198
YAML 1.30
YAML::Syck 1.34
version 0.9930
--
Summary of my perl5 (revision 5 version 36 subversion 3) configuration:
Platform:
osname=linux
osvers=6.1.0-11-amd64
archname=x86_64-linux-thread-multi
uname='linux cpantesting-linux 6.1.0-11-amd64 #1 smp preempt_dynamic debian 6.1.38-4 (2023-08-08) x86_64 gnulinux '
config_args='-de -Dprefix=/home/david/cpantesting/perl-5.36.3 -Dusethreads'
hint=recommended
useposix=true
d_sigaction=define
useithreads=define
usemultiplicity=define
use64bitint=define
use64bitall=define
uselongdouble=undef
usemymalloc=n
default_inc_excludes_dot=define
Compiler:
cc='cc'
ccflags ='-D_REENTRANT -D_GNU_SOURCE -fwrapv -fno-strict-aliasing -pipe -fstack-protector-strong -I/usr/local/include -D_LARGEFILE_SOURCE -D_FILE_OFFSET_BITS=64 -D_FORTIFY_SOURCE=2'
optimize='-O2'
cppflags='-D_REENTRANT -D_GNU_SOURCE -fwrapv -fno-strict-aliasing -pipe -fstack-protector-strong -I/usr/local/include'
ccversion=''
gccversion='12.2.0'
gccosandvers=''
intsize=4
longsize=8
ptrsize=8
doublesize=8
byteorder=12345678
doublekind=3
d_longlong=define
longlongsize=8
d_longdbl=define
longdblsize=16
longdblkind=3
ivtype='long'
ivsize=8
nvtype='double'
nvsize=8
Off_t='off_t'
lseeksize=8
alignbytes=8
prototype=define
Linker and Libraries:
ld='cc'
ldflags =' -fstack-protector-strong -L/usr/local/lib'
libpth=/usr/local/lib /usr/lib/x86_64-linux-gnu /usr/lib /usr/lib64
libs=-lpthread -lnsl -ldl -lm -lcrypt -lutil -lc
perllibs=-lpthread -lnsl -ldl -lm -lcrypt -lutil -lc
libc=/lib/x86_64-linux-gnu/libc.so.6
so=so
useshrplib=false
libperl=libperl.a
gnulibc_version='2.36'
Dynamic Linking:
dlsrc=dl_dlopen.xs
dlext=so
d_dlsymun=undef
ccdlflags='-Wl,-E'
cccdlflags='-fPIC'
lddlflags='-shared -O2 -L/usr/local/lib -fstack-protector-strong'
Characteristics of this binary (from libperl):
Compile-time options:
HAS_TIMES
MULTIPLICITY
PERLIO_LAYERS
PERL_COPY_ON_WRITE
PERL_DONT_CREATE_GVSV
PERL_MALLOC_WRAP
PERL_OP_PARENT
PERL_PRESERVE_IVUV
USE_64_BIT_ALL
USE_64_BIT_INT
USE_ITHREADS
USE_LARGE_FILES
USE_LOCALE
USE_LOCALE_COLLATE
USE_LOCALE_CTYPE
USE_LOCALE_NUMERIC
USE_LOCALE_TIME
USE_PERLIO
USE_PERL_ATOF
USE_REENTRANT_API
USE_THREAD_SAFE_LOCALE
Built under linux
Compiled at Nov 30 2023 23:58:45
%ENV:
PERL="5.36.3"
PERL5LIB=""
PERL5OPT=""
PERL5_CPANPLUS_IS_RUNNING="94084"
PERL5_CPAN_IS_RUNNING="94084"
PERLBREW_HOME="/home/david/.perlbrew"
PERLBREW_MANPATH="/home/david/perl5/perlbrew/perls/perl-5.30.2/man"
PERLBREW_PATH="/home/david/perl5/perlbrew/bin:/home/david/perl5/perlbrew/perls/perl-5.30.2/bin"
PERLBREW_PERL="perl-5.30.2"
PERLBREW_ROOT="/home/david/perl5/perlbrew"
PERLBREW_SHELLRC_VERSION="0.98"
PERLBREW_VERSION="0.98"
PERLVER="5.36.3"
PERL_INLINE_DIRECTORY="/home/david/.Inline-5.36.3"
PERL_MM_USE_DEFAULT="1"
PERL_USE_UNSAFE_INC="0"
@INC:
/home/david/cpantesting/perl-5.36.3/lib/site_perl/5.36.3/x86_64-linux-thread-multi
/home/david/cpantesting/perl-5.36.3/lib/site_perl/5.36.3
/home/david/cpantesting/perl-5.36.3/lib/5.36.3/x86_64-linux-thread-multi
/home/david/cpantesting/perl-5.36.3/lib/5.36.3