Back
From: metabase:user:314402c4-2aae-11df-837a-5e0a49663a4f
Subject: PASS SmokeRunner-Multi-0.21 v5.25.1 GNU/Linux
Date: 2016-06-27T04:38:47Z
This distribution has been tested as part of the CPAN Testers
project, supporting the Perl programming language.  See
http://wiki.cpantesters.org/ for more information or email
questions to cpan-testers-discuss@perl.org
--
Dear Yanick Champoux,
This is a computer-generated report for SmokeRunner-Multi-0.21
on perl 5.25.1, created by CPAN-Reporter-1.2018.
Thank you for uploading your work to CPAN.  Congratulations!
All tests were successful.
Sections of this report:
    * Tester comments
    * Program output
    * Prerequisites
    * Environment and other context
------------------------------
TESTER COMMENTS
------------------------------
Additional comments from tester:
none provided
------------------------------
PROGRAM OUTPUT
------------------------------
Output from '/usr/bin/make test':
PERL_DL_NONLAZY=1 "/bbbike/perl-5.25.1t/bin/perl5.25.1" "-MExtUtils::Command::MM" "-MTest::Harness" "-e" "undef *Test::Harness::Switches; test_harness(0, 'blib/lib', 'blib/arch')" t/*.t t/Reporter/*.t t/Runner/*.t t/TestSet/*.t
t/00-compile.t ......... ok
# 
# Versions for all modules listed in MYMETA.json (including optional ones):
# 
# === Configure Requires ===
# 
#     Module              Want    Have
#     ------------------- ---- -------
#     ExtUtils::MakeMaker  any 7.10_01
# 
# === Build Requires ===
# 
#     Module              Want    Have
#     ------------------- ---- -------
#     ExtUtils::MakeMaker  any 7.10_01
# 
# === Test Requires ===
# 
#     Module              Want     Have
#     ------------------- ---- --------
#     ExtUtils::MakeMaker  any  7.10_01
#     File::Copy           any     2.31
#     File::Spec           any     3.63
#     IO::Handle           any     1.36
#     IPC::Open3           any     1.20
#     Test::More           any 1.302026
#     lib                  any     0.63
# 
# === Test Recommends ===
# 
#     Module         Want     Have
#     ---------- -------- --------
#     CPAN::Meta 2.120900 2.150005
# 
# === Runtime Requires ===
# 
#     Module                     Want     Have
#     -------------------------- ---- --------
#     Archive::Tar                any     2.08
#     Class::Accessor::Fast       any     0.34
#     Class::Factory::Util        any      1.7
#     Cwd                         any     3.63
#     DBD::SQLite                 any     1.50
#     DBI                         any    1.636
#     DateTime::Format::Strptime  any     1.68
#     Exporter                    any     5.72
#     File::Basename              any     2.85
#     File::Find::Rule            any     0.34
#     File::HomeDir               any     1.00
#     File::Path                  any  2.12_01
#     File::Spec                  any     3.63
#     File::Temp                  any   0.2304
#     File::Which                 any     1.21
#     File::chdir                 any   0.1010
#     IPC::Run3                   any    0.048
#     List::Util                  any  1.45_01
#     Moo                         any 2.001001
#     MooX::Singleton             any     1.20
#     Params::Validate            any     1.24
#     Scalar::Util                any  1.45_01
#     YAML::Syck                  any     1.29
#     base                        any     2.23
#     strict                      any     1.11
#     warnings                    any     1.36
# 
t/00-report-prereqs.t .. ok
t/Config.t ............. ok
t/DBI.t ................ ok
t/Multi.t .............. ok
t/pod-coverage.t ....... skipped: This test is only run for the module author
t/pod.t ................ skipped: This test is only run for the module author
t/Reporter.t ........... ok
t/Reporter/Screen.t .... ok
t/Reporter/Smolder.t ... ok
t/Runner.t ............. ok
t/Runner/Prove.t ....... ok
t/Runner/TAPArchive.t .. ok
t/smokerunner-multi.t .. skipped: These tests require Test::Command
t/TestSet.t ............ ok
t/TestSet/SVN.t ........ ok
All tests successful.
Files=16, Tests=73,  3 wallclock secs ( 0.03 usr  0.06 sys +  2.36 cusr  0.81 csys =  3.26 CPU)
Result: PASS
------------------------------
PREREQUISITES
------------------------------
Prerequisite modules loaded:
requires:
    Module                     Need     Have    
    -------------------------- -------- --------
    Archive::Tar               0        2.08    
    base                       0        2.23    
    Class::Accessor::Fast      0        0.34    
    Class::Factory::Util       0        1.7     
    Cwd                        0        3.63    
    DateTime::Format::Strptime 0        1.68    
    DBD::SQLite                0        1.50    
    DBI                        0        1.636   
    Exporter                   0        5.72    
    File::Basename             0        2.85    
    File::chdir                0        0.1010  
    File::Find::Rule           0        0.34    
    File::HomeDir              0        1.00    
    File::Path                 0        2.12_01 
    File::Spec                 0        3.63    
    File::Temp                 0        0.2304  
    File::Which                0        1.21    
    IPC::Run3                  0        0.048   
    List::Util                 0        1.45_01 
    Moo                        0        2.001001
    MooX::Singleton            0        1.20    
    Params::Validate           0        1.24    
    perl                       5.006    5.025001
    Scalar::Util               0        1.45_01 
    strict                     0        1.11    
    warnings                   0        1.36    
    YAML::Syck                 0        1.29    
build_requires:
    Module                     Need     Have    
    -------------------------- -------- --------
    ExtUtils::MakeMaker        0        7.10_01 
    File::Copy                 0        2.31    
    File::Spec                 0        3.63    
    IO::Handle                 0        1.36    
    IPC::Open3                 0        1.20    
    lib                        0        0.63    
    Test::More                 0        1.302026
configure_requires:
    Module                     Need     Have    
    -------------------------- -------- --------
    ExtUtils::MakeMaker        0        7.10_01 
opt_build_requires:
    Module                     Need     Have    
    -------------------------- -------- --------
    CPAN::Meta                 2.120900 2.150005
------------------------------
ENVIRONMENT AND OTHER CONTEXT
------------------------------
Environment variables:
    LANG = C
    PATH = /usr/local/bin:/usr/bin:/bin:/usr/local/sbin:/usr/sbin:/sbin:/home/cpansand/bin/linux-gnu:/home/cpansand/bin/sh:/home/cpansand/bin:/usr/games:/home/cpansand/devel:/home/eserte/src/srezic-misc/scripts
    PERL5LIB = /home/cpansand/.cpan/build/2016062703/MooX-Singleton-1.20-hFYVj8/blib/arch:/home/cpansand/.cpan/build/2016062703/MooX-Singleton-1.20-hFYVj8/blib/lib:/home/cpansand/.cpan/build/2016062703/DBD-SQLite-1.50-UR_zSB/blib/arch:/home/cpansand/.cpan/build/2016062703/DBD-SQLite-1.50-UR_zSB/blib/lib:/home/cpansand/.cpan/build/2016062703/File-chdir-0.1010-XiBW3S/blib/arch:/home/cpansand/.cpan/build/2016062703/File-chdir-0.1010-XiBW3S/blib/lib:/home/cpansand/.cpan/build/2016062703/Class-Factory-Util-1.7-UKo90W/blib/arch:/home/cpansand/.cpan/build/2016062703/Class-Factory-Util-1.7-UKo90W/blib/lib
    PERL5OPT = 
    PERL5_CPANPLUS_IS_RUNNING = 17552
    PERL5_CPAN_IS_RUNNING = 17552
    PERL5_CPAN_IS_RUNNING_IN_RECURSION = 16502,17552
    PERLDOC = -MPod::Perldoc::ToTextOverstrike
    PERL_BATCH = yes
    PERL_CANARY_STABILITY_NOPROMPT = 1
    PERL_CPAN_REPORTER_CONFIG = /run/user/1023/cpansmoker/2016062703/cpanreporter_000_config.ini
    PERL_EXTUTILS_AUTOINSTALL = --defaultdeps
    SHELL = /bin/zsh
    TERM = screen
    TMPDIR = /run/user/1023/cpansmoker/2016062703
Perl special variables (and OS-specific diagnostics, for MSWin32):
    $^X = /bbbike/perl-5.25.1t/bin/perl5.25.1
    $UID/$EUID = 1023 / 1023
    $GID = 1023 1023
    $EGID = 1023 1023
Perl module toolchain versions installed:
    Module              Have    
    ------------------- --------
    CPAN                2.11    
    CPAN::Meta          2.150005
    Cwd                 3.63    
    ExtUtils::CBuilder  0.280225
    ExtUtils::Command   7.10    
    ExtUtils::Install   2.04    
    ExtUtils::MakeMaker 7.10_01 
    ExtUtils::Manifest  1.70    
    ExtUtils::ParseXS   3.31    
    File::Spec          3.63    
    JSON                2.90    
    JSON::PP            2.27300 
    Module::Build       0.4218  
    Module::Signature   0.80    
    Parse::CPAN::Meta   1.4417  
    Test::Harness       3.36    
    Test::More          1.302026
    YAML                1.15    
    YAML::Syck          1.29    
    version             0.9916  
--
Summary of my perl5 (revision 5 version 25 subversion 1) configuration:
   
  Platform:
    osname=linux, osvers=3.16.0-4-amd64, archname=x86_64-linux-thread-multi
    uname='linux eserte 3.16.0-4-amd64 #1 smp debian 3.16.7-ckt25-2 (2016-04-08) x86_64 gnulinux '
    config_args='-ds -e -Dprefix=/opt/perl-5.25.1t -Dusedevel -Dusemallocwrap=no -Dusethreads -Dcf_email=srezic@cpan.org'
    hint=recommended, useposix=true, d_sigaction=define
    useithreads=define, usemultiplicity=define
    use64bitint=define, use64bitall=define, uselongdouble=undef
    usemymalloc=n, bincompat5005=undef
  Compiler:
    cc='cc', ccflags ='-D_REENTRANT -D_GNU_SOURCE -fwrapv -fno-strict-aliasing -pipe -fstack-protector-strong -I/usr/local/include -D_LARGEFILE_SOURCE -D_FILE_OFFSET_BITS=64 -D_FORTIFY_SOURCE=2',
    optimize='-O2',
    cppflags='-D_REENTRANT -D_GNU_SOURCE -fwrapv -fno-strict-aliasing -pipe -fstack-protector-strong -I/usr/local/include'
    ccversion='', gccversion='4.9.2', gccosandvers=''
    intsize=4, longsize=8, ptrsize=8, doublesize=8, byteorder=12345678, doublekind=3
    d_longlong=define, longlongsize=8, d_longdbl=define, longdblsize=16, longdblkind=3
    ivtype='long', ivsize=8, nvtype='double', nvsize=8, Off_t='off_t', lseeksize=8
    alignbytes=8, prototype=define
  Linker and Libraries:
    ld='cc', ldflags =' -fstack-protector-strong -L/usr/local/lib'
    libpth=/usr/local/lib /usr/lib/gcc/x86_64-linux-gnu/4.9/include-fixed /usr/include/x86_64-linux-gnu /usr/lib /lib/x86_64-linux-gnu /lib/../lib /usr/lib/x86_64-linux-gnu /usr/lib/../lib /lib
    libs=-lpthread -lnsl -lgdbm -ldb -ldl -lm -lcrypt -lutil -lc -lgdbm_compat
    perllibs=-lpthread -lnsl -ldl -lm -lcrypt -lutil -lc
    libc=libc-2.19.so, so=so, useshrplib=false, libperl=libperl.a
    gnulibc_version='2.19'
  Dynamic Linking:
    dlsrc=dl_dlopen.xs, dlext=so, d_dlsymun=undef, ccdlflags='-Wl,-E'
    cccdlflags='-fPIC', lddlflags='-shared -O2 -L/usr/local/lib -fstack-protector-strong'
Characteristics of this binary (from libperl): 
  Compile-time options: HAS_TIMES MULTIPLICITY PERLIO_LAYERS
                        PERL_COPY_ON_WRITE PERL_DONT_CREATE_GVSV
                        PERL_HASH_FUNC_ONE_AT_A_TIME_HARD
                        PERL_IMPLICIT_CONTEXT PERL_OP_PARENT
                        PERL_PRESERVE_IVUV PERL_USE_DEVEL USE_64_BIT_ALL
                        USE_64_BIT_INT USE_ITHREADS USE_LARGE_FILES
                        USE_LOCALE USE_LOCALE_COLLATE USE_LOCALE_CTYPE
                        USE_LOCALE_NUMERIC USE_LOCALE_TIME USE_PERLIO
                        USE_PERL_ATOF USE_REENTRANT_API
  Built under linux
  Compiled at Jun 10 2016 07:14:53
  %ENV:
    PERL5LIB="/home/cpansand/.cpan/build/2016062703/MooX-Singleton-1.20-hFYVj8/blib/arch:/home/cpansand/.cpan/build/2016062703/MooX-Singleton-1.20-hFYVj8/blib/lib:/home/cpansand/.cpan/build/2016062703/DBD-SQLite-1.50-UR_zSB/blib/arch:/home/cpansand/.cpan/build/2016062703/DBD-SQLite-1.50-UR_zSB/blib/lib:/home/cpansand/.cpan/build/2016062703/File-chdir-0.1010-XiBW3S/blib/arch:/home/cpansand/.cpan/build/2016062703/File-chdir-0.1010-XiBW3S/blib/lib:/home/cpansand/.cpan/build/2016062703/Class-Factory-Util-1.7-UKo90W/blib/arch:/home/cpansand/.cpan/build/2016062703/Class-Factory-Util-1.7-UKo90W/blib/lib"
    PERL5OPT=""
    PERL5_CPANPLUS_IS_RUNNING="17552"
    PERL5_CPAN_IS_RUNNING="17552"
    PERL5_CPAN_IS_RUNNING_IN_RECURSION="16502,17552"
    PERLDOC="-MPod::Perldoc::ToTextOverstrike"
    PERL_BATCH="yes"
    PERL_CANARY_STABILITY_NOPROMPT="1"
    PERL_CPAN_REPORTER_CONFIG="/run/user/1023/cpansmoker/2016062703/cpanreporter_000_config.ini"
    PERL_EXTUTILS_AUTOINSTALL="--defaultdeps"
  @INC:
    /home/cpansand/.cpan/build/2016062703/MooX-Singleton-1.20-hFYVj8/blib/arch
    /home/cpansand/.cpan/build/2016062703/MooX-Singleton-1.20-hFYVj8/blib/lib
    /home/cpansand/.cpan/build/2016062703/DBD-SQLite-1.50-UR_zSB/blib/arch
    /home/cpansand/.cpan/build/2016062703/DBD-SQLite-1.50-UR_zSB/blib/lib
    /home/cpansand/.cpan/build/2016062703/File-chdir-0.1010-XiBW3S/blib/arch
    /home/cpansand/.cpan/build/2016062703/File-chdir-0.1010-XiBW3S/blib/lib
    /home/cpansand/.cpan/build/2016062703/Class-Factory-Util-1.7-UKo90W/blib/arch
    /home/cpansand/.cpan/build/2016062703/Class-Factory-Util-1.7-UKo90W/blib/lib
    /opt/perl-5.25.1t/lib/site_perl/5.25.1/x86_64-linux-thread-multi
    /opt/perl-5.25.1t/lib/site_perl/5.25.1
    /opt/perl-5.25.1t/lib/5.25.1/x86_64-linux-thread-multi
    /opt/perl-5.25.1t/lib/5.25.1
    .