XML-LibXML v2.0202 Perl 5 v5.30.0 x86_64-linux-multi
- Status
- Pass
- From
- Nigel Horne
- Dist
-
XML-LibXML v2.0202
- Platform
- Perl 5 v5.30.0 x86_64-linux-multi
- Date
- 2020-01-24 05:47:42
- ID
- 099ced0c-3e6d-11ea-81bc-fd49b518dca7
This distribution has been tested as part of the CPAN Testers
project, supporting the Perl programming language. See
http://wiki.cpantesters.org/ for more information or email
questions to cpan-testers-discuss@perl.org
--
Dear Shlomi Fish,
This is a computer-generated report for XML-LibXML-2.0202
on perl 5.30.0, created by CPAN-Reporter-1.2018.
Thank you for uploading your work to CPAN. Congratulations!
All tests were successful.
Sections of this report:
* Tester comments
* Program output
* Prerequisites
* Environment and other context
------------------------------
TESTER COMMENTS
------------------------------
Additional comments from tester:
none provided
------------------------------
PROGRAM OUTPUT
------------------------------
Output from '/usr/bin/make test':
"/home/njh/perl5/perlbrew/perls/perl-5.30.0-multi/bin/perl5.30.0" -MExtUtils::Command::MM -e 'cp_nonempty' -- LibXML.bs blib/arch/auto/XML/LibXML/LibXML.bs 644
PERL_DL_NONLAZY=1 "/home/njh/perl5/perlbrew/perls/perl-5.30.0-multi/bin/perl5.30.0" "-MExtUtils::Command::MM" "-MTest::Harness" "-e" "undef *Test::Harness::Switches; test_harness(0, 'blib/lib', 'blib/arch')" t/*.t
#
#
# Compiled against libxml2 version: 20904
# Running libxml2 version: 20904
#
t/01basic.t ........................................ ok
t/07dtd.t .......................................... ok
t/11memory.t ....................................... skipped: These tests are for authors only!
t/05text.t ......................................... ok
t/18docfree.t ...................................... ok
t/16docnodes.t ..................................... ok
t/08findnodes.t .................................... ok
t/15nodelist.t ..................................... ok
t/09xpath.t ........................................ ok
t/19die_on_invalid_utf8_rt_58848.t ................. ok
#
# Versions for all modules listed in MYMETA.json (including optional ones):
#
# === Configure Requires ===
#
# Module Want Have
# ------------------- ---- --------
# Alien::Libxml2 any 0.12
# Config any 5.030000
# ExtUtils::MakeMaker any 7.44
#
# === Build Requires ===
#
# Module Want Have
# ------------------- ---- ----
# ExtUtils::MakeMaker any 7.44
#
# === Test Requires ===
#
# Module Want Have
# ------------ ---- --------
# Config any 5.030000
# Errno any 1.30
# IO::File any 1.41
# IO::Handle any 1.42
# POSIX any 1.88
# Scalar::Util any 1.53
# Test::More any 1.302171
# locale any 1.09
# utf8 any 1.22
#
# === Runtime Requires ===
#
# Module Want Have
# ------------------------- ---- -----
# Carp any 1.50
# DynaLoader any 1.45
# Encode any 3.02
# Exporter 5.57 5.74
# IO::Handle any 1.42
# Scalar::Util any 1.53
# Tie::Hash any 1.05
# XML::NamespaceSupport 1.07 1.12
# XML::SAX 0.11 1.02
# XML::SAX::Base any 1.09
# XML::SAX::DocumentLocator any undef
# XML::SAX::Exception any 1.09
# base any 2.27
# constant any 1.33
# overload any 1.30
# parent any 0.237
# strict any 1.11
# vars any 1.05
# warnings any 1.44
#
t/00-report-prereqs.t .............................. ok
t/12html.t ......................................... ok
t/17callbacks.t .................................... ok
t/13dtd.t .......................................... ok
t/10ns.t ........................................... ok
t/06elements.t ..................................... ok
t/04node.t ......................................... ok
t/03doc.t .......................................... ok
t/19encoding.t ..................................... ok
t/26schema.t ....................................... ok
t/21catalog.t ...................................... ok
t/20extras.t ....................................... ok
t/23rawfunctions.t ................................. ok
t/27new_callbacks_simple.t ......................... ok
t/30keep_blanks.t .................................. ok
t/24c14n.t ......................................... ok
t/25relaxng.t ...................................... ok
t/29id.t ........................................... ok
t/28new_callbacks_multiple.t ....................... ok
t/30xpathcontext.t ................................. ok
t/32xpc_variables.t ................................ ok
t/35huge_mode.t .................................... ok
t/40reader_mem_error.t ............................. ok
t/41xinclude.t ..................................... ok
t/14sax.t .......................................... ok
t/40reader.t ....................................... ok
t/44extent.t ....................................... ok
t/46err_column.t ................................... ok
t/31xpc_functions.t ................................ ok
t/42common.t ....................................... ok
t/45regex.t ........................................ ok
t/02parse.t ........................................ ok
t/48_memleak_rt_83744.t ............................ ok
t/47load_xml_callbacks.t ........................... ok
t/48_removeChild_crashes_rt_80395.t ................ ok
t/48_reader_undef_warning_on_empty_str_rt106830.t .. ok
t/48_replaceNode_DTD_nodes_rT_80521.t .............. ok
t/48_RH5_double_free_rt83779.t ..................... ok
t/48_rt123379_setNamespace.t ....................... ok
t/48_rt93429_recover_2_in_html_parsing.t ........... ok
t/48importing_nodes_IDs_rt_69520.t ................. ok
t/48_rt55000.t ..................................... ok
t/50devel.t ........................................ ok
t/49global_extent.t ................................ ok
t/48_SAX_Builder_rt_91433.t ........................ ok
t/49callbacks_returning_undef.t .................... ok
t/49_load_html.t ................................... ok
t/51_parse_html_string_rt87089.t ................... ok
t/90shared_clone_failed_rt_91800.t ................. skipped: no ithreads in this Perl
t/61error.t ........................................ ok
t/62overload.t ..................................... ok
t/43options.t ...................................... ok
t/60struct_error.t ................................. ok
t/90threads.t ...................................... skipped: no ithreads in this Perl
t/72destruction.t .................................. ok
t/60error_prev_chain.t ............................. ok
t/cpan-changes.t ................................... skipped: These tests are for authors only!
t/71overloads.t .................................... ok
t/80registryleak.t ................................. ok
t/pod.t ............................................ skipped: These tests are for authors only!
t/release-kwalitee.t ............................... skipped: These tests are for authors only!
t/90stack.t ........................................ ok
t/91unique_key.t ................................... ok
t/pod-files-presence.t ............................. ok
t/style-trailing-space.t ........................... skipped: These tests are for authors only!
All tests successful.
Files=75, Tests=2546, 1 wallclock secs ( 0.27 usr 0.07 sys + 7.57 cusr 0.96 csys = 8.87 CPU)
Result: PASS
------------------------------
PREREQUISITES
------------------------------
Prerequisite modules loaded:
requires:
Module Need Have
------------------------- -------- --------
base 0 2.27
Carp 0 1.50
constant 0 1.33
DynaLoader 0 1.45
Encode 0 3.02
Exporter 5.57 5.74
IO::Handle 0 1.42
overload 0 1.30
parent 0 0.237
perl 5.008001 5.030000
Scalar::Util 0 1.53
strict 0 1.11
Tie::Hash 0 1.05
vars 0 1.05
warnings 0 1.44
XML::NamespaceSupport 1.07 1.12
XML::SAX 0.11 1.02
XML::SAX::Base 0 1.09
XML::SAX::DocumentLocator 0 0
XML::SAX::Exception 0 1.09
build_requires:
Module Need Have
------------------------- -------- --------
Config 0 5.030000
Errno 0 1.30
ExtUtils::MakeMaker 0 7.44
IO::File 0 1.41
IO::Handle 0 1.42
locale 0 1.09
POSIX 0 1.88
Scalar::Util 0 1.53
Test::More 0 1.302171
utf8 0 1.22
configure_requires:
Module Need Have
------------------------- -------- --------
Alien::Libxml2 0 0.12
Config 0 5.030000
ExtUtils::MakeMaker 0 7.44
------------------------------
ENVIRONMENT AND OTHER CONTEXT
------------------------------
Environment variables:
HARNESS_OPTIONS = c:j20
LANG = en_GB.UTF-8
NONINTERACTIVE_TESTING = 1
PATH = /home/njh/perl5/perlbrew/bin:/home/njh/perl5/perlbrew/perls/perl-5.30.0-multi/bin:/home/njh/perl5/perlbrew/bin:/usr/bin:/bin
PERL5LIB =
PERL5OPT =
PERL5_CPANPLUS_IS_RUNNING = 359296
PERL5_CPAN_IS_RUNNING = 359296
PERLBREW_HOME = /home/njh/.perlbrew
PERLBREW_LIB =
PERLBREW_MANPATH = /home/njh/perl5/perlbrew/perls/perl-5.30.0-multi/man
PERLBREW_PATH = /home/njh/perl5/perlbrew/bin:/home/njh/perl5/perlbrew/perls/perl-5.30.0-multi/bin
PERLBREW_PERL = perl-5.30.0-multi
PERLBREW_ROOT = /home/njh/perl5/perlbrew
PERLBREW_SHELLRC_VERSION = 0.87
PERLBREW_VERSION = 0.87
PERL_LOCAL_LIB_ROOT =
PERL_MM_USE_DEFAULT = 1
PERL_USE_UNSAFE_INC = 1
SHELL = /bin/sh
TEMP = /tmp/user/1000
TMPDIR = /tmp/user/1000
Perl special variables (and OS-specific diagnostics, for MSWin32):
$^X = /home/njh/perl5/perlbrew/perls/perl-5.30.0-multi/bin/perl5.30.0
$UID/$EUID = 1000 / 1000
$GID = 1000 4 24 25 29 30 44 46 107 112 118 996 1000
$EGID = 1000 4 24 25 29 30 44 46 107 112 118 996 1000
Perl module toolchain versions installed:
Module Have
------------------- --------
CPAN 2.27
CPAN::Meta 2.150010
Cwd 3.78
ExtUtils::CBuilder 0.280234
ExtUtils::Command 7.44
ExtUtils::Install 2.14
ExtUtils::MakeMaker 7.44
ExtUtils::Manifest 1.72
ExtUtils::ParseXS 3.40
File::Spec 3.78
JSON 4.02
JSON::PP 4.04
Module::Build 0.4229
Module::Signature n/a
Parse::CPAN::Meta 2.150010
Test::Harness 3.42
Test::More 1.302171
YAML 1.29
YAML::Syck 1.31
version 0.9924
--
Summary of my perl5 (revision 5 version 30 subversion 0) configuration:
Platform:
osname=linux
osvers=4.19.0-5-amd64
archname=x86_64-linux-multi
uname='linux microcenter 4.19.0-5-amd64 #1 smp debian 4.19.37-3 (2019-05-15) x86_64 gnulinux '
config_args='-de -Dprefix=/home/njh/perl5/perlbrew/perls/perl-5.30.0-multi -Dusedevel -Dusemultiplicity -Accflags=-O2 -W -Wformat=2 -Wswitch -Wshadow -Wwrite-strings -Wuninitialized -Wall -pipe -fomit-frame-pointer -pedantic -D_FORTIFY_SOURCE=2 -Wpointer-arith -Wstrict-prototypes -fstack-protector -Wstack-protector -Wextra -Wbad-function-cast -Wcast-align -Wcast-qual -Wdisabled-optimization -Wendif-labels -Wfloat-equal -Wformat-nonliteral -Winline -Wmissing-declarations -Wmissing-prototypes -Wnested-externs -Wpointer-arith -Wundef -Wformat-security -ftree-vectorize -msse -mfpmath=sse -msse2 -mssse3 -msse4.1 -msse4.2 -maes -fdiagnostics-color=auto -mtune=native -march=native -Aeval:scriptdir=/home/njh/perl5/perlbrew/perls/perl-5.30.0-multi/bin'
hint=recommended
useposix=true
d_sigaction=define
useithreads=undef
usemultiplicity=define
use64bitint=define
use64bitall=define
uselongdouble=undef
usemymalloc=n
default_inc_excludes_dot=define
bincompat5005=undef
Compiler:
cc='cc'
ccflags ='-O2 -W -Wformat=2 -Wswitch -Wshadow -Wwrite-strings -Wuninitialized -Wall -pipe -fomit-frame-pointer -pedantic -D_FORTIFY_SOURCE=2 -Wpointer-arith -Wstrict-prototypes -fstack-protector -Wstack-protector -Wextra -Wbad-function-cast -Wcast-align -Wcast-qual -Wdisabled-optimization -Wendif-labels -Wfloat-equal -Wformat-nonliteral -Winline -Wmissing-declarations -Wmissing-prototypes -Wnested-externs -Wpointer-arith -Wundef -Wformat-security -ftree-vectorize -msse -mfpmath=sse -msse2 -mssse3 -msse4.1 -msse4.2 -maes -fdiagnostics-color=auto -mtune=native -march=native -fwrapv -fno-strict-aliasing -fstack-protector-strong -I/usr/local/include -D_LARGEFILE_SOURCE -D_FILE_OFFSET_BITS=64'
optimize='-O2'
cppflags='-O2 -W -Wformat=2 -Wswitch -Wshadow -Wwrite-strings -Wuninitialized -Wall -pipe -fomit-frame-pointer -pedantic -D_FORTIFY_SOURCE=2 -Wpointer-arith -Wstrict-prototypes -fstack-protector -Wstack-protector -Wextra -Wbad-function-cast -Wcast-align -Wcast-qual -Wdisabled-optimization -Wendif-labels -Wfloat-equal -Wformat-nonliteral -Winline -Wmissing-declarations -Wmissing-prototypes -Wnested-externs -Wpointer-arith -Wundef -Wformat-security -ftree-vectorize -msse -mfpmath=sse -msse2 -mssse3 -msse4.1 -msse4.2 -maes -fdiagnostics-color=auto -mtune=native -march=native -fwrapv -fno-strict-aliasing -fstack-protector-strong -I/usr/local/include'
ccversion=''
gccversion='8.3.0'
gccosandvers=''
intsize=4
longsize=8
ptrsize=8
doublesize=8
byteorder=12345678
doublekind=3
d_longlong=define
longlongsize=8
d_longdbl=define
longdblsize=16
longdblkind=3
ivtype='long'
ivsize=8
nvtype='double'
nvsize=8
Off_t='off_t'
lseeksize=8
alignbytes=8
prototype=define
Linker and Libraries:
ld='cc'
ldflags =' -fstack-protector-strong -L/usr/local/lib'
libpth=/usr/local/lib /usr/lib/gcc/x86_64-linux-gnu/8/include-fixed /usr/include/x86_64-linux-gnu /usr/lib /lib/x86_64-linux-gnu /lib/../lib /usr/lib/x86_64-linux-gnu /usr/lib/../lib /lib
libs=-lpthread -lnsl -lgdbm -ldb -ldl -lm -lcrypt -lutil -lc
perllibs=-lpthread -lnsl -ldl -lm -lcrypt -lutil -lc
libc=libc-2.28.so
so=so
useshrplib=false
libperl=libperl.a
gnulibc_version='2.28'
Dynamic Linking:
dlsrc=dl_dlopen.xs
dlext=so
d_dlsymun=undef
ccdlflags='-Wl,-E'
cccdlflags='-fPIC'
lddlflags='-shared -O2 -L/usr/local/lib -fstack-protector-strong'
Characteristics of this binary (from libperl):
Compile-time options:
HAS_TIMES
MULTIPLICITY
PERLIO_LAYERS
PERL_COPY_ON_WRITE
PERL_DONT_CREATE_GVSV
PERL_IMPLICIT_CONTEXT
PERL_MALLOC_WRAP
PERL_OP_PARENT
PERL_PRESERVE_IVUV
PERL_USE_DEVEL
USE_64_BIT_ALL
USE_64_BIT_INT
USE_LARGE_FILES
USE_LOCALE
USE_LOCALE_COLLATE
USE_LOCALE_CTYPE
USE_LOCALE_NUMERIC
USE_LOCALE_TIME
USE_PERLIO
USE_PERL_ATOF
Built under linux
Compiled at May 23 2019 13:14:35
%ENV:
PERL5LIB=""
PERL5OPT=""
PERL5_CPANPLUS_IS_RUNNING="359296"
PERL5_CPAN_IS_RUNNING="359296"
PERLBREW_HOME="/home/njh/.perlbrew"
PERLBREW_LIB=""
PERLBREW_MANPATH="/home/njh/perl5/perlbrew/perls/perl-5.30.0-multi/man"
PERLBREW_PATH="/home/njh/perl5/perlbrew/bin:/home/njh/perl5/perlbrew/perls/perl-5.30.0-multi/bin"
PERLBREW_PERL="perl-5.30.0-multi"
PERLBREW_ROOT="/home/njh/perl5/perlbrew"
PERLBREW_SHELLRC_VERSION="0.87"
PERLBREW_VERSION="0.87"
PERL_LOCAL_LIB_ROOT=""
PERL_MM_USE_DEFAULT="1"
PERL_USE_UNSAFE_INC="1"
@INC:
/home/njh/perl5/perlbrew/perls/perl-5.30.0-multi/lib/site_perl/5.30.0/x86_64-linux-multi
/home/njh/perl5/perlbrew/perls/perl-5.30.0-multi/lib/site_perl/5.30.0
/home/njh/perl5/perlbrew/perls/perl-5.30.0-multi/lib/5.30.0/x86_64-linux-multi
/home/njh/perl5/perlbrew/perls/perl-5.30.0-multi/lib/5.30.0
.