Back
From: metabase:user:314402c4-2aae-11df-837a-5e0a49663a4f
Subject: PASS Catalyst-Model-CacheFunky-Loader-0.06 v5.24.1 RC5 GNU/Linux
Date: 2017-01-11T07:24:49Z
This distribution has been tested as part of the CPAN Testers
project, supporting the Perl programming language. See
http://wiki.cpantesters.org/ for more information or email
questions to cpan-testers-discuss@perl.org
--
Dear Tomohiro Teranishi,
This is a computer-generated report for Catalyst-Model-CacheFunky-Loader-0.06
on perl 5.24.1, created by CPAN-Reporter-1.2018.
Thank you for uploading your work to CPAN. Congratulations!
All tests were successful.
Sections of this report:
* Tester comments
* Program output
* Prerequisites
* Environment and other context
------------------------------
TESTER COMMENTS
------------------------------
Additional comments from tester:
none provided
------------------------------
PROGRAM OUTPUT
------------------------------
Output from '/usr/bin/make test':
PERL_DL_NONLAZY=1 "/bbbike/perl-5.24.1-RC5/bin/perl" "-MExtUtils::Command::MM" "-MTest::Harness" "-e" "undef *Test::Harness::Switches; test_harness(0, 'inc', 'blib/lib', 'blib/arch')" t/00-load.t t/01_app.t t/boilerplate.t t/pod-coverage.t t/pod.t t/spelling.t
# Testing Catalyst::Model::CacheFunky::Loader 0.06, Perl 5.024001, /bbbike/perl-5.24.1-RC5/bin/perl
t/00-load.t ....... ok
[debug] Debug messages enabled
[debug] Statistics enabled
Catalyst::Model::CacheFunky::Loader uses NEXT, which is deprecated. Please see the Class::C3::Adopt::NEXT documentation for details. NEXT used at /tmpfs/.cpan-build-cpansand/2017011103/Catalyst-Model-CacheFunky-Loader-0.06-0/blib/lib/Catalyst/Model/CacheFunky/Loader.pm line 13.
[debug] Loaded plugins:
.----------------------------------------------------------------------------------------------------------------------------------------------------------------------------------------------------------------------------------------------------------------------.
| Catalyst::Plugin::ConfigLoader 0.34 |
'----------------------------------------------------------------------------------------------------------------------------------------------------------------------------------------------------------------------------------------------------------------------'
[debug] Loaded PSGI Middleware:
.----------------------------------------------------------------------------------------------------------------------------------------------------------------------------------------------------------------------------------------------------------------------.
| Catalyst::Middleware::Stash |
| Plack::Middleware::HTTPExceptions |
| Plack::Middleware::RemoveRedundantBody 0.04 |
| Plack::Middleware::FixMissingBodyInRedirect 0.12 |
| Plack::Middleware::ContentLength |
| Plack::Middleware::MethodOverride 0.15 |
| Plack::Middleware::Head |
'----------------------------------------------------------------------------------------------------------------------------------------------------------------------------------------------------------------------------------------------------------------------'
[debug] Loaded Request Data Handlers:
.----------------------------------------------------------------------------------------------------------------------------------------------------------------------------------------------------------------------------------------------------------------------.
| application/json |
| application/x-www-form-urlencoded |
'----------------------------------------------------------------------------------------------------------------------------------------------------------------------------------------------------------------------------------------------------------------------'
[debug] Loaded dispatcher "Catalyst::Dispatcher"
[debug] Loaded engine "Catalyst::Engine"
[debug] Found home "/tmpfs/.cpan-build-cpansand/2017011103/Catalyst-Model-CacheFunky-Loader-0.06-0/t/lib/TestApp"
[debug] Loaded components:
.-----------------------------------------------------------------------------------------------------------------------------------------------------------------------------------------------------------------------------------------------------------+----------.
| Class | Type |
+-----------------------------------------------------------------------------------------------------------------------------------------------------------------------------------------------------------------------------------------------------------+----------+
| TestApp::Controller::Root | instance |
| TestApp::Model::Funky | instance |
| TestApp::Model::Funky::Context | class |
| TestApp::Model::Funky::Date | class |
'-----------------------------------------------------------------------------------------------------------------------------------------------------------------------------------------------------------------------------------------------------------+----------'
[debug] Loaded Private actions:
.-----------------------------------------------------------------+---------------------------------------------------------------------------------------------------------------------------------+------------------------------------------------------------------.
| Private | Class | Method |
+-----------------------------------------------------------------+---------------------------------------------------------------------------------------------------------------------------------+------------------------------------------------------------------+
| /context | TestApp::Controller::Root | context |
| /default | TestApp::Controller::Root | default |
| /date | TestApp::Controller::Root | date |
'-----------------------------------------------------------------+---------------------------------------------------------------------------------------------------------------------------------+------------------------------------------------------------------'
[debug] Loaded Path actions:
.----------------------------------------------------------------------------------------------------------------------------------+-----------------------------------------------------------------------------------------------------------------------------------.
| Path | Private |
+----------------------------------------------------------------------------------------------------------------------------------+-----------------------------------------------------------------------------------------------------------------------------------+
| /context/... | /context |
| /date/... | /date |
'----------------------------------------------------------------------------------------------------------------------------------+-----------------------------------------------------------------------------------------------------------------------------------'
[info] TestApp powered by Catalyst 5.90114
[info] *** Request 1 (1.000/s) [955] [Wed Jan 11 04:31:06 2017] ***
[debug] Path is "date"
[debug] "GET" request for "date" from "127.0.0.1"
[debug] Response Code: 200; Content-Type: unknown; Content-Length: unknown
[info] Request took 1.009743s (0.990/s)
.------------------------------------------------------------------------------------------------------------------------------------------------------------------------------------------------------------------------------------------------------+-----------.
| Action | Time |
+------------------------------------------------------------------------------------------------------------------------------------------------------------------------------------------------------------------------------------------------------+-----------+
| /date | 1.003024s |
'------------------------------------------------------------------------------------------------------------------------------------------------------------------------------------------------------------------------------------------------------+-----------'
[info] *** Request 2 (2.000/s) [955] [Wed Jan 11 04:31:07 2017] ***
[debug] Path is "context"
[debug] "GET" request for "context" from "127.0.0.1"
[debug] Response Code: 200; Content-Type: unknown; Content-Length: unknown
[info] Request took 0.001794s (557.414/s)
.------------------------------------------------------------------------------------------------------------------------------------------------------------------------------------------------------------------------------------------------------+-----------.
| Action | Time |
+------------------------------------------------------------------------------------------------------------------------------------------------------------------------------------------------------------------------------------------------------+-----------+
| /context | 0.000132s |
'------------------------------------------------------------------------------------------------------------------------------------------------------------------------------------------------------------------------------------------------------+-----------'
t/01_app.t ........ ok
t/boilerplate.t ... ok
t/pod-coverage.t .. ok
t/pod.t ........... ok
t/spelling.t ...... ok
All tests successful.
Files=6, Tests=9, 3 wallclock secs ( 0.02 usr 0.02 sys + 1.10 cusr 0.17 csys = 1.31 CPU)
Result: PASS
------------------------------
PREREQUISITES
------------------------------
Prerequisite modules loaded:
requires:
Module Need Have
------------------------------ ---- --------
Cache::Funky 0 0.06
Catalyst 0 5.90114
Catalyst::Plugin::ConfigLoader 0 0.34
Module::Recursive::Require 0.04 0.04
Test::More 0 1.302073
Test::Spelling 0 0.20
build_requires:
Module Need Have
------------------------------ ---- --------
ExtUtils::MakeMaker 0 7.24
------------------------------
ENVIRONMENT AND OTHER CONTEXT
------------------------------
Environment variables:
LANG = C
LC_ALL = de_DE.UTF-8
PATH = /usr/local/bin:/usr/bin:/bin:/usr/local/sbin:/usr/sbin:/sbin:/home/cpansand/bin/linux-gnu:/home/cpansand/bin/sh:/home/cpansand/bin:/usr/games:/home/cpansand/devel:/home/eserte/src/srezic-misc/scripts
PERL5LIB =
PERL5OPT =
PERL5_CPANPLUS_IS_RUNNING = 32607
PERL5_CPAN_IS_RUNNING = 32607
PERL5_CPAN_IS_RUNNING_IN_RECURSION = 4576,32607
PERLDOC = -MPod::Perldoc::ToTextOverstrike
PERL_BATCH = yes
PERL_CANARY_STABILITY_NOPROMPT = 1
PERL_CPAN_REPORTER_CONFIG = /var/tmp/cpansmoker-1023/2017011018/cpanreporter_000_config.ini
PERL_EXTUTILS_AUTOINSTALL = --defaultdeps
PERL_PARALLEL_SMOKER = yes
PERL_USE_UNSAFE_INC = 1
SHELL = /bin/zsh
TERM = screen
TMPDIR = /var/tmp/cpansmoker-1023/2017011018
Perl special variables (and OS-specific diagnostics, for MSWin32):
$^X = /bbbike/perl-5.24.1-RC5/bin/perl
$UID/$EUID = 1023 / 1023
$GID = 1023 1023
$EGID = 1023 1023
Perl module toolchain versions installed:
Module Have
------------------- --------
CPAN 2.14
CPAN::Meta 2.150010
Cwd 3.62
ExtUtils::CBuilder 0.280224
ExtUtils::Command 7.24
ExtUtils::Install 2.04
ExtUtils::MakeMaker 7.24
ExtUtils::Manifest 1.70
ExtUtils::ParseXS 3.30
File::Spec 3.62
JSON 2.90
JSON::PP 2.27400
Module::Build 0.4220
Module::Signature 0.81
Parse::CPAN::Meta 2.150010
Test::Harness 3.36
Test::More 1.302073
YAML 1.21
YAML::Syck 1.29
version 0.9917
--
Summary of my perl5 (revision 5 version 24 subversion 1) configuration:
Platform:
osname=linux, osvers=3.16.0-4-amd64, archname=x86_64-linux
uname='linux eserte 3.16.0-4-amd64 #1 smp debian 3.16.36-1+deb8u2 (2016-10-19) x86_64 gnulinux '
config_args='-ds -e -Dprefix=/opt/perl-5.24.1-RC5 -Dcf_email=srezic@cpan.org'
hint=recommended, useposix=true, d_sigaction=define
useithreads=undef, usemultiplicity=undef
use64bitint=define, use64bitall=define, uselongdouble=undef
usemymalloc=n, bincompat5005=undef
Compiler:
cc='cc', ccflags ='-fwrapv -fno-strict-aliasing -pipe -fstack-protector-strong -I/usr/local/include -D_LARGEFILE_SOURCE -D_FILE_OFFSET_BITS=64 -D_FORTIFY_SOURCE=2',
optimize='-O2',
cppflags='-fwrapv -fno-strict-aliasing -pipe -fstack-protector-strong -I/usr/local/include'
ccversion='', gccversion='4.9.2', gccosandvers=''
intsize=4, longsize=8, ptrsize=8, doublesize=8, byteorder=12345678, doublekind=3
d_longlong=define, longlongsize=8, d_longdbl=define, longdblsize=16, longdblkind=3
ivtype='long', ivsize=8, nvtype='double', nvsize=8, Off_t='off_t', lseeksize=8
alignbytes=8, prototype=define
Linker and Libraries:
ld='cc', ldflags =' -fstack-protector-strong -L/usr/local/lib'
libpth=/usr/local/lib /usr/lib/gcc/x86_64-linux-gnu/4.9/include-fixed /usr/include/x86_64-linux-gnu /usr/lib /lib/x86_64-linux-gnu /lib/../lib /usr/lib/x86_64-linux-gnu /usr/lib/../lib /lib
libs=-lpthread -lnsl -lgdbm -ldb -ldl -lm -lcrypt -lutil -lc -lgdbm_compat
perllibs=-lpthread -lnsl -ldl -lm -lcrypt -lutil -lc
libc=libc-2.19.so, so=so, useshrplib=false, libperl=libperl.a
gnulibc_version='2.19'
Dynamic Linking:
dlsrc=dl_dlopen.xs, dlext=so, d_dlsymun=undef, ccdlflags='-Wl,-E'
cccdlflags='-fPIC', lddlflags='-shared -O2 -L/usr/local/lib -fstack-protector-strong'
Characteristics of this binary (from libperl):
Compile-time options: HAS_TIMES PERLIO_LAYERS PERL_COPY_ON_WRITE
PERL_DONT_CREATE_GVSV
PERL_HASH_FUNC_ONE_AT_A_TIME_HARD PERL_MALLOC_WRAP
PERL_PRESERVE_IVUV USE_64_BIT_ALL USE_64_BIT_INT
USE_LARGE_FILES USE_LOCALE USE_LOCALE_COLLATE
USE_LOCALE_CTYPE USE_LOCALE_NUMERIC USE_LOCALE_TIME
USE_PERLIO USE_PERL_ATOF
Locally applied patches:
RC5
Built under linux
Compiled at Jan 5 2017 19:07:03
%ENV:
PERL5LIB=""
PERL5OPT=""
PERL5_CPANPLUS_IS_RUNNING="32607"
PERL5_CPAN_IS_RUNNING="32607"
PERL5_CPAN_IS_RUNNING_IN_RECURSION="4576,32607"
PERLDOC="-MPod::Perldoc::ToTextOverstrike"
PERL_BATCH="yes"
PERL_CANARY_STABILITY_NOPROMPT="1"
PERL_CPAN_REPORTER_CONFIG="/var/tmp/cpansmoker-1023/2017011018/cpanreporter_000_config.ini"
PERL_EXTUTILS_AUTOINSTALL="--defaultdeps"
PERL_PARALLEL_SMOKER="yes"
PERL_USE_UNSAFE_INC="1"
@INC:
/opt/perl-5.24.1-RC5/lib/site_perl/5.24.1/x86_64-linux
/opt/perl-5.24.1-RC5/lib/site_perl/5.24.1
/opt/perl-5.24.1-RC5/lib/5.24.1/x86_64-linux
/opt/perl-5.24.1-RC5/lib/5.24.1
.