Search-Elasticsearch-Client-5_0-Async v6.00 Perl 5 v5.14.4 amd64-freebsd

Status
Pass
From
Slaven Rezić (SREZIC)
Dist
Search-Elasticsearch-Client-5_0-Async v6.00
Platform
Perl 5 v5.14.4 amd64-freebsd
Date
2017-11-17 21:19:46
ID
096e2fe4-cbdd-11e7-b509-b7360d0d2afe
This distribution has been tested as part of the CPAN Testers
project, supporting the Perl programming language.  See
http://wiki.cpantesters.org/ for more information or email
questions to cpan-testers-discuss@perl.org


--
Dear Clinton Gormley,

This is a computer-generated report for Search-Elasticsearch-Client-5_0-Async-6.00
on perl 5.14.4, created by CPAN-Reporter-1.2018.

Thank you for uploading your work to CPAN.  Congratulations!
All tests were successful.

Sections of this report:

    * Tester comments
    * Program output
    * Prerequisites
    * Environment and other context

------------------------------
TESTER COMMENTS
------------------------------

Additional comments from tester:

none provided

------------------------------
PROGRAM OUTPUT
------------------------------

Output from '/usr/bin/make test':

PERL_DL_NONLAZY=1 "/usr/local/bin/perl5.14.4" "-MExtUtils::Command::MM" "-MTest::Harness" "-e" "undef *Test::Harness::Switches; test_harness(0, 'blib/lib', 'blib/arch')" t/*.t t/Client_5_0_Async/*.t
t/author-eol.t ........................... skipped: these tests are for testing by the author
t/author-no-tabs.t ....................... skipped: these tests are for testing by the author
t/author-pod-syntax.t .................... skipped: these tests are for testing by the author
t/Client_5_0_Async/00_print_version.t .... skipped: No Elasticsearch test node available
t/Client_5_0_Async/10_live.t ............. skipped: No Elasticsearch test node available
t/Client_5_0_Async/15_conflict.t ......... skipped: No Elasticsearch test node available
t/Client_5_0_Async/20_fork_aehttp.t ...... skipped: No Elasticsearch test node available
t/Client_5_0_Async/21_fork_mojo.t ........ skipped: No Elasticsearch test node available
t/Client_5_0_Async/30_bulk_add_action.t .. skipped: No Elasticsearch test node available
t/Client_5_0_Async/31_bulk_helpers.t ..... skipped: No Elasticsearch test node available
t/Client_5_0_Async/32_bulk_flush.t ....... skipped: No Elasticsearch test node available
t/Client_5_0_Async/33_bulk_errors.t ...... skipped: No Elasticsearch test node available
t/Client_5_0_Async/34_bulk_cxn_errors.t .. ok
t/Client_5_0_Async/40_scroll.t ........... skipped: No Elasticsearch test node available
t/Client_5_0_Async/60_auth_aehttp.t ...... skipped: AEHTTP - No https server specified in ES_SSL
t/Client_5_0_Async/61_auth_mojo.t ........ skipped: Mojo - No https server specified in ES_SSL
All tests successful.
Files=16, Tests=3,  4 wallclock secs ( 0.05 usr  0.01 sys +  1.41 cusr  0.30 csys =  1.77 CPU)
Result: PASS

------------------------------
PREREQUISITES
------------------------------

Prerequisite modules loaded:

requires:

    Module                                           Need Have    
    ------------------------------------------------ ---- --------
    Moo                                              0    2.003003
    namespace::clean                                 0    0.27    
    Promises                                         0    0.99    
    Scalar::Util                                     0    1.49    
    Search::Elasticsearch::Async::Util               0    6.00    
    Search::Elasticsearch::Client::5_0               6.00 6.00    
    Search::Elasticsearch::Client::5_0::Role::Bulk   0    6.00    
    Search::Elasticsearch::Client::5_0::Role::Scroll 0    6.00    
    Search::Elasticsearch::Role::Is_Async            0    6.00    
    Search::Elasticsearch::Util                      0    6.00    
    Try::Tiny                                        0    0.28    

build_requires:

    Module                                           Need Have    
    ------------------------------------------------ ---- --------
    AE                                               0    7.14    
    Data::Dumper                                     0    2.130_02
    EV                                               0    4.22    
    ExtUtils::MakeMaker                              0    7.30    
    lib                                              0    0.63    
    Log::Any::Adapter                                0    1.701   
    Log::Any::Adapter::Callback                      0.09 0.09    
    Mojo::UserAgent                                  0    0       
    POSIX                                            0    1.24    
    Search::Elasticsearch                            0    6.00    
    Search::Elasticsearch::Async                     0    6.00    
    Search::Elasticsearch::Role::Cxn                 0    6.00    
    Search::Elasticsearch::Role::Cxn::Async          0    6.00    
    Search::Elasticsearch::Transport::Async          0    6.00    
    strict                                           0    1.04    
    Sub::Exporter                                    0    0.987   
    Test::Deep                                       0    1.127   
    Test::Exception                                  0    0.43    
    Test::More                                       0.98 1.302106
    warnings                                         0    1.12    


------------------------------
ENVIRONMENT AND OTHER CONTEXT
------------------------------

Environment variables:

    PATH = /usr/local/bin:/usr/bin:/bin:/usr/local/sbin:/usr/sbin:/sbin:/home/cpansand/bin/freebsd12.0:/home/cpansand/bin/sh:/home/cpansand/bin:/usr/games:/home/cpansand/devel:/home/eserte/src/srezic-misc/scripts
    PERL5LIB = 
    PERL5OPT = 
    PERL5_CPANPLUS_IS_RUNNING = 11643
    PERL5_CPAN_IS_RUNNING = 11643
    PERL5_CPAN_IS_RUNNING_IN_RECURSION = 55571,11643
    PERLDOC = -MPod::Perldoc::ToTextOverstrike
    PERL_BATCH = yes
    PERL_CANARY_STABILITY_NOPROMPT = 1
    PERL_CPAN_REPORTER_CONFIG = /var/tmp/cpansmoker-1023/2017111800/cpanreporter_000_config.ini
    PERL_EXTUTILS_AUTOINSTALL = --defaultdeps
    SHELL = /usr/local/bin/zsh
    TERM = screen
    TMPDIR = /var/tmp/cpansmoker-1023/2017111800

Perl special variables (and OS-specific diagnostics, for MSWin32):

    $^X = /usr/local/bin/perl5.14.4
    $UID/$EUID = 1023 / 1023
    $GID = 1023 1023
    $EGID = 1023 1023

Perl module toolchain versions installed:

    Module              Have     
    ------------------- ---------
    CPAN                1.9600_01
    CPAN::Meta          2.143240 
    Cwd                 3.62     
    ExtUtils::CBuilder  0.280226 
    ExtUtils::Command   7.30     
    ExtUtils::Install   2.06     
    ExtUtils::MakeMaker 7.30     
    ExtUtils::Manifest  1.70     
    ExtUtils::ParseXS   3.35     
    File::Spec          3.62     
    JSON                2.94     
    JSON::PP            2.94     
    Module::Build       0.4224   
    Module::Signature   n/a      
    Parse::CPAN::Meta   1.4414   
    Test::Harness       3.39     
    Test::More          1.302106 
    YAML                1.24     
    YAML::Syck          1.30     
    version             0.9918   


--

Summary of my perl5 (revision 5 version 14 subversion 4) configuration:
   
  Platform:
    osname=freebsd, osvers=12.0-current, archname=amd64-freebsd
    uname='freebsd ali1.bbbike.org 12.0-current freebsd 12.0-current #0 bd8385a990e(master)-dirty: fri nov 17 03:13:11 utc 2017 root@ali1.bbbike.org:usrobjhomeprojectsfreebsdamd64.amd64sysgeneric-nodebug amd64 '
    config_args='-ds -e -Dprefix=/usr/perl5.14.4p -Dcf_email=srezic@cpan.org -Doptimize=-O2 -pipe'
    hint=recommended, useposix=true, d_sigaction=define
    useithreads=undef, usemultiplicity=undef
    useperlio=define, d_sfio=undef, uselargefiles=define, usesocks=undef
    use64bitint=define, use64bitall=define, uselongdouble=undef
    usemymalloc=n, bincompat5005=undef
  Compiler:
    cc='cc', ccflags ='-DHAS_FPSETMASK -DHAS_FLOATINGPOINT_H -fno-strict-aliasing -pipe -fstack-protector -I/usr/local/include',
    optimize='-O2 -pipe',
    cppflags='-DHAS_FPSETMASK -DHAS_FLOATINGPOINT_H -fno-strict-aliasing -pipe -fstack-protector -I/usr/local/include'
    ccversion='', gccversion='4.2.1 Compatible FreeBSD Clang 5.0.0 (tags/RELEASE_500/final 312559)', gccosandvers=''
    intsize=4, longsize=8, ptrsize=8, doublesize=8, byteorder=12345678
    d_longlong=define, longlongsize=8, d_longdbl=define, longdblsize=16
    ivtype='long', ivsize=8, nvtype='double', nvsize=8, Off_t='off_t', lseeksize=8
    alignbytes=8, prototype=define
  Linker and Libraries:
    ld='cc', ldflags ='-pthread -Wl,-E  -fstack-protector -L/usr/local/lib'
    libpth=/usr/lib /usr/local/lib
    libs=-lgdbm -lm -lcrypt -lutil -lc
    perllibs=-lm -lcrypt -lutil -lc
    libc=, so=so, useshrplib=false, libperl=libperl.a
    gnulibc_version=''
  Dynamic Linking:
    dlsrc=dl_dlopen.xs, dlext=so, d_dlsymun=undef, ccdlflags=' '
    cccdlflags='-DPIC -fPIC', lddlflags='-shared  -L/usr/local/lib -fstack-protector'


Characteristics of this binary (from libperl): 
  Compile-time options: PERL_DONT_CREATE_GVSV PERL_MALLOC_WRAP
                        PERL_PRESERVE_IVUV USE_64_BIT_ALL USE_64_BIT_INT
                        USE_LARGE_FILES USE_PERLIO USE_PERL_ATOF
  Built under freebsd
  Compiled at Nov 17 2017 07:31:56
  %ENV:
    PERL5LIB=""
    PERL5OPT=""
    PERL5_CPANPLUS_IS_RUNNING="11643"
    PERL5_CPAN_IS_RUNNING="11643"
    PERL5_CPAN_IS_RUNNING_IN_RECURSION="55571,11643"
    PERLDOC="-MPod::Perldoc::ToTextOverstrike"
    PERL_BATCH="yes"
    PERL_CANARY_STABILITY_NOPROMPT="1"
    PERL_CPAN_REPORTER_CONFIG="/var/tmp/cpansmoker-1023/2017111800/cpanreporter_000_config.ini"
    PERL_EXTUTILS_AUTOINSTALL="--defaultdeps"
  @INC:
    /usr/perl5.14.4p/lib/site_perl/5.14.4/amd64-freebsd
    /usr/perl5.14.4p/lib/site_perl/5.14.4
    /usr/perl5.14.4p/lib/5.14.4/amd64-freebsd
    /usr/perl5.14.4p/lib/5.14.4
    .