IO-Iron v0.13 Perl 5 v5.10.0 amd64-netbsd

Status
Pass
From
Chris Williams (BINGOS)
Dist
IO-Iron v0.13
Platform
Perl 5 v5.10.0 amd64-netbsd
Date
2019-01-15 10:40:55
ID
09619b44-18b2-11e9-86e3-404589cf513b
This distribution has been tested as part of the CPAN Testers
project, supporting the Perl programming language.  See
http://wiki.cpantesters.org/ for more information or email
questions to cpan-testers-discuss@perl.org


--

Dear MIKKOI,

This is a computer-generated error report created automatically by
CPANPLUS, version 0.9176. Testers personal comments may appear
at the end of this report.


Thank you for uploading your work to CPAN.  Congratulations!
All tests were successful.

TEST RESULTS:

Below is the error stack from stage 'make test':

PERL_DL_NONLAZY=1 "/home/cpan/pit/bare/perl-5.10.0/bin/perl" "-MExtUtils::Command::MM" "-MTest::Harness" "-e" "undef *Test::Harness::Switches; test_harness(0, 'blib/lib', 'blib/arch')" t/*.t t/Iron/*.t t/IronCache/*.t t/IronMQ/*.t t/IronWorker/*.t
# 
# Versions for all modules listed in MYMETA.json (including optional ones):
# 
# === Configure Requires ===
# 
#     Module              Want Have
#     ------------------- ---- ----
#     ExtUtils::MakeMaker  any 7.34
# 
# === Build Requires ===
# 
#     Module              Want Have
#     ------------------- ---- ----
#     ExtUtils::MakeMaker  any 7.34
# 
# === Test Requires ===
# 
#     Module              Want     Have
#     ------------------- ---- --------
#     Data::Dumper         any 2.121_14
#     ExtUtils::MakeMaker  any     7.34
#     File::Copy           any     2.11
#     File::Remove         any     1.58
#     File::Spec           any     3.75
#     Log::Any::Test       any    1.707
#     Test::Exception      any     0.43
#     Test::More           any 1.302141
#     lib                  any   0.5565
# 
# === Test Recommends ===
# 
#     Module         Want     Have
#     ---------- -------- --------
#     CPAN::Meta 2.120900 2.150010
# 
# === Runtime Requires ===
# 
#     Module             Want     Have
#     ------------------ ---- --------
#     Carp                any     1.08
#     Carp::Assert        any     0.21
#     Carp::Assert::More  any     1.16
#     Const::Fast         any    0.014
#     Data::UUID          any    1.221
#     English             any     1.04
#     Exception::Class    any     1.44
#     Exporter            any     5.62
#     File::HomeDir       any    1.004
#     File::Spec          any     3.75
#     Hash::Util         0.06     0.07
#     JSON::MaybeXS       any 1.004000
#     Log::Any            any    1.707
#     Params::Validate    any     1.29
#     Path::Tiny          any    0.108
#     REST::Client        any      273
#     Scalar::Util        any     1.19
#     Try::Tiny           any     0.30
#     URI::Escape         any     3.31
#     parent              any    0.228
#     strict              any     1.04
#     warnings            any     1.06
# 
t/00-report-prereqs.t ........ ok
# Testing IO::Iron::IronWorker::Client (0.13), Perl 5.010000, /home/cpan/pit/bare/perl-5.10.0/bin/perl
# test ReadIronMQConfig
# Current dir config filename: ./iron.json
# Extra config filename: t/.IronMQTestConfig.json
t/Iron/client_readconfig.t ... ok
# Testing IO::Iron::Common (0.13), Perl 5.010000, /home/cpan/pit/bare/perl-5.10.0/bin/perl
t/Iron/common.t .............. ok
# Testing IO::Iron (0.13), Perl 5.010000, /home/cpan/pit/bare/perl-5.10.0/bin/perl
t/Iron/load.t ................ ok
# Testing IO::Iron::IronCache::Client (0.13) with policies, Perl 5.010000, /home/cpan/pit/bare/perl-5.10.0/bin/perl
t/IronCache/cache_policy.t ... ok
# Testing IO::Iron::IronCache::Client (0.13), Perl 5.010000, /home/cpan/pit/bare/perl-5.10.0/bin/perl
t/IronCache/cache_policy2.t .. ok
# Testing IO::Iron::IronCache::Client (0.13), Perl 5.010000, /home/cpan/pit/bare/perl-5.10.0/bin/perl
t/IronCache/load.t ........... ok
# Testing IO::Iron::IronMQ::Client (0.13), Perl 5.010000, /home/cpan/pit/bare/perl-5.10.0/bin/perl
t/IronMQ/load.t .............. ok
# Testing IO::Iron::IronCache::Client (0.13), Perl 5.010000, /home/cpan/pit/bare/perl-5.10.0/bin/perl
t/IronWorker/load.t .......... ok
All tests successful.
Files=9, Tests=104,  1 wallclock secs ( 0.05 usr  0.00 sys +  1.42 cusr  0.28 csys =  1.75 CPU)
Result: PASS


PREREQUISITES:

Here is a list of prerequisites you specified and versions we
managed to load:

	  Module Name                        Have     Want
	  Carp                               1.08        0
	  Carp::Assert                       0.21        0
	  Carp::Assert::More                 1.16        0
	  Const::Fast                       0.014        0
	  Data::Dumper                   2.121_14        0
	  Data::UUID                        1.221        0
	  English                            1.04        0
	  Exception::Class                   1.44        0
	  Exporter                           5.62        0
	  ExtUtils::MakeMaker                7.34        0
	  File::Copy                         2.11        0
	  File::HomeDir                     1.004        0
	  File::Remove                       1.58        0
	  File::Spec                         3.75        0
	  Hash::Util                         0.07     0.06
	  JSON::MaybeXS                  1.004000        0
	  Log::Any                          1.707        0
	  Log::Any::Test                    1.707        0
	  Params::Validate                   1.29        0
	  Path::Tiny                        0.108        0
	  REST::Client                        273        0
	  Scalar::Util                       1.19        0
	  Test::Exception                    0.43        0
	  Test::More                     1.302141        0
	  Try::Tiny                          0.30        0
	  URI::Escape                        3.31        0
	  lib                              0.5565        0
	  parent                            0.228        0
	  strict                             1.04        0
	  warnings                           1.06        0

Perl module toolchain versions installed:
	Module Name                        Have
	CPANPLUS                         0.9176
	CPANPLUS::Dist::Build              0.90
	Cwd                                3.75
	ExtUtils::CBuilder             0.280230
	ExtUtils::Command                  7.34
	ExtUtils::Install                  2.14
	ExtUtils::MakeMaker                7.34
	ExtUtils::Manifest                 1.71
	ExtUtils::ParseXS                  3.35
	File::Spec                         3.75
	Module::Build                    0.4224
	Pod::Parser                        1.35
	Pod::Simple                        3.28
	Test2                          1.302141
	Test::Harness                      3.42
	Test::More                     1.302141
	version                          0.9924

******************************** NOTE ********************************
The comments above are created mechanically, possibly without manual
checking by the sender.  As there are many people performing automatic
tests on each upload to CPAN, it is likely that you will receive
identical messages about the same problem.

If you believe that the message is mistaken, please reply to the first
one with correction and/or additional informations, and do not take
it personally.  We appreciate your patience. :)
**********************************************************************

Additional comments:


This report was machine-generated by CPANPLUS::Dist::YACSmoke 1.06.
Powered by minismokebox version 0.68

------------------------------
ENVIRONMENT AND OTHER CONTEXT
------------------------------

Environment variables:

    AUTOMATED_TESTING = 1
    NONINTERACTIVE_TESTING = 1
    PATH = /home/cpan/bin:/bin:/sbin:/usr/bin:/usr/sbin:/usr/X11R7/bin:/usr/X11R6/bin:/usr/pkg/bin:/usr/pkg/sbin:/usr/games:/usr/local/bin:/usr/local/sbin
    PERL5LIB = /home/cpan/pit/jail/X8hAp4TLPn/lib/perl5:/home/cpan/pit/bare/conf/perl-5.10.0/.cpanplus/5.10.0/build/XYKDYpROSL/IO-Iron-0.13/blib/lib:/home/cpan/pit/bare/conf/perl-5.10.0/.cpanplus/5.10.0/build/XYKDYpROSL/IO-Iron-0.13/blib/arch
    PERL5_CPANPLUS_IS_RUNNING = 25193
    PERL5_CPANPLUS_IS_VERSION = 0.9176
    PERL5_MINISMOKEBOX = 0.68
    PERL5_YACSMOKE_BASE = /home/cpan/pit/bare/conf/perl-5.10.0
    PERL_EXTUTILS_AUTOINSTALL = --defaultdeps
    PERL_LOCAL_LIB_ROOT = /home/cpan/pit/jail/X8hAp4TLPn
    PERL_MB_OPT = --install_base "/home/cpan/pit/jail/X8hAp4TLPn"
    PERL_MM_OPT = INSTALL_BASE=/home/cpan/pit/jail/X8hAp4TLPn
    PERL_MM_USE_DEFAULT = 1
    SHELL = /usr/pkg/bin/bash
    TERM = screen

Perl special variables (and OS-specific diagnostics, for MSWin32):

    Perl: $^X = /home/cpan/pit/bare/perl-5.10.0/bin/perl
    UID:  $<  = 1002
    EUID: $>  = 1002
    GID:  $(  = 100 100
    EGID: $)  = 100 100


-------------------------------


--

Summary of my perl5 (revision 5 version 10 subversion 0) configuration:
  Platform:
    osname=netbsd, osvers=6.1.4, archname=amd64-netbsd
    uname='netbsd naboo.bingosnet.co.uk 6.1.4 netbsd 6.1.4 (generic) amd64 '
    config_args='-des -Dprefix=/home/cpan/pit/bare/perl-5.10.0'
    hint=recommended, useposix=true, d_sigaction=define
    useithreads=undef, usemultiplicity=undef
    useperlio=define, d_sfio=undef, uselargefiles=define, usesocks=undef
    use64bitint=define, use64bitall=define, uselongdouble=undef
    usemymalloc=n, bincompat5005=undef
  Compiler:
    cc='cc', ccflags ='-fno-strict-aliasing -pipe -I/usr/pkg/include',
    optimize='-O',
    cppflags='-fno-strict-aliasing -pipe -I/usr/pkg/include'
    ccversion='', gccversion='4.5.3', gccosandvers=''
    intsize=4, longsize=8, ptrsize=8, doublesize=8, byteorder=12345678
    d_longlong=define, longlongsize=8, d_longdbl=define, longdblsize=16
    ivtype='long', ivsize=8, nvtype='double', nvsize=8, Off_t='off_t', lseeksize=8
    alignbytes=8, prototype=define
  Linker and Libraries:
    ld='cc', ldflags =' -Wl,-rpath,/usr/pkg/lib -Wl,-rpath,/usr/local/lib -L/usr/pkg/lib'
    libpth=/usr/pkg/lib /lib /usr/lib
    libs=-lgdbm -lm -lcrypt -lutil -lc -lposix
    perllibs=-lm -lcrypt -lutil -lc -lposix
    libc=/lib/libc.so, so=so, useshrplib=false, libperl=libperl.a
    gnulibc_version=''
  Dynamic Linking:
    dlsrc=dl_dlopen.xs, dlext=so, d_dlsymun=undef, ccdlflags='-Wl,-E '
    cccdlflags='-DPIC -fPIC ', lddlflags='--whole-archive -shared  -L/usr/pkg/lib'


Characteristics of this binary (from libperl): 
  Compile-time options: PERL_DONT_CREATE_GVSV PERL_MALLOC_WRAP USE_64_BIT_ALL
                        USE_64_BIT_INT USE_LARGE_FILES USE_PERLIO
  Built under netbsd
  Compiled at May  9 2014 12:24:14
  %ENV:
    PERL5LIB="/home/cpan/pit/jail/X8hAp4TLPn/lib/perl5:/home/cpan/pit/bare/conf/perl-5.10.0/.cpanplus/5.10.0/build/XYKDYpROSL/IO-Iron-0.13/blib/lib:/home/cpan/pit/bare/conf/perl-5.10.0/.cpanplus/5.10.0/build/XYKDYpROSL/IO-Iron-0.13/blib/arch"
    PERL5_CPANPLUS_IS_RUNNING="25193"
    PERL5_CPANPLUS_IS_VERSION="0.9176"
    PERL5_MINISMOKEBOX="0.68"
    PERL5_YACSMOKE_BASE="/home/cpan/pit/bare/conf/perl-5.10.0"
    PERL_EXTUTILS_AUTOINSTALL="--defaultdeps"
    PERL_LOCAL_LIB_ROOT="/home/cpan/pit/jail/X8hAp4TLPn"
    PERL_MB_OPT="--install_base "/home/cpan/pit/jail/X8hAp4TLPn""
    PERL_MM_OPT="INSTALL_BASE=/home/cpan/pit/jail/X8hAp4TLPn"
    PERL_MM_USE_DEFAULT="1"
  @INC:
    /home/cpan/pit/jail/X8hAp4TLPn/lib/perl5/5.10.0/amd64-netbsd
    /home/cpan/pit/jail/X8hAp4TLPn/lib/perl5/5.10.0
    /home/cpan/pit/jail/X8hAp4TLPn/lib/perl5/amd64-netbsd
    /home/cpan/pit/jail/X8hAp4TLPn/lib/perl5
    /home/cpan/pit/bare/conf/perl-5.10.0/.cpanplus/5.10.0/build/XYKDYpROSL/IO-Iron-0.13/blib/lib
    /home/cpan/pit/bare/conf/perl-5.10.0/.cpanplus/5.10.0/build/XYKDYpROSL/IO-Iron-0.13/blib/arch
    /home/cpan/pit/bare/perl-5.10.0/lib/5.10.0/amd64-netbsd
    /home/cpan/pit/bare/perl-5.10.0/lib/5.10.0
    /home/cpan/pit/bare/perl-5.10.0/lib/site_perl/5.10.0/amd64-netbsd
    /home/cpan/pit/bare/perl-5.10.0/lib/site_perl/5.10.0
    .