Path-Dispatcher v1.08 Perl 5 v5.26.1 amd64-freebsd
- Status
- Pass
- From
- Slaven Rezić (SREZIC)
- Dist
-
Path-Dispatcher v1.08
- Platform
- Perl 5 v5.26.1 amd64-freebsd
- Date
- 2020-07-12 03:16:11
- ID
- 094ee5ba-c3ee-11ea-bf06-4e4e1f24ea8f
This distribution has been tested as part of the CPAN Testers
project, supporting the Perl programming language. See
http://wiki.cpantesters.org/ for more information or email
questions to cpan-testers-discuss@perl.org
--
Dear Karen Etheridge,
This is a computer-generated report for Path-Dispatcher-1.08
on perl 5.26.1, created by CPAN-Reporter-1.2018.
Thank you for uploading your work to CPAN. Congratulations!
All tests were successful.
Sections of this report:
* Tester comments
* Program output
* Prerequisites
* Environment and other context
------------------------------
TESTER COMMENTS
------------------------------
Additional comments from tester:
none provided
------------------------------
PROGRAM OUTPUT
------------------------------
Output from './Build test':
#
# Versions for all modules listed in MYMETA.json (including optional ones):
#
# === Configure Requires ===
#
# Module Want Have
# ------------------- ----- -----
# ExtUtils::MakeMaker any 7.30
# Module::Build::Tiny 0.034 0.039
#
# === Test Requires ===
#
# Module Want Have
# ---------------- ---- --------
# File::Spec any 3.67
# Module::Metadata any 1.000033
# Test::Fatal any 0.014
# Test::More any 1.302106
# strict any 1.11
# warnings any 1.37
#
# === Test Recommends ===
#
# Module Want Have
# ---------- -------- --------
# CPAN::Meta 2.120900 2.150010
#
# === Runtime Requires ===
#
# Module Want Have
# --------------- ---- --------
# Carp any 1.42
# Moo any 2.003002
# Moo::Role any 2.003002
# MooX::TypeTiny any 0.001003
# Scalar::Util any 1.49
# Try::Tiny any 0.28
# Type::Tiny any 1.002001
# Type::Utils any 1.002001
# Types::Standard any 1.002001
# constant any 1.33
# overload any 1.28
#
# === Other Modules ===
#
# Module Have
# --------------- ------
# Encode 2.93
# File::Temp 0.2304
# JSON::PP 2.94
# Module::Runtime 0.016
# Sub::Name 0.21
# YAML 1.24
# autodie 2.29
#
t/00-report-prereqs.t .......... ok
t/000-compile.t ................ ok
t/001-api.t .................... ok
t/002-rule.t ................... ok
t/003-404.t .................... ok
t/004-run.t .................... ok
t/005-multi-rule.t ............. ok
t/006-abort.t .................. ok
t/007-coderef-matcher.t ........ ok
t/009-args.t ................... ok
t/010-return.t ................. ok
t/011-next-rule.t .............. ok
t/012-under.t .................. ok
t/013-tokens.t ................. ok
t/014-tokens-prefix.t .......... ok
t/015-regex-prefix.t ........... ok
t/017-intersection.t ........... ok
t/018-metadata.t ............... ok
t/019-intersection-metadata.t .. ok
t/022-numbers-undef.t .......... ok
t/023-alternation.t ............ ok
t/024-sequence.t ............... ok
t/025-sequence-custom-rule.t ... ok
t/026-named-captures.t ......... ok
t/027-custom-named-captures.t .. ok
t/030-exceptions.t ............. ok
t/031-structured-match.t ....... ok
t/032-multiple-delimiter.t ..... ok
t/033-chain.t .................. ok
t/100-match-object.t ........... ok
t/200-payload.t ................ ok
t/901-return-values.t .......... ok
t/902-coderef.t ................ ok
All tests successful.
Files=33, Tests=216, 4 wallclock secs ( 0.01 usr 0.14 sys + 0.48 cusr 3.47 csys = 4.10 CPU)
Result: PASS
------------------------------
PREREQUISITES
------------------------------
Prerequisite modules loaded:
requires:
Module Need Have
------------------- -------- --------
Carp 0 1.42
constant 0 1.33
Moo 0 2.003002
Moo::Role 0 2.003002
MooX::TypeTiny 0 0.001003
overload 0 1.28
perl 5.008001 5.026001
Scalar::Util 0 1.49
Try::Tiny 0 0.28
Type::Tiny 0 1.002001
Type::Utils 0 1.002001
Types::Standard 0 1.002001
build_requires:
Module Need Have
------------------- -------- --------
File::Spec 0 3.67
Module::Metadata 0 1.000033
perl 5.008001 5.026001
strict 0 1.11
Test::Fatal 0 0.014
Test::More 0 1.302106
warnings 0 1.37
configure_requires:
Module Need Have
------------------- -------- --------
ExtUtils::MakeMaker 0 7.30
Module::Build::Tiny 0.034 0.039
perl 5.008001 5.026001
------------------------------
ENVIRONMENT AND OTHER CONTEXT
------------------------------
Environment variables:
LC_ALL = de_DE.ISO8859-1
PATH = /usr/local/bin:/usr/bin:/bin:/usr/local/sbin:/usr/sbin:/sbin:/home/cpansand/bin/freebsd10.3:/home/cpansand/bin/sh:/home/cpansand/bin:/usr/games:/home/cpansand/devel:/home/eserte/src/srezic-misc/scripts
PERL5LIB =
PERL5OPT =
PERL5_CPANPLUS_IS_RUNNING = 80610
PERL5_CPAN_IS_RUNNING = 80610
PERL5_CPAN_IS_RUNNING_IN_RECURSION = 80555,80610
PERLDOC = -MPod::Perldoc::ToTextOverstrike
PERL_BATCH = yes
PERL_CANARY_STABILITY_NOPROMPT = 1
PERL_CPAN_REPORTER_CONFIG = /var/tmp/cpansmoker-1023/2020071205/cpanreporter_000_config.ini
PERL_EXTUTILS_AUTOINSTALL = --defaultdeps
PERL_USE_UNSAFE_INC = 1
SHELL = /usr/local/bin/zsh
TERM = screen
TMPDIR = /var/tmp/cpansmoker-1023/2020071205
Perl special variables (and OS-specific diagnostics, for MSWin32):
$^X = /usr/perl5.26.1p/bin/perl
$UID/$EUID = 1023 / 1023
$GID = 1023 1023
$EGID = 1023 1023
Perl module toolchain versions installed:
Module Have
------------------- --------
CPAN 2.18
CPAN::Meta 2.150010
Cwd 3.67
ExtUtils::CBuilder 0.280226
ExtUtils::Command 7.30
ExtUtils::Install 2.06
ExtUtils::MakeMaker 7.30
ExtUtils::Manifest 1.70
ExtUtils::ParseXS 3.34
File::Spec 3.67
JSON 2.94
JSON::PP 2.94
Module::Build 0.4224
Module::Signature 0.81
Parse::CPAN::Meta 2.150010
Test::Harness 3.39
Test::More 1.302106
YAML 1.24
YAML::Syck 1.30
version 0.9917
--
Summary of my perl5 (revision 5 version 26 subversion 1) configuration:
Platform:
osname=freebsd
osvers=10.3-release-p11
archname=amd64-freebsd
uname='freebsd cvrsnica-freebsd-101.herceg.de 10.3-release-p11 freebsd 10.3-release-p11 #0: mon oct 24 18:49:24 utc 2016 root@amd64-builder.daemonology.net:usrobjusrsrcsysgeneric amd64 '
config_args='-ds -e -Dprefix=/usr/perl5.26.1p -Dcf_email=srezic@cpan.org -Doptimize=-O2 -pipe'
hint=recommended
useposix=true
d_sigaction=define
useithreads=undef
usemultiplicity=undef
use64bitint=define
use64bitall=define
uselongdouble=undef
usemymalloc=n
default_inc_excludes_dot=define
bincompat5005=undef
Compiler:
cc='cc'
ccflags ='-DHAS_FPSETMASK -DHAS_FLOATINGPOINT_H -fno-strict-aliasing -pipe -fstack-protector -I/usr/local/include -D_FORTIFY_SOURCE=2'
optimize='-O2 -pipe'
cppflags='-DHAS_FPSETMASK -DHAS_FLOATINGPOINT_H -fno-strict-aliasing -pipe -fstack-protector -I/usr/local/include'
ccversion=''
gccversion='4.2.1 Compatible FreeBSD Clang 3.4.1 (tags/RELEASE_34/dot1-final 208032)'
gccosandvers=''
intsize=4
longsize=8
ptrsize=8
doublesize=8
byteorder=12345678
doublekind=3
d_longlong=define
longlongsize=8
d_longdbl=define
longdblsize=16
longdblkind=3
ivtype='long'
ivsize=8
nvtype='double'
nvsize=8
Off_t='off_t'
lseeksize=8
alignbytes=8
prototype=define
Linker and Libraries:
ld='cc'
ldflags ='-pthread -Wl,-E -fstack-protector -L/usr/local/lib'
libpth=/usr/lib /usr/local/lib /usr/include/clang/3.4.1 /usr/lib
libs=-lpthread -lgdbm -lm -lcrypt -lutil -lc -lelf
perllibs=-lpthread -lm -lcrypt -lutil -lc -lelf
libc=
so=so
useshrplib=false
libperl=libperl.a
gnulibc_version=''
Dynamic Linking:
dlsrc=dl_dlopen.xs
dlext=so
d_dlsymun=undef
ccdlflags=' '
cccdlflags='-DPIC -fPIC'
lddlflags='-shared -L/usr/local/lib -fstack-protector'
Characteristics of this binary (from libperl):
Compile-time options:
HAS_TIMES
PERLIO_LAYERS
PERL_COPY_ON_WRITE
PERL_DONT_CREATE_GVSV
PERL_MALLOC_WRAP
PERL_OP_PARENT
PERL_PRESERVE_IVUV
USE_64_BIT_ALL
USE_64_BIT_INT
USE_LARGE_FILES
USE_LOCALE
USE_LOCALE_COLLATE
USE_LOCALE_CTYPE
USE_LOCALE_NUMERIC
USE_LOCALE_TIME
USE_PERLIO
USE_PERL_ATOF
Built under freebsd
Compiled at Oct 31 2017 09:43:34
%ENV:
PERL5LIB=""
PERL5OPT=""
PERL5_CPANPLUS_IS_RUNNING="80610"
PERL5_CPAN_IS_RUNNING="80610"
PERL5_CPAN_IS_RUNNING_IN_RECURSION="80555,80610"
PERLDOC="-MPod::Perldoc::ToTextOverstrike"
PERL_BATCH="yes"
PERL_CANARY_STABILITY_NOPROMPT="1"
PERL_CPAN_REPORTER_CONFIG="/var/tmp/cpansmoker-1023/2020071205/cpanreporter_000_config.ini"
PERL_EXTUTILS_AUTOINSTALL="--defaultdeps"
PERL_USE_UNSAFE_INC="1"
@INC:
/usr/perl5.26.1p/lib/site_perl/5.26.1/amd64-freebsd
/usr/perl5.26.1p/lib/site_perl/5.26.1
/usr/perl5.26.1p/lib/5.26.1/amd64-freebsd
/usr/perl5.26.1p/lib/5.26.1
.