HTML-Formatter v2.16 Perl 5 v5.34.1 i686-linux-64int-ld

Status
Pass
From
D Ruth Holloway
Dist
HTML-Formatter v2.16
Platform
Perl 5 v5.34.1 i686-linux-64int-ld
Date
2022-04-05 03:25:26
ID
09462e5e-b490-11ec-b9a1-6cd0973b28cc
This distribution has been tested as part of the CPAN Testers
project, supporting the Perl programming language.  See
http://wiki.cpantesters.org/ for more information or email
questions to cpan-testers-discuss@perl.org


--
Dear Nigel Metheringham,

This is a computer-generated report for HTML-Formatter-2.16
on perl 5.34.1, created by CPAN-Reporter-1.2018.

Thank you for uploading your work to CPAN.  Congratulations!
All tests were successful.

Sections of this report:

    * Tester comments
    * Program output
    * Prerequisites
    * Environment and other context

------------------------------
TESTER COMMENTS
------------------------------

Additional comments from tester:

this report is from an automated smoke testing program
and was not reviewed by a human for accuracy

------------------------------
PROGRAM OUTPUT
------------------------------

Output from '/usr/bin/make test':

PERL_DL_NONLAZY=1 "/home/cpantester/perl5/perlbrew/perls/perl-5.34.1-ld-64int/bin/perl" "-MExtUtils::Command::MM" "-MTest::Harness" "-e" "undef *Test::Harness::Switches; test_harness(0, 'blib/lib', 'blib/arch')" t/*.t
t/00-compile.t ............... ok
# 
# Versions for all modules listed in MYMETA.json (including optional ones):
# 
# === Configure Requires ===
# 
#     Module              Want Have
#     ------------------- ---- ----
#     ExtUtils::MakeMaker  any 7.62
# 
# === Build Requires ===
# 
#     Module              Want Have
#     ------------------- ---- ----
#     ExtUtils::MakeMaker  any 7.62
# 
# === Test Requires ===
# 
#     Module              Want     Have
#     ------------------- ---- --------
#     ExtUtils::MakeMaker  any     7.62
#     File::Slurper        any    0.013
#     File::Spec           any     3.80
#     FindBin              any     1.52
#     IO::Handle           any     1.46
#     IPC::Open3           any     1.21
#     Test::More          0.96 1.302190
#     Test::Warnings       any    0.031
#     blib                1.01     1.07
#     bytes                any     1.08
#     lib                  any     0.65
# 
# === Test Recommends ===
# 
#     Module         Want     Have
#     ---------- -------- --------
#     CPAN::Meta 2.120900 2.150010
# 
# === Runtime Requires ===
# 
#     Module                              Want  Have
#     ----------------------------------- ---- -----
#     Carp                                 any  1.52
#     Data::Dumper                         any 2.179
#     Encode                               any  3.16
#     Font::Metrics::Courier               any undef
#     Font::Metrics::CourierBold           any undef
#     Font::Metrics::CourierBoldOblique    any undef
#     Font::Metrics::CourierOblique        any undef
#     Font::Metrics::Helvetica             any undef
#     Font::Metrics::HelveticaBold         any undef
#     Font::Metrics::HelveticaBoldOblique  any undef
#     Font::Metrics::HelveticaOblique      any undef
#     Font::Metrics::TimesBold             any undef
#     Font::Metrics::TimesBoldItalic       any undef
#     Font::Metrics::TimesItalic           any undef
#     Font::Metrics::TimesRoman            any undef
#     HTML::Element                       3.15  5.07
#     HTML::TreeBuilder                    any  5.07
#     IO::File                             any  1.46
#     base                                 any  2.27
#     integer                              any  1.01
#     parent                               any 0.238
#     strict                               any  1.12
#     utf8                                 any  1.24
#     warnings                             any  1.51
# 
t/00-report-prereqs.t ........ ok
t/01_ps.t .................... ok
t/02_rtf.t ................... ok
t/03_text.t .................. ok
t/04_md.t .................... ok
t/author-critic.t ............ skipped: these tests are for testing by the author
t/author-eol.t ............... skipped: these tests are for testing by the author
t/author-no-tabs.t ........... skipped: these tests are for testing by the author
t/author-pod-spell.t ......... skipped: these tests are for testing by the author
t/author-pod-syntax.t ........ skipped: these tests are for testing by the author
t/author-portability.t ....... skipped: these tests are for testing by the author
t/author-synopsis.t .......... skipped: these tests are for testing by the author
t/release-dist-manifest.t .... skipped: these tests are for release candidate testing
t/release-distmeta.t ......... skipped: these tests are for release candidate testing
t/release-has-version.t ...... skipped: these tests are for release candidate testing
t/release-minimum-version.t .. skipped: these tests are for release candidate testing
t/release-unused-vars.t ...... skipped: these tests are for release candidate testing
t/rt111783.t ................. ok
t/rt69426.t .................. ok
All tests successful.
Files=20, Tests=94,  2 wallclock secs ( 0.11 usr  0.02 sys +  1.61 cusr  0.32 csys =  2.06 CPU)
Result: PASS

------------------------------
PREREQUISITES
------------------------------

Prerequisite modules loaded:

requires:

    Module                              Need     Have    
    ----------------------------------- -------- --------
    base                                0        2.27    
    Carp                                0        1.52    
    Data::Dumper                        0        2.179   
    Encode                              0        3.16    
    Font::Metrics::Courier              0        0       
    Font::Metrics::CourierBold          0        0       
    Font::Metrics::CourierBoldOblique   0        0       
    Font::Metrics::CourierOblique       0        0       
    Font::Metrics::Helvetica            0        0       
    Font::Metrics::HelveticaBold        0        0       
    Font::Metrics::HelveticaBoldOblique 0        0       
    Font::Metrics::HelveticaOblique     0        0       
    Font::Metrics::TimesBold            0        0       
    Font::Metrics::TimesBoldItalic      0        0       
    Font::Metrics::TimesItalic          0        0       
    Font::Metrics::TimesRoman           0        0       
    HTML::Element                       3.15     5.07    
    HTML::TreeBuilder                   0        5.07    
    integer                             0        1.01    
    IO::File                            0        1.46    
    parent                              0        0.238   
    perl                                5.008    5.034001
    strict                              0        1.12    
    utf8                                0        1.24    
    warnings                            0        1.51    

build_requires:

    Module                              Need     Have    
    ----------------------------------- -------- --------
    blib                                1.01     1.07    
    bytes                               0        1.08    
    ExtUtils::MakeMaker                 0        7.62    
    File::Slurper                       0        0.013   
    File::Spec                          0        3.80    
    FindBin                             0        1.52    
    IO::Handle                          0        1.46    
    IPC::Open3                          0        1.21    
    lib                                 0        0.65    
    Test::More                          0.96     1.302190
    Test::Warnings                      0        0.031   

configure_requires:

    Module                              Need     Have    
    ----------------------------------- -------- --------
    ExtUtils::MakeMaker                 0        7.62    

opt_build_requires:

    Module                              Need     Have    
    ----------------------------------- -------- --------
    CPAN::Meta                          2.120900 2.150010


------------------------------
ENVIRONMENT AND OTHER CONTEXT
------------------------------

Environment variables:

    AUTOMATED_TESTING = 1
    LANG = en_US.UTF-8
    PATH = /home/cpantester/perl5/perlbrew/bin:/usr/local/bin:/usr/bin:/bin:/usr/local/games:/usr/games
    PERL5LIB = /home/cpantester/.cpan/build/Font-AFM-1.20-4/blib/arch:/home/cpantester/.cpan/build/Font-AFM-1.20-4/blib/lib:/home/cpantester/.cpan/build/PerlIO-utf8_strict-0.009-4/blib/arch:/home/cpantester/.cpan/build/PerlIO-utf8_strict-0.009-4/blib/lib:/home/cpantester/.cpan/build/File-Slurper-0.013-4/blib/arch:/home/cpantester/.cpan/build/File-Slurper-0.013-4/blib/lib:/home/cpantester/.cpan/build/HTML-Tree-5.07-4/blib/arch:/home/cpantester/.cpan/build/HTML-Tree-5.07-4/blib/lib:/home/cpantester/.cpan/build/Test-LongString-0.17-3/blib/arch:/home/cpantester/.cpan/build/Test-LongString-0.17-3/blib/lib:/home/cpantester/.cpan/build/HTTP-Server-Simple-0.52-4/blib/arch:/home/cpantester/.cpan/build/HTTP-Server-Simple-0.52-4/blib/lib:/home/cpantester/.cpan/build/HTML-Form-6.07-4/blib/arch:/home/cpantester/.cpan/build/HTML-Form-6.07-4/blib/lib:/home/cpantester/.cpan/build/Carp-Assert-More-2.0.1-4/blib/arch:/home/cpantester/.cpan/build/Carp-Assert-More-2.0.1-4/blib/lib:/home/cpantester/.cpan/build/Sub-Attribute-0.07-3/blib/arch:/home/cpantester/.cpan/build/Sub-Attribute-0.07-3/blib/lib:/home/cpantester/.cpan/build/Class-Trigger-0.15-3/blib/arch:/home/cpantester/.cpan/build/Class-Trigger-0.15-3/blib/lib:/home/cpantester/.cpan/build/IO-Stringy-2.113-3/blib/arch:/home/cpantester/.cpan/build/IO-Stringy-2.113-3/blib/lib:/home/cpantester/.cpan/build/Dancer2-0.400000-4/blib/arch:/home/cpantester/.cpan/build/Dancer2-0.400000-4/blib/lib:/home/cpantester/.cpan/build/CGI-4.54-3/blib/arch:/home/cpantester/.cpan/build/CGI-4.54-3/blib/lib:/home/cpantester/.cpan/build/Plack-1.0048-4/blib/arch:/home/cpantester/.cpan/build/Plack-1.0048-4/blib/lib:/home/cpantester/.cpan/build/Moo-2.005004-3/blib/arch:/home/cpantester/.cpan/build/Moo-2.005004-3/blib/lib
    PERL5OPT = 
    PERL5_CPANPLUS_IS_RUNNING = 7808
    PERL5_CPAN_IS_RUNNING = 7808
    PERL5_CPAN_IS_RUNNING_IN_RECURSION = 6874,7808
    PERL5_MINISMOKEBOX = 0.68
    PERLBREW_HOME = /home/cpantester/.perlbrew
    PERLBREW_ROOT = /home/cpantester/perl5/perlbrew
    PERLBREW_SHELLRC_VERSION = 0.94
    PERL_EXTUTILS_AUTOINSTALL = --defaultdeps
    PERL_MM_USE_DEFAULT = 1
    PERL_USE_UNSAFE_INC = 1
    SHELL = /bin/bash
    TERM = xterm-256color

Perl special variables (and OS-specific diagnostics, for MSWin32):

    $^X = /home/cpantester/perl5/perlbrew/perls/perl-5.34.1-ld-64int/bin/perl
    $UID/$EUID = 1001 / 1001
    $GID = 1001 1001
    $EGID = 1001 1001

Perl module toolchain versions installed:

    Module              Have    
    ------------------- --------
    CPAN                2.33    
    CPAN::Meta          2.150010
    Cwd                 3.80    
    ExtUtils::CBuilder  0.280236
    ExtUtils::Command   7.62    
    ExtUtils::Install   2.20    
    ExtUtils::MakeMaker 7.62    
    ExtUtils::Manifest  1.73    
    ExtUtils::ParseXS   3.43    
    File::Spec          3.80    
    JSON                n/a     
    JSON::PP            4.06    
    Module::Build       0.4231  
    Module::Signature   n/a     
    Parse::CPAN::Meta   2.150010
    Test::Harness       3.43    
    Test::More          1.302190
    YAML                1.30    
    YAML::Syck          n/a     
    version             0.9928  


--

Summary of my perl5 (revision 5 version 34 subversion 1) configuration:
   
  Platform:
    osname=linux
    osvers=5.10.0-13-686-pae
    archname=i686-linux-64int-ld
    uname='linux test-i86 5.10.0-13-686-pae #1 smp debian 5.10.106-1 (2022-03-17) i686 gnulinux '
    config_args='-de -Dprefix=/home/cpantester/perl5/perlbrew/perls/perl-5.34.1-ld-64int -Dman1dir=none -Dman3dir=none -Duselongdouble -Duse64bitint -Aeval:scriptdir=/home/cpantester/perl5/perlbrew/perls/perl-5.34.1-ld-64int/bin'
    hint=recommended
    useposix=true
    d_sigaction=define
    useithreads=undef
    usemultiplicity=undef
    use64bitint=define
    use64bitall=undef
    uselongdouble=define
    usemymalloc=n
    default_inc_excludes_dot=define
  Compiler:
    cc='cc'
    ccflags ='-fwrapv -fno-strict-aliasing -pipe -fstack-protector-strong -I/usr/local/include -D_LARGEFILE_SOURCE -D_FILE_OFFSET_BITS=64 -D_FORTIFY_SOURCE=2'
    optimize='-O2'
    cppflags='-fwrapv -fno-strict-aliasing -pipe -fstack-protector-strong -I/usr/local/include'
    ccversion=''
    gccversion='10.2.1 20210110'
    gccosandvers=''
    intsize=4
    longsize=4
    ptrsize=4
    doublesize=8
    byteorder=12345678
    doublekind=3
    d_longlong=define
    longlongsize=8
    d_longdbl=define
    longdblsize=12
    longdblkind=3
    ivtype='long long'
    ivsize=8
    nvtype='long double'
    nvsize=12
    Off_t='off_t'
    lseeksize=8
    alignbytes=4
    prototype=define
  Linker and Libraries:
    ld='cc'
    ldflags =' -fstack-protector-strong -L/usr/local/lib'
    libpth=/usr/local/lib /usr/lib/i386-linux-gnu /usr/lib /usr/lib64
    libs=-lpthread -lnsl -ldl -lm -lcrypt -lutil -lc
    perllibs=-lpthread -lnsl -ldl -lm -lcrypt -lutil -lc
    libc=libc-2.31.so
    so=so
    useshrplib=false
    libperl=libperl.a
    gnulibc_version='2.31'
  Dynamic Linking:
    dlsrc=dl_dlopen.xs
    dlext=so
    d_dlsymun=undef
    ccdlflags='-Wl,-E'
    cccdlflags='-fPIC'
    lddlflags='-shared -O2 -L/usr/local/lib -fstack-protector-strong'


Characteristics of this binary (from libperl): 
  Compile-time options:
    HAS_TIMES
    PERLIO_LAYERS
    PERL_COPY_ON_WRITE
    PERL_DONT_CREATE_GVSV
    PERL_MALLOC_WRAP
    PERL_OP_PARENT
    PERL_PRESERVE_IVUV
    USE_64_BIT_INT
    USE_LARGE_FILES
    USE_LOCALE
    USE_LOCALE_COLLATE
    USE_LOCALE_CTYPE
    USE_LOCALE_NUMERIC
    USE_LOCALE_TIME
    USE_LONG_DOUBLE
    USE_PERLIO
    USE_PERL_ATOF
  Built under linux
  Compiled at Apr  4 2022 14:09:21
  %ENV:
    PERL5LIB="/home/cpantester/.cpan/build/Font-AFM-1.20-4/blib/arch:/home/cpantester/.cpan/build/Font-AFM-1.20-4/blib/lib:/home/cpantester/.cpan/build/PerlIO-utf8_strict-0.009-4/blib/arch:/home/cpantester/.cpan/build/PerlIO-utf8_strict-0.009-4/blib/lib:/home/cpantester/.cpan/build/File-Slurper-0.013-4/blib/arch:/home/cpantester/.cpan/build/File-Slurper-0.013-4/blib/lib:/home/cpantester/.cpan/build/HTML-Tree-5.07-4/blib/arch:/home/cpantester/.cpan/build/HTML-Tree-5.07-4/blib/lib:/home/cpantester/.cpan/build/Test-LongString-0.17-3/blib/arch:/home/cpantester/.cpan/build/Test-LongString-0.17-3/blib/lib:/home/cpantester/.cpan/build/HTTP-Server-Simple-0.52-4/blib/arch:/home/cpantester/.cpan/build/HTTP-Server-Simple-0.52-4/blib/lib:/home/cpantester/.cpan/build/HTML-Form-6.07-4/blib/arch:/home/cpantester/.cpan/build/HTML-Form-6.07-4/blib/lib:/home/cpantester/.cpan/build/Carp-Assert-More-2.0.1-4/blib/arch:/home/cpantester/.cpan/build/Carp-Assert-More-2.0.1-4/blib/lib:/home/cpantester/.cpan/build/Sub-Attribute-0.07-3/blib/arch:/home/cpantester/.cpan/build/Sub-Attribute-0.07-3/blib/lib:/home/cpantester/.cpan/build/Class-Trigger-0.15-3/blib/arch:/home/cpantester/.cpan/build/Class-Trigger-0.15-3/blib/lib:/home/cpantester/.cpan/build/IO-Stringy-2.113-3/blib/arch:/home/cpantester/.cpan/build/IO-Stringy-2.113-3/blib/lib:/home/cpantester/.cpan/build/Dancer2-0.400000-4/blib/arch:/home/cpantester/.cpan/build/Dancer2-0.400000-4/blib/lib:/home/cpantester/.cpan/build/CGI-4.54-3/blib/arch:/home/cpantester/.cpan/build/CGI-4.54-3/blib/lib:/home/cpantester/.cpan/build/Plack-1.0048-4/blib/arch:/home/cpantester/.cpan/build/Plack-1.0048-4/blib/lib:/home/cpantester/.cpan/build/Moo-2.005004-3/blib/arch:/home/cpantester/.cpan/build/Moo-2.005004-3/blib/lib"
    PERL5OPT=""
    PERL5_CPANPLUS_IS_RUNNING="7808"
    PERL5_CPAN_IS_RUNNING="7808"
    PERL5_CPAN_IS_RUNNING_IN_RECURSION="6874,7808"
    PERL5_MINISMOKEBOX="0.68"
    PERLBREW_HOME="/home/cpantester/.perlbrew"
    PERLBREW_ROOT="/home/cpantester/perl5/perlbrew"
    PERLBREW_SHELLRC_VERSION="0.94"
    PERL_EXTUTILS_AUTOINSTALL="--defaultdeps"
    PERL_MM_USE_DEFAULT="1"
    PERL_USE_UNSAFE_INC="1"
  @INC:
    /home/cpantester/.cpan/build/Font-AFM-1.20-4/blib/arch
    /home/cpantester/.cpan/build/Font-AFM-1.20-4/blib/lib
    /home/cpantester/.cpan/build/PerlIO-utf8_strict-0.009-4/blib/arch
    /home/cpantester/.cpan/build/PerlIO-utf8_strict-0.009-4/blib/lib
    /home/cpantester/.cpan/build/File-Slurper-0.013-4/blib/arch
    /home/cpantester/.cpan/build/File-Slurper-0.013-4/blib/lib
    /home/cpantester/.cpan/build/HTML-Tree-5.07-4/blib/arch
    /home/cpantester/.cpan/build/HTML-Tree-5.07-4/blib/lib
    /home/cpantester/.cpan/build/Test-LongString-0.17-3/blib/arch
    /home/cpantester/.cpan/build/Test-LongString-0.17-3/blib/lib
    /home/cpantester/.cpan/build/HTTP-Server-Simple-0.52-4/blib/arch
    /home/cpantester/.cpan/build/HTTP-Server-Simple-0.52-4/blib/lib
    /home/cpantester/.cpan/build/HTML-Form-6.07-4/blib/arch
    /home/cpantester/.cpan/build/HTML-Form-6.07-4/blib/lib
    /home/cpantester/.cpan/build/Carp-Assert-More-2.0.1-4/blib/arch
    /home/cpantester/.cpan/build/Carp-Assert-More-2.0.1-4/blib/lib
    /home/cpantester/.cpan/build/Sub-Attribute-0.07-3/blib/arch
    /home/cpantester/.cpan/build/Sub-Attribute-0.07-3/blib/lib
    /home/cpantester/.cpan/build/Class-Trigger-0.15-3/blib/arch
    /home/cpantester/.cpan/build/Class-Trigger-0.15-3/blib/lib
    /home/cpantester/.cpan/build/IO-Stringy-2.113-3/blib/arch
    /home/cpantester/.cpan/build/IO-Stringy-2.113-3/blib/lib
    /home/cpantester/.cpan/build/Dancer2-0.400000-4/blib/arch
    /home/cpantester/.cpan/build/Dancer2-0.400000-4/blib/lib
    /home/cpantester/.cpan/build/CGI-4.54-3/blib/arch
    /home/cpantester/.cpan/build/CGI-4.54-3/blib/lib
    /home/cpantester/.cpan/build/Plack-1.0048-4/blib/arch
    /home/cpantester/.cpan/build/Plack-1.0048-4/blib/lib
    /home/cpantester/.cpan/build/Moo-2.005004-3/blib/arch
    /home/cpantester/.cpan/build/Moo-2.005004-3/blib/lib
    /home/cpantester/perl5/perlbrew/perls/perl-5.34.1-ld-64int/lib/site_perl/5.34.1/i686-linux-64int-ld
    /home/cpantester/perl5/perlbrew/perls/perl-5.34.1-ld-64int/lib/site_perl/5.34.1
    /home/cpantester/perl5/perlbrew/perls/perl-5.34.1-ld-64int/lib/5.34.1/i686-linux-64int-ld
    /home/cpantester/perl5/perlbrew/perls/perl-5.34.1-ld-64int/lib/5.34.1
    .