Dancer-Plugin-Swagger v0.3.0 Perl 5 v5.41.7 x86_64-linux

Status
Pass
From
Slaven Rezić
Dist
Dancer-Plugin-Swagger v0.3.0
Platform
Perl 5 v5.41.7 x86_64-linux
Date
2024-12-30 12:46:06
ID
093aa9f4-c6ac-11ef-b045-0ff86d8775ea
This distribution has been tested as part of the CPAN Testers
project, supporting the Perl programming language.  See
http://wiki.cpantesters.org/ for more information or email
questions to cpan-testers-discuss@perl.org


--
Dear Yanick Champoux,

This is a computer-generated report for Dancer-Plugin-Swagger-0.3.0
on perl 5.41.7, created by CPAN-Reporter-1.2020.

Thank you for uploading your work to CPAN.  Congratulations!
All tests were successful.

Sections of this report:

    * Tester comments
    * Program output
    * Prerequisites
    * Environment and other context

------------------------------
TESTER COMMENTS
------------------------------

Additional comments from tester:

none provided

------------------------------
PROGRAM OUTPUT
------------------------------

Output from '/usr/bin/make test':

Skip blib/lib/auto/share/dist/Dancer-Plugin-Swagger/shared-files.tar.gz (unchanged)
PERL_DL_NONLAZY=1 "/opt/perl-5.41.7/bin/perl5.41.7" "-MExtUtils::Command::MM" "-MTest::Harness" "-e" "undef *Test::Harness::Switches; test_harness(0, 'blib/lib', 'blib/arch')" t/*.t
t/00-compile.t ......... ok
# 
# Versions for all modules listed in MYMETA.json (including optional ones):
# 
# === Configure Requires ===
# 
#     Module                  Want Have
#     ----------------------- ---- ----
#     ExtUtils::MakeMaker      any 7.70
#     File::ShareDir::Install 0.06 0.14
# 
# === Build Requires ===
# 
#     Module              Want Have
#     ------------------- ---- ----
#     ExtUtils::MakeMaker  any 7.70
# 
# === Test Requires ===
# 
#     Module                     Want     Have
#     -------------------------- ---- --------
#     ExtUtils::MakeMaker         any     7.70
#     File::Spec                  any     3.93
#     IO::Handle                  any     1.55
#     IPC::Open3                  any     1.24
#     Test::Deep                  any    1.204
#     Test::More                  any 1.302206
#     Test::WWW::Mechanize::PSGI  any     0.39
# 
# === Test Recommends ===
# 
#     Module         Want     Have
#     ---------- -------- --------
#     CPAN::Meta 2.120900 2.150010
# 
# === Runtime Requires ===
# 
#     Module                  Want     Have
#     ----------------------- ---- --------
#     Carp                     any     1.54
#     Class::Load              any     0.25
#     Clone                    any     0.47
#     Dancer                   any   1.3521
#     Dancer::Plugin           any   1.3521
#     Dancer::Plugin::REST     any     0.11
#     Dancer::Response         any   1.3521
#     File::ShareDir::Tarball  any    0.2.2
#     Hash::Merge              any    0.302
#     JSON                     any     4.10
#     List::AllUtils           any     0.19
#     Module::Version          any    0.201
#     Moo                      any 2.005005
#     MooX::Singleton          any     1.20
#     MooseX::MungeHas         any    0.011
#     Path::Tiny               any    0.146
#     PerlX::Maybe             any    1.202
#     overload                 any     1.39
#     strict                   any     1.13
#     warnings                 any     1.72
# 
t/00-report-prereqs.t .. ok
t/basic.t .............. ok
t/definition.t ......... ok
All tests successful.
Files=4, Tests=12,  2 wallclock secs ( 0.04 usr  0.01 sys +  1.76 cusr  0.29 csys =  2.10 CPU)
Result: PASS

------------------------------
PREREQUISITES
------------------------------

Prerequisite modules loaded:

requires:

    Module                     Need  Have    
    -------------------------- ----- --------
    Carp                       0     1.54    
    Class::Load                0     0.25    
    Clone                      0     0.47    
    Dancer                     0     1.3521  
    Dancer::Plugin             0     1.3521  
    Dancer::Plugin::REST       0     0.11    
    Dancer::Response           0     1.3521  
    File::ShareDir::Tarball    0     0.2.2   
    Hash::Merge                0     0.302   
    JSON                       0     4.10    
    List::AllUtils             0     0.19    
    Module::Version            0     0.201   
    Moo                        0     2.005005
    MooseX::MungeHas           0     0.011   
    MooX::Singleton            0     1.20    
    overload                   0     1.39    
    Path::Tiny                 0     0.146   
    perl                       5.006 5.041007
    PerlX::Maybe               0     1.202   
    strict                     0     1.13    
    warnings                   0     1.72    

build_requires:

    Module                     Need  Have    
    -------------------------- ----- --------
    ExtUtils::MakeMaker        0     7.70    
    File::Spec                 0     3.93    
    IO::Handle                 0     1.55    
    IPC::Open3                 0     1.24    
    Test::Deep                 0     1.204   
    Test::More                 0     1.302206
    Test::WWW::Mechanize::PSGI 0     0.39    

configure_requires:

    Module                     Need  Have    
    -------------------------- ----- --------
    ExtUtils::MakeMaker        0     7.70    
    File::ShareDir::Install    0.06  0.14    


------------------------------
ENVIRONMENT AND OTHER CONTEXT
------------------------------

Environment variables:

    LANG = C
    PATH = /usr/local/bin:/usr/bin:/bin:/usr/local/sbin:/usr/sbin:/sbin:/home/cpansand/bin/linux-gnu:/home/cpansand/bin/sh:/home/cpansand/bin:/usr/games:/home/cpansand/devel:/home/eserte/src/srezic-misc/scripts
    PERL = /opt/perl-5.41.7/bin/perl5.41.7
    PERL5LIB = 
    PERL5OPT = 
    PERL5_CPANPLUS_IS_RUNNING = 2987468
    PERL5_CPAN_IS_RUNNING = 2987468
    PERL5_CPAN_IS_RUNNING_IN_RECURSION = 2986986,2987468
    PERLDOC = -MPod::Perldoc::ToTextOverstrike
    PERL_BATCH = yes
    PERL_CANARY_STABILITY_NOPROMPT = 1
    PERL_CPAN_REPORTER_CONFIG = /var/tmp/cpansmoker-1023/2024123011/cpanreporter_000_config.ini
    PERL_EXTUTILS_AUTOINSTALL = --defaultdeps
    PERL_USE_UNSAFE_INC = 1
    SHELL = /usr/bin/zsh
    TERM = screen
    TMPDIR = /var/tmp/cpansmoker-1023/2024123011

Perl special variables (and OS-specific diagnostics, for MSWin32):

    $^X = /opt/perl-5.41.7/bin/perl5.41.7
    $UID/$EUID = 1023 / 1023
    $GID = 1023 1023
    $EGID = 1023 1023

Perl module toolchain versions installed:

    Module              Have    
    ------------------- --------
    CPAN                2.38    
    CPAN::Meta          2.150010
    Cwd                 3.92    
    ExtUtils::CBuilder  0.280240
    ExtUtils::Command   7.70    
    ExtUtils::Install   2.22    
    ExtUtils::MakeMaker 7.70    
    ExtUtils::Manifest  1.75    
    ExtUtils::ParseXS   3.56    
    File::Spec          3.93    
    JSON                4.10    
    JSON::PP            4.16    
    Module::Build       0.4234  
    Module::Signature   n/a     
    Parse::CPAN::Meta   2.150010
    Test2               1.302206
    Test::Harness       3.50    
    Test::More          1.302206
    YAML                1.31    
    YAML::Syck          1.34    
    version             0.9933  


--

Summary of my perl5 (revision 5 version 41 subversion 7) configuration:
   
  Platform:
    osname=linux
    osvers=6.1.0-28-amd64
    archname=x86_64-linux
    uname='linux cloud5.bbbike.org 6.1.0-28-amd64 #1 smp preempt_dynamic debian 6.1.119-1 (2024-11-22) x86_64 gnulinux '
    config_args='-ds -e -Dprefix=/opt/perl-5.41.7 -Uinstallusrbinperl -Dusedevel -Dusemallocwrap=no -Dcf_email=srezic@cpan.org'
    hint=recommended
    useposix=true
    d_sigaction=define
    useithreads=undef
    usemultiplicity=undef
    use64bitint=define
    use64bitall=define
    uselongdouble=undef
    usemymalloc=n
    default_inc_excludes_dot=define
  Compiler:
    cc='cc'
    ccflags ='-fwrapv -fno-strict-aliasing -pipe -fstack-protector-strong -I/usr/local/include -D_LARGEFILE_SOURCE -D_FILE_OFFSET_BITS=64 -D_FORTIFY_SOURCE=2'
    optimize='-O2'
    cppflags='-fwrapv -fno-strict-aliasing -pipe -fstack-protector-strong -I/usr/local/include'
    ccversion=''
    gccversion='12.2.0'
    gccosandvers=''
    intsize=4
    longsize=8
    ptrsize=8
    doublesize=8
    byteorder=12345678
    doublekind=3
    d_longlong=define
    longlongsize=8
    d_longdbl=define
    longdblsize=16
    longdblkind=3
    ivtype='long'
    ivsize=8
    nvtype='double'
    nvsize=8
    Off_t='off_t'
    lseeksize=8
    alignbytes=8
    prototype=define
  Linker and Libraries:
    ld='cc'
    ldflags =' -fstack-protector-strong -L/usr/local/lib'
    libpth=/usr/local/lib /usr/lib/x86_64-linux-gnu /usr/lib /usr/lib64
    libs=-lpthread -lgdbm -ldb -ldl -lm -lcrypt -lutil -lc
    perllibs=-lpthread -ldl -lm -lcrypt -lutil -lc
    libc=/lib/x86_64-linux-gnu/libc.so.6
    so=so
    useshrplib=false
    libperl=libperl.a
    gnulibc_version='2.36'
  Dynamic Linking:
    dlsrc=dl_dlopen.xs
    dlext=so
    d_dlsymun=undef
    ccdlflags='-Wl,-E'
    cccdlflags='-fPIC'
    lddlflags='-shared -O2 -L/usr/local/lib -fstack-protector-strong'


Characteristics of this binary (from libperl): 
  Compile-time options:
    HAS_LONG_DOUBLE
    HAS_STRTOLD
    HAS_TIMES
    PERLIO_LAYERS
    PERL_COPY_ON_WRITE
    PERL_DONT_CREATE_GVSV
    PERL_HASH_FUNC_SIPHASH13
    PERL_HASH_USE_SBOX32
    PERL_OP_PARENT
    PERL_PRESERVE_IVUV
    PERL_USE_DEVEL
    PERL_USE_SAFE_PUTENV
    USE_64_BIT_ALL
    USE_64_BIT_INT
    USE_LARGE_FILES
    USE_LOCALE
    USE_LOCALE_COLLATE
    USE_LOCALE_CTYPE
    USE_LOCALE_NUMERIC
    USE_LOCALE_TIME
    USE_PERLIO
    USE_PERL_ATOF
  Built under linux
  Compiled at Dec 22 2024 14:35:42
  %ENV:
    PERL="/opt/perl-5.41.7/bin/perl5.41.7"
    PERL5LIB=""
    PERL5OPT=""
    PERL5_CPANPLUS_IS_RUNNING="2987468"
    PERL5_CPAN_IS_RUNNING="2987468"
    PERL5_CPAN_IS_RUNNING_IN_RECURSION="2986986,2987468"
    PERLDOC="-MPod::Perldoc::ToTextOverstrike"
    PERL_BATCH="yes"
    PERL_CANARY_STABILITY_NOPROMPT="1"
    PERL_CPAN_REPORTER_CONFIG="/var/tmp/cpansmoker-1023/2024123011/cpanreporter_000_config.ini"
    PERL_EXTUTILS_AUTOINSTALL="--defaultdeps"
    PERL_USE_UNSAFE_INC="1"
  @INC:
    /opt/perl-5.41.7/lib/site_perl/5.41.7/x86_64-linux
    /opt/perl-5.41.7/lib/site_perl/5.41.7
    /opt/perl-5.41.7/lib/5.41.7/x86_64-linux
    /opt/perl-5.41.7/lib/5.41.7
    .