Dist-Zilla-Plugin-CopyFilesFromBuild v0.170880 Perl 5 v5.26.2 OpenBSD.amd64-openbsd-thread-multi
- Status
- Pass
- From
- Alceu Rodrigues de Freitas Junior
- Dist
-
Dist-Zilla-Plugin-CopyFilesFromBuild v0.170880
- Platform
- Perl 5 v5.26.2 OpenBSD.amd64-openbsd-thread-multi
- Date
- 2018-09-09 08:33:32
- ID
- 09164920-b40b-11e8-8b46-97d823f1c0c4
This distribution has been tested as part of the CPAN Testers
project, supporting the Perl programming language. See
http://wiki.cpantesters.org/ for more information or email
questions to cpan-testers-discuss@perl.org
--
Dear Ryan C. Thompson,
This is a computer-generated report for Dist-Zilla-Plugin-CopyFilesFromBuild-0.170880
on perl 5.26.2, created by CPAN-Reporter-1.2018.
Thank you for uploading your work to CPAN. Congratulations!
All tests were successful.
Sections of this report:
* Tester comments
* Program output
* Prerequisites
* Environment and other context
------------------------------
TESTER COMMENTS
------------------------------
Additional comments from tester:
this report is from an automated smoke testing program
and was not reviewed by a human for accuracy
------------------------------
PROGRAM OUTPUT
------------------------------
Output from '/usr/bin/make test':
PERL_DL_NONLAZY=1 "/home/vegeta/perl5/perlbrew/perls/perl-5.26.2/bin/perl" "-MExtUtils::Command::MM" "-MTest::Harness" "-e" "undef *Test::Harness::Switches; test_harness(0, 'blib/lib', 'blib/arch')" t/*.t
t/00-compile.t ........... ok
# Testing with Perl 5.026002, /home/vegeta/perl5/perlbrew/perls/perl-5.26.2/bin/perl
# Carp version is 1.42
# Dist::Zilla::Plugin::ReadmeAnyFromPod version is 0.163250
# Dist::Zilla::Role::AfterBuild version is 6.012
# ExtUtils::MakeMaker version is 7.34
# File::Copy version is 2.32
# File::Spec version is 3.75
# IO::File version is 1.16
# IO::Handle version is 1.36
# IPC::Open3 version is 1.20
# List::Util version is 1.5
# Moose version is 2.2011
# MooseX::Has::Sugar version is 1.000006
# Path::Tiny version is 0.108
# Scalar::Util version is 1.5
# Set::Scalar version is 1.29
# Test::DZil version is 6.012
# Test::Exception version is 0.43
# Test::More version is 1.302140
# Test::Most version is 0.35
# autodie version is 2.29
# blib version is 1.06
# strict version is 1.11
# utf8 version is 1.19
# warnings version is 1.37
t/000-report-versions.t .. ok
t/author-critic.t ........ skipped: these tests are for testing by the author
t/author-pod-coverage.t .. skipped: these tests are for testing by the author
t/author-pod-syntax.t .... skipped: these tests are for testing by the author
t/basic.t ................ ok
t/release-has-version.t .. skipped: these tests are for release candidate testing
t/release-kwalitee.t ..... skipped: these tests are for release candidate testing
t/release-portability.t .. skipped: these tests are for release candidate testing
t/release-unused-vars.t .. skipped: these tests are for release candidate testing
All tests successful.
Files=10, Tests=34, 3 wallclock secs ( 0.03 usr 0.08 sys + 1.87 cusr 0.53 csys = 2.51 CPU)
Result: PASS
------------------------------
PREREQUISITES
------------------------------
Prerequisite modules loaded:
requires:
Module Need Have
------------------------------------- ----- --------
Dist::Zilla::Role::AfterBuild 0 6.012
File::Copy 0 2.32
IO::File 0 1.16
List::Util 1.33 1.50
Moose 0 2.2011
MooseX::Has::Sugar 0 1.000006
Path::Tiny 0 0.108
perl 5.008 5.026002
Set::Scalar 0 1.29
strict 0 1.11
utf8 0 1.19
warnings 0 1.37
build_requires:
Module Need Have
------------------------------------- ----- --------
autodie 0 2.29
blib 1.01 1.06
Carp 0 1.42
Dist::Zilla::Plugin::ReadmeAnyFromPod 0 0.163250
ExtUtils::MakeMaker 0 7.34
File::Spec 0 3.75
IO::Handle 0 1.36
IPC::Open3 0 1.20
Scalar::Util 0 1.50
Test::DZil 0 6.012
Test::Exception 0 0.43
Test::More 0.94 1.302140
Test::Most 0 0.35
configure_requires:
Module Need Have
------------------------------------- ----- --------
ExtUtils::MakeMaker 0 7.34
perl 5.008 5.026002
------------------------------
ENVIRONMENT AND OTHER CONTEXT
------------------------------
Environment variables:
AUTOMATED_TESTING = 1
DBD_MYSQL_TESTDB = test
DBD_MYSQL_TESTHOST = localhost
DBD_MYSQL_TESTPASSWORD =
DBD_MYSQL_TESTPORT = 3306
DBD_MYSQL_TESTUSER = vegeta
EXTENDED_TESTING = 1
PATH = /home/vegeta/perl5/perlbrew/bin:/home/vegeta/perl5/perlbrew/perls/perl-5.26.2/bin:/home/vegeta/bin:/usr/bin:/bin:/usr/sbin:/sbin:/usr/X11R6/bin:/usr/local/bin:/usr/local/sbin
PERL5LIB =
PERL5OPT =
PERL5_CPANPLUS_IS_RUNNING = 52175
PERL5_CPAN_IS_RUNNING = 52175
PERL5_CPAN_IS_RUNNING_IN_RECURSION = 44486,52175
PERLBREW_HOME = /home/vegeta/.perlbrew
PERLBREW_MANPATH = /home/vegeta/perl5/perlbrew/perls/perl-5.26.2/man
PERLBREW_PATH = /home/vegeta/perl5/perlbrew/bin:/home/vegeta/perl5/perlbrew/perls/perl-5.26.2/bin
PERLBREW_PERL = perl-5.26.2
PERLBREW_ROOT = /home/vegeta/perl5/perlbrew
PERLBREW_SHELLRC_VERSION = 0.84
PERLBREW_VERSION = 0.84
PERL_CR_SMOKER_CURRENT = Dist-Zilla-PluginBundle-Author-Plicease-2.28
PERL_EXTUTILS_AUTOINSTALL = --defaultdeps
PERL_MM_USE_DEFAULT = 1
PERL_USE_UNSAFE_INC = 1
SHELL = /usr/local/bin/bash
TERM = xterm
Perl special variables (and OS-specific diagnostics, for MSWin32):
$^X = /home/vegeta/perl5/perlbrew/perls/perl-5.26.2/bin/perl
$UID/$EUID = 1002 / 1002
$GID = 1002 1002 1001
$EGID = 1002 1002 1001
Perl module toolchain versions installed:
Module Have
------------------- ----------
CPAN 2.18
CPAN::Meta 2.150010
Cwd 3.75
ExtUtils::CBuilder 0.280230
ExtUtils::Command 7.34
ExtUtils::Install 2.06
ExtUtils::MakeMaker 7.34
ExtUtils::Manifest 1.70
ExtUtils::ParseXS 3.34
File::Spec 3.75
JSON 2.97001
JSON::PP 2.27400_02
Module::Build 0.4224
Module::Signature n/a
Parse::CPAN::Meta 2.150010
Test::Harness 3.42
Test::More 1.302140
YAML 1.26
YAML::Syck n/a
version 0.9917
--
Summary of my perl5 (revision 5 version 26 subversion 2) configuration:
Platform:
osname=openbsd
osvers=6.3
archname=OpenBSD.amd64-openbsd-thread-multi
uname='openbsd cpan-smoker-openbsd 6.3 generic.mp#107 amd64 '
config_args='-de -Dprefix=/home/vegeta/perl5/perlbrew/perls/perl-5.26.2 -Dman1dir=none -Dman3dir=none -Dusethreads -Aeval:scriptdir=/home/vegeta/perl5/perlbrew/perls/perl-5.26.2/bin'
hint=recommended
useposix=true
d_sigaction=define
useithreads=define
usemultiplicity=define
use64bitint=define
use64bitall=define
uselongdouble=undef
usemymalloc=n
default_inc_excludes_dot=define
bincompat5005=undef
Compiler:
cc='cc'
ccflags ='-pthread -fno-strict-aliasing -pipe -fstack-protector-strong -I/usr/local/include -D_FORTIFY_SOURCE=2'
optimize='-O2'
cppflags='-pthread -fno-strict-aliasing -pipe -fstack-protector-strong -I/usr/local/include'
ccversion=''
gccversion='4.2.1 Compatible OpenBSD Clang 5.0.1 (tags/RELEASE_501/final)'
gccosandvers=''
intsize=4
longsize=8
ptrsize=8
doublesize=8
byteorder=12345678
doublekind=3
d_longlong=define
longlongsize=8
d_longdbl=define
longdblsize=16
longdblkind=3
ivtype='long'
ivsize=8
nvtype='double'
nvsize=8
Off_t='off_t'
lseeksize=8
alignbytes=8
prototype=define
Linker and Libraries:
ld='cc'
ldflags ='-pthread -Wl,-E -fstack-protector-strong -L/usr/local/lib'
libpth=/usr/lib /usr/local/lib
libs=-lpthread -lm -lutil -lc
perllibs=-lpthread -lm -lutil -lc
libc=/usr/lib/libc.so.92.3
so=so
useshrplib=false
libperl=libperl.a
gnulibc_version=''
Dynamic Linking:
dlsrc=dl_dlopen.xs
dlext=so
d_dlsymun=undef
ccdlflags=' '
cccdlflags='-DPIC -fPIC '
lddlflags='-shared -fPIC -L/usr/local/lib -fstack-protector-strong'
Characteristics of this binary (from libperl):
Compile-time options:
HAS_TIMES
MULTIPLICITY
PERLIO_LAYERS
PERL_COPY_ON_WRITE
PERL_DONT_CREATE_GVSV
PERL_IMPLICIT_CONTEXT
PERL_MALLOC_WRAP
PERL_OP_PARENT
PERL_PRESERVE_IVUV
USE_64_BIT_ALL
USE_64_BIT_INT
USE_ITHREADS
USE_LARGE_FILES
USE_LOCALE
USE_LOCALE_COLLATE
USE_LOCALE_CTYPE
USE_LOCALE_NUMERIC
USE_LOCALE_TIME
USE_PERLIO
USE_PERL_ATOF
USE_REENTRANT_API
Locally applied patches:
Devel::PatchPerl 1.52
Built under openbsd
Compiled at Sep 8 2018 15:37:18
%ENV:
PERL5LIB=""
PERL5OPT=""
PERL5_CPANPLUS_IS_RUNNING="52175"
PERL5_CPAN_IS_RUNNING="52175"
PERL5_CPAN_IS_RUNNING_IN_RECURSION="44486,52175"
PERLBREW_HOME="/home/vegeta/.perlbrew"
PERLBREW_MANPATH="/home/vegeta/perl5/perlbrew/perls/perl-5.26.2/man"
PERLBREW_PATH="/home/vegeta/perl5/perlbrew/bin:/home/vegeta/perl5/perlbrew/perls/perl-5.26.2/bin"
PERLBREW_PERL="perl-5.26.2"
PERLBREW_ROOT="/home/vegeta/perl5/perlbrew"
PERLBREW_SHELLRC_VERSION="0.84"
PERLBREW_VERSION="0.84"
PERL_CR_SMOKER_CURRENT="Dist-Zilla-PluginBundle-Author-Plicease-2.28"
PERL_EXTUTILS_AUTOINSTALL="--defaultdeps"
PERL_MM_USE_DEFAULT="1"
PERL_USE_UNSAFE_INC="1"
@INC:
/home/vegeta/perl5/perlbrew/perls/perl-5.26.2/lib/site_perl/5.26.2/OpenBSD.amd64-openbsd-thread-multi
/home/vegeta/perl5/perlbrew/perls/perl-5.26.2/lib/site_perl/5.26.2
/home/vegeta/perl5/perlbrew/perls/perl-5.26.2/lib/5.26.2/OpenBSD.amd64-openbsd-thread-multi
/home/vegeta/perl5/perlbrew/perls/perl-5.26.2/lib/5.26.2
.