Back
From: metabase:user:30ae4450-2aae-11df-837a-5e0a49663a4f
Subject: PASS Data-Pipeline-0.02 v5.22.1
Date: 2016-04-18T21:36:54Z
This distribution has been tested as part of the CPAN Testers
project, supporting the Perl programming language. See
http://wiki.cpantesters.org/ for more information or email
questions to cpan-testers-discuss@perl.org
--
Dear James G Smith,
This is a computer-generated report for Data-Pipeline-0.02
on perl 5.22.1, created by CPAN-Reporter-1.2017.
Thank you for uploading your work to CPAN. Congratulations!
All tests were successful.
Sections of this report:
* Tester comments
* Program output
* Prerequisites
* Environment and other context
------------------------------
TESTER COMMENTS
------------------------------
Additional comments from tester:
this report is from an automated smoke testing program
and was not reviewed by a human for accuracy
------------------------------
PROGRAM OUTPUT
------------------------------
Output from 'C:\STRAWB~1\c\bin\dmake.exe test':
"C:\Strawberry221\perl\bin\perl.exe" "-MExtUtils::Command::MM" "-MTest::Harness" "-e" "undef *Test::Harness::Switches; test_harness(0, 'inc', 'blib\lib', 'blib\arch')" t/*.t
Class::MOP::load_class is deprecated at C:/Strawberry221/perl/vendor/lib/Class/MOP.pm line 69.
Class::MOP::load_class("Data::Pipeline::Aggregator::Machine") called at C:\STRAWB~1\cpan\build\Data-Pipeline-0.02-9UqjgT\blib\lib/Data/Pipeline/Machine.pm line 20
Data::Pipeline::Machine::BEGIN() called at C:\STRAWB~1\cpan\build\Data-Pipeline-0.02-9UqjgT\blib\lib/Data/Pipeline/Machine.pm line 22
eval {...} called at C:\STRAWB~1\cpan\build\Data-Pipeline-0.02-9UqjgT\blib\lib/Data/Pipeline/Machine.pm line 22
require Data/Pipeline/Machine.pm called at C:\STRAWB~1\cpan\build\Data-Pipeline-0.02-9UqjgT\blib\lib/Data/Pipeline/Aggregator/Machine.pm line 6
Data::Pipeline::Aggregator::Machine::BEGIN() called at C:\STRAWB~1\cpan\build\Data-Pipeline-0.02-9UqjgT\blib\lib/Data/Pipeline/Machine.pm line 22
eval {...} called at C:\STRAWB~1\cpan\build\Data-Pipeline-0.02-9UqjgT\blib\lib/Data/Pipeline/Machine.pm line 22
require Data/Pipeline/Aggregator/Machine.pm called at C:\STRAWB~1\cpan\build\Data-Pipeline-0.02-9UqjgT\blib\lib/Data/Pipeline/Adapter.pm line 9
Data::Pipeline::Adapter::BEGIN() called at C:\STRAWB~1\cpan\build\Data-Pipeline-0.02-9UqjgT\blib\lib/Data/Pipeline/Machine.pm line 22
eval {...} called at C:\STRAWB~1\cpan\build\Data-Pipeline-0.02-9UqjgT\blib\lib/Data/Pipeline/Machine.pm line 22
require Data/Pipeline/Adapter.pm called at t/00-compile.t line 16
main::BEGIN() called at C:\STRAWB~1\cpan\build\Data-Pipeline-0.02-9UqjgT\blib\lib/Data/Pipeline/Machine.pm line 22
eval {...} called at C:\STRAWB~1\cpan\build\Data-Pipeline-0.02-9UqjgT\blib\lib/Data/Pipeline/Machine.pm line 22
eval 'package main;
#line 16 t/00-compile.t
use Data::Pipeline::Adapter @{$args[0]};
1;
' called at C:/Strawberry221/perl/lib/Test/More.pm line 993
Test::More::_eval("package main;\x{a}\x{a}#line 16 t/00-compile.t\x{a}use Data::Pipeline::Ad"..., ARRAY(0xaa9d7c)) called at C:/Strawberry221/perl/lib/Test/More.pm line 968
Test::More::use_ok("Data::Pipeline::Adapter") called at t/00-compile.t line 16
main::BEGIN() called at C:\STRAWB~1\cpan\build\Data-Pipeline-0.02-9UqjgT\blib\lib/Data/Pipeline/Machine.pm line 22
eval {...} called at C:\STRAWB~1\cpan\build\Data-Pipeline-0.02-9UqjgT\blib\lib/Data/Pipeline/Machine.pm line 22
t/00-compile.t ......... ok
t/01-iteratorsource.t .. ok
t/02-iterator.t ........ ok
Class::MOP::load_class is deprecated at C:/Strawberry221/perl/vendor/lib/Class/MOP.pm line 69.
Class::MOP::load_class("Data::Pipeline::Aggregator::Machine") called at C:\STRAWB~1\cpan\build\Data-Pipeline-0.02-9UqjgT\blib\lib/Data/Pipeline/Machine.pm line 20
Data::Pipeline::Machine::BEGIN() called at C:\STRAWB~1\cpan\build\Data-Pipeline-0.02-9UqjgT\blib\lib/Data/Pipeline/Machine.pm line 22
eval {...} called at C:\STRAWB~1\cpan\build\Data-Pipeline-0.02-9UqjgT\blib\lib/Data/Pipeline/Machine.pm line 22
require Data/Pipeline/Machine.pm called at C:\STRAWB~1\cpan\build\Data-Pipeline-0.02-9UqjgT\blib\lib/Data/Pipeline/Aggregator/Machine.pm line 6
Data::Pipeline::Aggregator::Machine::BEGIN() called at C:\STRAWB~1\cpan\build\Data-Pipeline-0.02-9UqjgT\blib\lib/Data/Pipeline/Machine.pm line 22
eval {...} called at C:\STRAWB~1\cpan\build\Data-Pipeline-0.02-9UqjgT\blib\lib/Data/Pipeline/Machine.pm line 22
require Data/Pipeline/Aggregator/Machine.pm called at C:\STRAWB~1\cpan\build\Data-Pipeline-0.02-9UqjgT\blib\lib/Data/Pipeline/Adapter.pm line 9
Data::Pipeline::Adapter::BEGIN() called at C:\STRAWB~1\cpan\build\Data-Pipeline-0.02-9UqjgT\blib\lib/Data/Pipeline/Machine.pm line 22
eval {...} called at C:\STRAWB~1\cpan\build\Data-Pipeline-0.02-9UqjgT\blib\lib/Data/Pipeline/Machine.pm line 22
require Data/Pipeline/Adapter.pm called at C:/Strawberry221/perl/vendor/lib/Module/Runtime.pm line 317
Module::Runtime::require_module("Data::Pipeline::Adapter") called at C:/Strawberry221/perl/vendor/lib/Module/Runtime.pm line 381
eval {...} called at C:/Strawberry221/perl/vendor/lib/Module/Runtime.pm line 381
Module::Runtime::use_package_optimistically("Data::Pipeline::Adapter") called at C:/Strawberry221/perl/vendor/lib/Moose/Util.pm line 352
Moose::Util::_load_user_class("Data::Pipeline::Adapter", undef) called at C:/Strawberry221/perl/vendor/lib/Moose/Meta/Class.pm line 557
Moose::Meta::Class::superclasses(undef, "Data::Pipeline::Adapter") called at C:/Strawberry221/perl/vendor/lib/Moose.pm line 55
Moose::extends(Moose::Meta::Class=HASH(0x13b6b04), "Data::Pipeline::Adapter") called at C:/Strawberry221/perl/vendor/lib/Moose/Exporter.pm line 419
Moose::extends("Data::Pipeline::Adapter") called at C:\STRAWB~1\cpan\build\Data-Pipeline-0.02-9UqjgT\blib\lib/Data/Pipeline/Adapter/Array.pm line 4
require Data/Pipeline/Adapter/Array.pm called at t/03-arraysource.t line 3
main::BEGIN() called at C:\STRAWB~1\cpan\build\Data-Pipeline-0.02-9UqjgT\blib\lib/Data/Pipeline/Machine.pm line 22
eval {...} called at C:\STRAWB~1\cpan\build\Data-Pipeline-0.02-9UqjgT\blib\lib/Data/Pipeline/Machine.pm line 22
Class::MOP::load_class is deprecated at C:/Strawberry221/perl/vendor/lib/Class/MOP.pm line 69.
Class::MOP::load_class("Data::Pipeline::Iterator") called at C:\STRAWB~1\cpan\build\Data-Pipeline-0.02-9UqjgT\blib\lib/Data/Pipeline/Types.pm line 123
Data::Pipeline::Types::__ANON__(Data::Pipeline::Iterator::Source=HASH(0x99ff74)) called at C:/Strawberry221/perl/vendor/lib/Moose/Meta/TypeCoercion.pm line 65
Moose::Meta::TypeCoercion::__ANON__(Data::Pipeline::Iterator::Source=HASH(0x99ff74)) called at C:/Strawberry221/perl/vendor/lib/Moose/Meta/TypeCoercion.pm line 100
Moose::Meta::TypeCoercion::coerce(Moose::Meta::TypeCoercion=HASH(0x14f135c), Data::Pipeline::Iterator::Source=HASH(0x99ff74)) called at C:/Strawberry221/perl/vendor/lib/Moose/Meta/TypeConstraint.pm line 145
Moose::Meta::TypeConstraint::coerce(Moose::Meta::TypeConstraint=HASH(0x14fc25c), Data::Pipeline::Iterator::Source=HASH(0x99ff74)) called at C:/Strawberry221/perl/vendor/lib/MooseX/Types.pm line 494
MooseX::Types::__ANON__(Data::Pipeline::Iterator::Source=HASH(0x99ff74)) called at t/03-arraysource.t line 17
t/03-arraysource.t ..... ok
Class::MOP::load_class is deprecated at C:/Strawberry221/perl/vendor/lib/Class/MOP.pm line 69.
Class::MOP::load_class("Data::Pipeline::Aggregator::Machine") called at C:\STRAWB~1\cpan\build\Data-Pipeline-0.02-9UqjgT\blib\lib/Data/Pipeline/Machine.pm line 20
Data::Pipeline::Machine::BEGIN() called at C:\STRAWB~1\cpan\build\Data-Pipeline-0.02-9UqjgT\blib\lib/Data/Pipeline/Machine.pm line 22
eval {...} called at C:\STRAWB~1\cpan\build\Data-Pipeline-0.02-9UqjgT\blib\lib/Data/Pipeline/Machine.pm line 22
require Data/Pipeline/Machine.pm called at C:\STRAWB~1\cpan\build\Data-Pipeline-0.02-9UqjgT\blib\lib/Data/Pipeline/Aggregator/Machine.pm line 6
Data::Pipeline::Aggregator::Machine::BEGIN() called at C:\STRAWB~1\cpan\build\Data-Pipeline-0.02-9UqjgT\blib\lib/Data/Pipeline/Machine.pm line 22
eval {...} called at C:\STRAWB~1\cpan\build\Data-Pipeline-0.02-9UqjgT\blib\lib/Data/Pipeline/Machine.pm line 22
require Data/Pipeline/Aggregator/Machine.pm called at C:\STRAWB~1\cpan\build\Data-Pipeline-0.02-9UqjgT\blib\lib/Data/Pipeline/Adapter.pm line 9
Data::Pipeline::Adapter::BEGIN() called at C:\STRAWB~1\cpan\build\Data-Pipeline-0.02-9UqjgT\blib\lib/Data/Pipeline/Machine.pm line 22
eval {...} called at C:\STRAWB~1\cpan\build\Data-Pipeline-0.02-9UqjgT\blib\lib/Data/Pipeline/Machine.pm line 22
require Data/Pipeline/Adapter.pm called at C:/Strawberry221/perl/vendor/lib/Module/Runtime.pm line 317
Module::Runtime::require_module("Data::Pipeline::Adapter") called at C:/Strawberry221/perl/vendor/lib/Module/Runtime.pm line 381
eval {...} called at C:/Strawberry221/perl/vendor/lib/Module/Runtime.pm line 381
Module::Runtime::use_package_optimistically("Data::Pipeline::Adapter") called at C:/Strawberry221/perl/vendor/lib/Moose/Util.pm line 352
Moose::Util::_load_user_class("Data::Pipeline::Adapter", undef) called at C:/Strawberry221/perl/vendor/lib/Moose/Meta/Class.pm line 557
Moose::Meta::Class::superclasses(undef, "Data::Pipeline::Adapter") called at C:/Strawberry221/perl/vendor/lib/Moose.pm line 55
Moose::extends(Moose::Meta::Class=HASH(0x155a21c), "Data::Pipeline::Adapter") called at C:/Strawberry221/perl/vendor/lib/Moose/Exporter.pm line 419
Moose::extends("Data::Pipeline::Adapter") called at C:\STRAWB~1\cpan\build\Data-Pipeline-0.02-9UqjgT\blib\lib/Data/Pipeline/Adapter/Array.pm line 4
require Data/Pipeline/Adapter/Array.pm called at t/04-count.t line 4
main::BEGIN() called at C:\STRAWB~1\cpan\build\Data-Pipeline-0.02-9UqjgT\blib\lib/Data/Pipeline/Machine.pm line 22
eval {...} called at C:\STRAWB~1\cpan\build\Data-Pipeline-0.02-9UqjgT\blib\lib/Data/Pipeline/Machine.pm line 22
t/04-count.t ........... ok
Class::MOP::load_class is deprecated at C:/Strawberry221/perl/vendor/lib/Class/MOP.pm line 69.
Class::MOP::load_class("Data::Pipeline::Aggregator::Machine") called at C:\STRAWB~1\cpan\build\Data-Pipeline-0.02-9UqjgT\blib\lib/Data/Pipeline/Machine.pm line 20
Data::Pipeline::Machine::BEGIN() called at C:\STRAWB~1\cpan\build\Data-Pipeline-0.02-9UqjgT\blib\lib/Data/Pipeline/Machine.pm line 22
eval {...} called at C:\STRAWB~1\cpan\build\Data-Pipeline-0.02-9UqjgT\blib\lib/Data/Pipeline/Machine.pm line 22
require Data/Pipeline/Machine.pm called at C:\STRAWB~1\cpan\build\Data-Pipeline-0.02-9UqjgT\blib\lib/Data/Pipeline/Aggregator/Machine.pm line 6
Data::Pipeline::Aggregator::Machine::BEGIN() called at C:\STRAWB~1\cpan\build\Data-Pipeline-0.02-9UqjgT\blib\lib/Data/Pipeline/Machine.pm line 22
eval {...} called at C:\STRAWB~1\cpan\build\Data-Pipeline-0.02-9UqjgT\blib\lib/Data/Pipeline/Machine.pm line 22
require Data/Pipeline/Aggregator/Machine.pm called at C:\STRAWB~1\cpan\build\Data-Pipeline-0.02-9UqjgT\blib\lib/Data/Pipeline/Adapter.pm line 9
Data::Pipeline::Adapter::BEGIN() called at C:\STRAWB~1\cpan\build\Data-Pipeline-0.02-9UqjgT\blib\lib/Data/Pipeline/Machine.pm line 22
eval {...} called at C:\STRAWB~1\cpan\build\Data-Pipeline-0.02-9UqjgT\blib\lib/Data/Pipeline/Machine.pm line 22
require Data/Pipeline/Adapter.pm called at C:/Strawberry221/perl/vendor/lib/Module/Runtime.pm line 317
Module::Runtime::require_module("Data::Pipeline::Adapter") called at C:/Strawberry221/perl/vendor/lib/Module/Runtime.pm line 381
eval {...} called at C:/Strawberry221/perl/vendor/lib/Module/Runtime.pm line 381
Module::Runtime::use_package_optimistically("Data::Pipeline::Adapter") called at C:/Strawberry221/perl/vendor/lib/Moose/Util.pm line 352
Moose::Util::_load_user_class("Data::Pipeline::Adapter", undef) called at C:/Strawberry221/perl/vendor/lib/Moose/Meta/Class.pm line 557
Moose::Meta::Class::superclasses(undef, "Data::Pipeline::Adapter") called at C:/Strawberry221/perl/vendor/lib/Moose.pm line 55
Moose::extends(Moose::Meta::Class=HASH(0x154eff4), "Data::Pipeline::Adapter") called at C:/Strawberry221/perl/vendor/lib/Moose/Exporter.pm line 419
Moose::extends("Data::Pipeline::Adapter") called at C:\STRAWB~1\cpan\build\Data-Pipeline-0.02-9UqjgT\blib\lib/Data/Pipeline/Adapter/Array.pm line 4
require Data/Pipeline/Adapter/Array.pm called at t/05-truncate.t line 4
main::BEGIN() called at C:\STRAWB~1\cpan\build\Data-Pipeline-0.02-9UqjgT\blib\lib/Data/Pipeline/Machine.pm line 22
eval {...} called at C:\STRAWB~1\cpan\build\Data-Pipeline-0.02-9UqjgT\blib\lib/Data/Pipeline/Machine.pm line 22
t/05-truncate.t ........ ok
Class::MOP::load_class is deprecated at C:/Strawberry221/perl/vendor/lib/Class/MOP.pm line 69.
Class::MOP::load_class("Data::Pipeline::Aggregator::Pipeline") called at C:\STRAWB~1\cpan\build\Data-Pipeline-0.02-9UqjgT\blib\lib/Data/Pipeline.pm line 70
eval {...} called at C:\STRAWB~1\cpan\build\Data-Pipeline-0.02-9UqjgT\blib\lib/Data/Pipeline.pm line 70
Data::Pipeline::_find_class("Pipeline") called at C:\STRAWB~1\cpan\build\Data-Pipeline-0.02-9UqjgT\blib\lib/Data/Pipeline.pm line 23
Data::Pipeline::import("Data::Pipeline", "Pipeline", "Truncate", "Count", "Array") called at t/06-pipeline.t line 4
main::BEGIN() called at t/06-pipeline.t line 4
eval {...} called at t/06-pipeline.t line 4
Class::MOP::load_class is deprecated at C:/Strawberry221/perl/vendor/lib/Class/MOP.pm line 69.
Class::MOP::load_class("Data::Pipeline::Aggregator::Machine") called at C:\STRAWB~1\cpan\build\Data-Pipeline-0.02-9UqjgT\blib\lib/Data/Pipeline/Machine.pm line 20
Data::Pipeline::Machine::BEGIN() called at C:\STRAWB~1\cpan\build\Data-Pipeline-0.02-9UqjgT\blib\lib/Data/Pipeline/Machine.pm line 22
eval {...} called at C:\STRAWB~1\cpan\build\Data-Pipeline-0.02-9UqjgT\blib\lib/Data/Pipeline/Machine.pm line 22
require Data/Pipeline/Machine.pm called at C:\STRAWB~1\cpan\build\Data-Pipeline-0.02-9UqjgT\blib\lib/Data/Pipeline/Aggregator/Pipeline.pm line 10
Data::Pipeline::Aggregator::Pipeline::BEGIN() called at C:\STRAWB~1\cpan\build\Data-Pipeline-0.02-9UqjgT\blib\lib/Data/Pipeline/Machine.pm line 22
eval {...} called at C:\STRAWB~1\cpan\build\Data-Pipeline-0.02-9UqjgT\blib\lib/Data/Pipeline/Machine.pm line 22
require Data/Pipeline/Aggregator/Pipeline.pm called at C:/Strawberry221/perl/vendor/lib/Module/Runtime.pm line 317
Module::Runtime::require_module("Data::Pipeline::Aggregator::Pipeline") called at C:/Strawberry221/perl/vendor/lib/Class/Load.pm line 174
Class::Load::try {...} () called at C:/Strawberry221/perl/vendor/lib/Try/Tiny.pm line 88
eval {...} called at C:/Strawberry221/perl/vendor/lib/Try/Tiny.pm line 83
Try::Tiny::try(CODE(0x14fcefc), Try::Tiny::Catch=REF(0x15592cc)) called at C:/Strawberry221/perl/vendor/lib/Class/Load.pm line 180
Class::Load::try_load_class("Data::Pipeline::Aggregator::Pipeline", undef) called at C:/Strawberry221/perl/vendor/lib/Class/Load.pm line 35
Class::Load::load_class("Data::Pipeline::Aggregator::Pipeline") called at C:\STRAWB~1\cpan\build\Data-Pipeline-0.02-9UqjgT\blib\lib/Data/Pipeline.pm line 70
eval {...} called at C:\STRAWB~1\cpan\build\Data-Pipeline-0.02-9UqjgT\blib\lib/Data/Pipeline.pm line 70
Data::Pipeline::_find_class("Pipeline") called at C:\STRAWB~1\cpan\build\Data-Pipeline-0.02-9UqjgT\blib\lib/Data/Pipeline.pm line 23
Data::Pipeline::import("Data::Pipeline", "Pipeline", "Truncate", "Count", "Array") called at t/06-pipeline.t line 4
main::BEGIN() called at C:\STRAWB~1\cpan\build\Data-Pipeline-0.02-9UqjgT\blib\lib/Data/Pipeline/Machine.pm line 22
eval {...} called at C:\STRAWB~1\cpan\build\Data-Pipeline-0.02-9UqjgT\blib\lib/Data/Pipeline/Machine.pm line 22
Class::MOP::load_class is deprecated at C:/Strawberry221/perl/vendor/lib/Class/MOP.pm line 69.
Class::MOP::load_class("Data::Pipeline::Iterator") called at C:\STRAWB~1\cpan\build\Data-Pipeline-0.02-9UqjgT\blib\lib/Data/Pipeline/Types.pm line 133
Data::Pipeline::Types::__ANON__(Data::Pipeline::Adapter::Array=HASH(0x99f65c)) called at C:/Strawberry221/perl/vendor/lib/Moose/Meta/TypeCoercion.pm line 65
Moose::Meta::TypeCoercion::__ANON__(Data::Pipeline::Adapter::Array=HASH(0x99f65c)) called at C:/Strawberry221/perl/vendor/lib/Moose/Meta/TypeCoercion.pm line 100
Moose::Meta::TypeCoercion::coerce(Moose::Meta::TypeCoercion=HASH(0x1564a5c), Data::Pipeline::Adapter::Array=HASH(0x99f65c)) called at C:/Strawberry221/perl/vendor/lib/Moose/Meta/TypeConstraint.pm line 145
Moose::Meta::TypeConstraint::coerce(Moose::Meta::TypeConstraint=HASH(0x14cd2c4), Data::Pipeline::Adapter::Array=HASH(0x99f65c)) called at C:/Strawberry221/perl/vendor/lib/MooseX/Types.pm line 494
MooseX::Types::__ANON__(Data::Pipeline::Adapter::Array=HASH(0x99f65c)) called at C:\STRAWB~1\cpan\build\Data-Pipeline-0.02-9UqjgT\blib\lib/Data/Pipeline/Aggregator/Pipeline.pm line 47
Data::Pipeline::Aggregator::Pipeline::transform(Data::Pipeline::Aggregator::Pipeline=HASH(0x16c7294), Data::Pipeline::Adapter::Array=HASH(0x99f65c)) called at t/06-pipeline.t line 19
t/06-pipeline.t ........ ok
Class::MOP::load_class is deprecated at C:/Strawberry221/perl/vendor/lib/Class/MOP.pm line 69.
Class::MOP::load_class("Data::Pipeline::Aggregator::Pipeline") called at C:\STRAWB~1\cpan\build\Data-Pipeline-0.02-9UqjgT\blib\lib/Data/Pipeline.pm line 70
eval {...} called at C:\STRAWB~1\cpan\build\Data-Pipeline-0.02-9UqjgT\blib\lib/Data/Pipeline.pm line 70
Data::Pipeline::_find_class("Pipeline") called at C:\STRAWB~1\cpan\build\Data-Pipeline-0.02-9UqjgT\blib\lib/Data/Pipeline.pm line 23
Data::Pipeline::import("Data::Pipeline", "Pipeline", "Count", "CSV") called at t/07-csvsource.t line 23
main::BEGIN() called at t/07-csvsource.t line 23
eval {...} called at t/07-csvsource.t line 23
Class::MOP::load_class is deprecated at C:/Strawberry221/perl/vendor/lib/Class/MOP.pm line 69.
Class::MOP::load_class("Data::Pipeline::Aggregator::Machine") called at C:\STRAWB~1\cpan\build\Data-Pipeline-0.02-9UqjgT\blib\lib/Data/Pipeline/Machine.pm line 20
Data::Pipeline::Machine::BEGIN() called at C:\STRAWB~1\cpan\build\Data-Pipeline-0.02-9UqjgT\blib\lib/Data/Pipeline/Machine.pm line 22
eval {...} called at C:\STRAWB~1\cpan\build\Data-Pipeline-0.02-9UqjgT\blib\lib/Data/Pipeline/Machine.pm line 22
require Data/Pipeline/Machine.pm called at C:\STRAWB~1\cpan\build\Data-Pipeline-0.02-9UqjgT\blib\lib/Data/Pipeline/Aggregator/Pipeline.pm line 10
Data::Pipeline::Aggregator::Pipeline::BEGIN() called at C:\STRAWB~1\cpan\build\Data-Pipeline-0.02-9UqjgT\blib\lib/Data/Pipeline/Machine.pm line 22
eval {...} called at C:\STRAWB~1\cpan\build\Data-Pipeline-0.02-9UqjgT\blib\lib/Data/Pipeline/Machine.pm line 22
require Data/Pipeline/Aggregator/Pipeline.pm called at C:/Strawberry221/perl/vendor/lib/Module/Runtime.pm line 317
Module::Runtime::require_module("Data::Pipeline::Aggregator::Pipeline") called at C:/Strawberry221/perl/vendor/lib/Class/Load.pm line 174
Class::Load::try {...} () called at C:/Strawberry221/perl/vendor/lib/Try/Tiny.pm line 88
eval {...} called at C:/Strawberry221/perl/vendor/lib/Try/Tiny.pm line 83
Try::Tiny::try(CODE(0x14d3e9c), Try::Tiny::Catch=REF(0x155d2bc)) called at C:/Strawberry221/perl/vendor/lib/Class/Load.pm line 180
Class::Load::try_load_class("Data::Pipeline::Aggregator::Pipeline", undef) called at C:/Strawberry221/perl/vendor/lib/Class/Load.pm line 35
Class::Load::load_class("Data::Pipeline::Aggregator::Pipeline") called at C:\STRAWB~1\cpan\build\Data-Pipeline-0.02-9UqjgT\blib\lib/Data/Pipeline.pm line 70
eval {...} called at C:\STRAWB~1\cpan\build\Data-Pipeline-0.02-9UqjgT\blib\lib/Data/Pipeline.pm line 70
Data::Pipeline::_find_class("Pipeline") called at C:\STRAWB~1\cpan\build\Data-Pipeline-0.02-9UqjgT\blib\lib/Data/Pipeline.pm line 23
Data::Pipeline::import("Data::Pipeline", "Pipeline", "Count", "CSV") called at t/07-csvsource.t line 23
main::BEGIN() called at C:\STRAWB~1\cpan\build\Data-Pipeline-0.02-9UqjgT\blib\lib/Data/Pipeline/Machine.pm line 22
eval {...} called at C:\STRAWB~1\cpan\build\Data-Pipeline-0.02-9UqjgT\blib\lib/Data/Pipeline/Machine.pm line 22
Class::MOP::load_class is deprecated at C:/Strawberry221/perl/vendor/lib/Class/MOP.pm line 69.
Class::MOP::load_class("Data::Pipeline::Iterator") called at C:\STRAWB~1\cpan\build\Data-Pipeline-0.02-9UqjgT\blib\lib/Data/Pipeline/Types.pm line 133
Data::Pipeline::Types::__ANON__(Data::Pipeline::Adapter::CSV=HASH(0x999dfc)) called at C:/Strawberry221/perl/vendor/lib/Moose/Meta/TypeCoercion.pm line 65
Moose::Meta::TypeCoercion::__ANON__(Data::Pipeline::Adapter::CSV=HASH(0x999dfc)) called at C:/Strawberry221/perl/vendor/lib/Moose/Meta/TypeCoercion.pm line 100
Moose::Meta::TypeCoercion::coerce(Moose::Meta::TypeCoercion=HASH(0x15674ec), Data::Pipeline::Adapter::CSV=HASH(0x999dfc)) called at C:/Strawberry221/perl/vendor/lib/Moose/Meta/TypeConstraint.pm line 145
Moose::Meta::TypeConstraint::coerce(Moose::Meta::TypeConstraint=HASH(0x14c77cc), Data::Pipeline::Adapter::CSV=HASH(0x999dfc)) called at C:/Strawberry221/perl/vendor/lib/MooseX/Types.pm line 494
MooseX::Types::__ANON__(Data::Pipeline::Adapter::CSV=HASH(0x999dfc)) called at C:\STRAWB~1\cpan\build\Data-Pipeline-0.02-9UqjgT\blib\lib/Data/Pipeline/Action.pm line 23
Data::Pipeline::Action::transform(Data::Pipeline::Action::Count=HASH(0x999bec), Data::Pipeline::Adapter::CSV=HASH(0x999dfc)) called at t/07-csvsource.t line 26
t/07-csvsource.t ....... ok
Class::MOP::load_class is deprecated at C:/Strawberry221/perl/vendor/lib/Class/MOP.pm line 69.
Class::MOP::load_class("Data::Pipeline::Adapter::Array") called at C:\STRAWB~1\cpan\build\Data-Pipeline-0.02-9UqjgT\blib\lib/Data/Pipeline/Types.pm line 78
Data::Pipeline::Types::__ANON__(ARRAY(0x3f7efc)) called at C:/Strawberry221/perl/vendor/lib/Moose/Meta/TypeCoercion.pm line 65
Moose::Meta::TypeCoercion::__ANON__(ARRAY(0x3f7efc)) called at C:/Strawberry221/perl/vendor/lib/Moose/Meta/TypeCoercion.pm line 100
Moose::Meta::TypeCoercion::coerce(Moose::Meta::TypeCoercion=HASH(0x1529074), ARRAY(0x3f7efc)) called at C:/Strawberry221/perl/vendor/lib/Moose/Meta/TypeConstraint.pm line 145
Moose::Meta::TypeConstraint::coerce(Moose::Meta::TypeConstraint=HASH(0x15275e4), ARRAY(0x3f7efc)) called at C:/Strawberry221/perl/vendor/lib/MooseX/Types.pm line 494
MooseX::Types::__ANON__(ARRAY(0x3f7efc)) called at t/08-types.t line 28
Class::MOP::load_class is deprecated at C:/Strawberry221/perl/vendor/lib/Class/MOP.pm line 69.
Class::MOP::load_class("Data::Pipeline::Aggregator::Machine") called at C:\STRAWB~1\cpan\build\Data-Pipeline-0.02-9UqjgT\blib\lib/Data/Pipeline/Machine.pm line 20
Data::Pipeline::Machine::BEGIN() called at C:\STRAWB~1\cpan\build\Data-Pipeline-0.02-9UqjgT\blib\lib/Data/Pipeline/Machine.pm line 22
eval {...} called at C:\STRAWB~1\cpan\build\Data-Pipeline-0.02-9UqjgT\blib\lib/Data/Pipeline/Machine.pm line 22
require Data/Pipeline/Machine.pm called at C:\STRAWB~1\cpan\build\Data-Pipeline-0.02-9UqjgT\blib\lib/Data/Pipeline/Aggregator/Machine.pm line 6
Data::Pipeline::Aggregator::Machine::BEGIN() called at C:\STRAWB~1\cpan\build\Data-Pipeline-0.02-9UqjgT\blib\lib/Data/Pipeline/Machine.pm line 22
eval {...} called at C:\STRAWB~1\cpan\build\Data-Pipeline-0.02-9UqjgT\blib\lib/Data/Pipeline/Machine.pm line 22
require Data/Pipeline/Aggregator/Machine.pm called at C:\STRAWB~1\cpan\build\Data-Pipeline-0.02-9UqjgT\blib\lib/Data/Pipeline/Adapter.pm line 9
Data::Pipeline::Adapter::BEGIN() called at C:\STRAWB~1\cpan\build\Data-Pipeline-0.02-9UqjgT\blib\lib/Data/Pipeline/Machine.pm line 22
eval {...} called at C:\STRAWB~1\cpan\build\Data-Pipeline-0.02-9UqjgT\blib\lib/Data/Pipeline/Machine.pm line 22
require Data/Pipeline/Adapter.pm called at C:/Strawberry221/perl/vendor/lib/Module/Runtime.pm line 317
Module::Runtime::require_module("Data::Pipeline::Adapter") called at C:/Strawberry221/perl/vendor/lib/Module/Runtime.pm line 381
eval {...} called at C:/Strawberry221/perl/vendor/lib/Module/Runtime.pm line 381
Module::Runtime::use_package_optimistically("Data::Pipeline::Adapter") called at C:/Strawberry221/perl/vendor/lib/Moose/Util.pm line 352
Moose::Util::_load_user_class("Data::Pipeline::Adapter", undef) called at C:/Strawberry221/perl/vendor/lib/Moose/Meta/Class.pm line 557
Moose::Meta::Class::superclasses(undef, "Data::Pipeline::Adapter") called at C:/Strawberry221/perl/vendor/lib/Moose.pm line 55
Moose::extends(Moose::Meta::Class=HASH(0x1584bf4), "Data::Pipeline::Adapter") called at C:/Strawberry221/perl/vendor/lib/Moose/Exporter.pm line 419
Moose::extends("Data::Pipeline::Adapter") called at C:\STRAWB~1\cpan\build\Data-Pipeline-0.02-9UqjgT\blib\lib/Data/Pipeline/Adapter/Array.pm line 4
require Data/Pipeline/Adapter/Array.pm called at C:/Strawberry221/perl/vendor/lib/Module/Runtime.pm line 317
Module::Runtime::require_module("Data::Pipeline::Adapter::Array") called at C:/Strawberry221/perl/vendor/lib/Class/Load.pm line 174
Class::Load::try {...} () called at C:/Strawberry221/perl/vendor/lib/Try/Tiny.pm line 88
eval {...} called at C:/Strawberry221/perl/vendor/lib/Try/Tiny.pm line 83
Try::Tiny::try(CODE(0x1548074), Try::Tiny::Catch=REF(0x99ffa4)) called at C:/Strawberry221/perl/vendor/lib/Class/Load.pm line 180
Class::Load::try_load_class("Data::Pipeline::Adapter::Array", undef) called at C:/Strawberry221/perl/vendor/lib/Class/Load.pm line 35
Class::Load::load_class("Data::Pipeline::Adapter::Array") called at C:\STRAWB~1\cpan\build\Data-Pipeline-0.02-9UqjgT\blib\lib/Data/Pipeline/Types.pm line 78
Data::Pipeline::Types::__ANON__(ARRAY(0x3f7efc)) called at C:/Strawberry221/perl/vendor/lib/Moose/Meta/TypeCoercion.pm line 65
Moose::Meta::TypeCoercion::__ANON__(ARRAY(0x3f7efc)) called at C:/Strawberry221/perl/vendor/lib/Moose/Meta/TypeCoercion.pm line 100
Moose::Meta::TypeCoercion::coerce(Moose::Meta::TypeCoercion=HASH(0x1529074), ARRAY(0x3f7efc)) called at C:/Strawberry221/perl/vendor/lib/Moose/Meta/TypeConstraint.pm line 145
Moose::Meta::TypeConstraint::coerce(Moose::Meta::TypeConstraint=HASH(0x15275e4), ARRAY(0x3f7efc)) called at C:/Strawberry221/perl/vendor/lib/MooseX/Types.pm line 494
MooseX::Types::__ANON__(ARRAY(0x3f7efc)) called at t/08-types.t line 28
t/08-types.t ........... ok
t/09-rename.t .......... ok
Class::MOP::load_class is deprecated at C:/Strawberry221/perl/vendor/lib/Class/MOP.pm line 69.
Class::MOP::load_class("Data::Pipeline::Aggregator::Machine") called at C:\STRAWB~1\cpan\build\Data-Pipeline-0.02-9UqjgT\blib\lib/Data/Pipeline/Machine.pm line 20
Data::Pipeline::Machine::BEGIN() called at C:\STRAWB~1\cpan\build\Data-Pipeline-0.02-9UqjgT\blib\lib/Data/Pipeline/Machine.pm line 22
eval {...} called at C:\STRAWB~1\cpan\build\Data-Pipeline-0.02-9UqjgT\blib\lib/Data/Pipeline/Machine.pm line 22
require Data/Pipeline/Machine.pm called at t/11-machine.t line 6
My::Machine::BEGIN() called at C:\STRAWB~1\cpan\build\Data-Pipeline-0.02-9UqjgT\blib\lib/Data/Pipeline/Machine.pm line 22
eval {...} called at C:\STRAWB~1\cpan\build\Data-Pipeline-0.02-9UqjgT\blib\lib/Data/Pipeline/Machine.pm line 22
Class::MOP::load_class is deprecated at C:/Strawberry221/perl/vendor/lib/Class/MOP.pm line 69.
Class::MOP::load_class("Data::Pipeline::Aggregator::Array") called at C:\STRAWB~1\cpan\build\Data-Pipeline-0.02-9UqjgT\blib\lib/Data/Pipeline.pm line 70
eval {...} called at C:\STRAWB~1\cpan\build\Data-Pipeline-0.02-9UqjgT\blib\lib/Data/Pipeline.pm line 70
Data::Pipeline::_find_class("Array") called at C:\STRAWB~1\cpan\build\Data-Pipeline-0.02-9UqjgT\blib\lib/Data/Pipeline.pm line 23
Data::Pipeline::import("Data::Pipeline", "Array", "Count", "CSV") called at t/11-machine.t line 7
My::Machine::BEGIN() called at t/11-machine.t line 7
eval {...} called at t/11-machine.t line 7
Class::MOP::load_class is deprecated at C:/Strawberry221/perl/vendor/lib/Class/MOP.pm line 69.
Class::MOP::load_class("Data::Pipeline::Iterator") called at C:\STRAWB~1\cpan\build\Data-Pipeline-0.02-9UqjgT\blib\lib/Data/Pipeline/Types.pm line 133
Data::Pipeline::Types::__ANON__(Data::Pipeline::Adapter::Array=HASH(0x179c55c)) called at C:/Strawberry221/perl/vendor/lib/Moose/Meta/TypeCoercion.pm line 65
Moose::Meta::TypeCoercion::__ANON__(Data::Pipeline::Adapter::Array=HASH(0x179c55c)) called at C:/Strawberry221/perl/vendor/lib/Moose/Meta/TypeCoercion.pm line 100
Moose::Meta::TypeCoercion::coerce(Moose::Meta::TypeCoercion=HASH(0x155b08c), Data::Pipeline::Adapter::Array=HASH(0x179c55c)) called at C:/Strawberry221/perl/vendor/lib/Moose/Meta/TypeConstraint.pm line 145
Moose::Meta::TypeConstraint::coerce(Moose::Meta::TypeConstraint=HASH(0x155785c), Data::Pipeline::Adapter::Array=HASH(0x179c55c)) called at C:/Strawberry221/perl/vendor/lib/MooseX/Types.pm line 494
MooseX::Types::__ANON__(Data::Pipeline::Adapter::Array=HASH(0x179c55c)) called at C:\STRAWB~1\cpan\build\Data-Pipeline-0.02-9UqjgT\blib\lib/Data/Pipeline/Aggregator/Pipeline.pm line 30
Data::Pipeline::Aggregator::Pipeline::from(Data::Pipeline::Aggregator::Pipeline=HASH(0x1643c34), "array", Data::Pipeline::Iterator=HASH(0x17b74b4)) called at C:\STRAWB~1\cpan\build\Data-Pipeline-0.02-9UqjgT\blib\lib/Data/Pipeline/Aggregator/Machine.pm line 124
Data::Pipeline::Aggregator::Machine::__ANON__() called at C:\STRAWB~1\cpan\build\Data-Pipeline-0.02-9UqjgT\blib\lib/Data/Pipeline/Machine.pm line 162
Data::Pipeline::Machine::with_options(CODE(0x17c8ca4), HASH(0x179264c)) called at C:\STRAWB~1\cpan\build\Data-Pipeline-0.02-9UqjgT\blib\lib/Data/Pipeline/Aggregator/Machine.pm line 125
Data::Pipeline::Aggregator::Machine::from(Data::Pipeline::Aggregator::Machine=HASH(0x15a3c04), "foo", "array", Data::Pipeline::Iterator=HASH(0x17b74b4)) called at C:\STRAWB~1\cpan\build\Data-Pipeline-0.02-9UqjgT\blib\lib/Data/Pipeline/Machine/Surrogate.pm line 38
Data::Pipeline::Machine::Surrogate::from(Data::Pipeline::Machine::Surrogate=HASH(0x16f75e4)) called at C:\STRAWB~1\cpan\build\Data-Pipeline-0.02-9UqjgT\blib\lib/Data/Pipeline/Types.pm line 143
Data::Pipeline::Types::__ANON__(Data::Pipeline::Machine::Surrogate=HASH(0x16f75e4)) called at C:/Strawberry221/perl/vendor/lib/Moose/Meta/TypeCoercion.pm line 65
Moose::Meta::TypeCoercion::__ANON__(Data::Pipeline::Machine::Surrogate=HASH(0x16f75e4)) called at C:/Strawberry221/perl/vendor/lib/Moose/Meta/TypeCoercion.pm line 100
Moose::Meta::TypeCoercion::coerce(Moose::Meta::TypeCoercion=HASH(0x155b08c), Data::Pipeline::Machine::Surrogate=HASH(0x16f75e4)) called at C:/Strawberry221/perl/vendor/lib/Moose/Meta/TypeConstraint.pm line 145
Moose::Meta::TypeConstraint::coerce(Moose::Meta::TypeConstraint=HASH(0x155785c), Data::Pipeline::Machine::Surrogate=HASH(0x16f75e4)) called at C:/Strawberry221/perl/vendor/lib/MooseX/Types.pm line 494
MooseX::Types::__ANON__(Data::Pipeline::Machine::Surrogate=HASH(0x16f75e4)) called at C:\STRAWB~1\cpan\build\Data-Pipeline-0.02-9UqjgT\blib\lib/Data/Pipeline/Aggregator/Pipeline.pm line 30
Data::Pipeline::Aggregator::Pipeline::from(Data::Pipeline::Aggregator::Pipeline=HASH(0x16b9654), "array", ARRAY(0x178b684)) called at C:\STRAWB~1\cpan\build\Data-Pipeline-0.02-9UqjgT\blib\lib/Data/Pipeline/Aggregator/Machine.pm line 124
Data::Pipeline::Aggregator::Machine::__ANON__() called at C:\STRAWB~1\cpan\build\Data-Pipeline-0.02-9UqjgT\blib\lib/Data/Pipeline/Machine.pm line 162
Data::Pipeline::Machine::with_options(CODE(0x16c2d5c), HASH(0x17c88b4)) called at C:\STRAWB~1\cpan\build\Data-Pipeline-0.02-9UqjgT\blib\lib/Data/Pipeline/Aggregator/Machine.pm line 125
Data::Pipeline::Aggregator::Machine::from(Data::Pipeline::Aggregator::Machine=HASH(0x15a3c04), "array", ARRAY(0x178b684)) called at C:/Strawberry221/perl/vendor/lib/Moose/Meta/Method/Delegation.pm line 110
Data::Pipeline::Machine::from(My::Machine=HASH(0x16b33ac), "array", ARRAY(0x178b684)) called at t/11-machine.t line 42
t/11-machine.t ......... ok
Class::MOP::load_class is deprecated at C:/Strawberry221/perl/vendor/lib/Class/MOP.pm line 69.
Class::MOP::load_class("Data::Pipeline::Aggregator::Pipeline") called at C:\STRAWB~1\cpan\build\Data-Pipeline-0.02-9UqjgT\blib\lib/Data/Pipeline.pm line 70
eval {...} called at C:\STRAWB~1\cpan\build\Data-Pipeline-0.02-9UqjgT\blib\lib/Data/Pipeline.pm line 70
Data::Pipeline::_find_class("Pipeline") called at C:\STRAWB~1\cpan\build\Data-Pipeline-0.02-9UqjgT\blib\lib/Data/Pipeline.pm line 23
Data::Pipeline::import("Data::Pipeline", "Pipeline", "Count", "Array") called at t/12-options.t line 3
main::BEGIN() called at t/12-options.t line 3
eval {...} called at t/12-options.t line 3
Class::MOP::load_class is deprecated at C:/Strawberry221/perl/vendor/lib/Class/MOP.pm line 69.
Class::MOP::load_class("Data::Pipeline::Aggregator::Machine") called at C:\STRAWB~1\cpan\build\Data-Pipeline-0.02-9UqjgT\blib\lib/Data/Pipeline/Machine.pm line 20
Data::Pipeline::Machine::BEGIN() called at C:\STRAWB~1\cpan\build\Data-Pipeline-0.02-9UqjgT\blib\lib/Data/Pipeline/Machine.pm line 22
eval {...} called at C:\STRAWB~1\cpan\build\Data-Pipeline-0.02-9UqjgT\blib\lib/Data/Pipeline/Machine.pm line 22
require Data/Pipeline/Machine.pm called at C:\STRAWB~1\cpan\build\Data-Pipeline-0.02-9UqjgT\blib\lib/Data/Pipeline/Aggregator/Pipeline.pm line 10
Data::Pipeline::Aggregator::Pipeline::BEGIN() called at C:\STRAWB~1\cpan\build\Data-Pipeline-0.02-9UqjgT\blib\lib/Data/Pipeline/Machine.pm line 22
eval {...} called at C:\STRAWB~1\cpan\build\Data-Pipeline-0.02-9UqjgT\blib\lib/Data/Pipeline/Machine.pm line 22
require Data/Pipeline/Aggregator/Pipeline.pm called at C:/Strawberry221/perl/vendor/lib/Module/Runtime.pm line 317
Module::Runtime::require_module("Data::Pipeline::Aggregator::Pipeline") called at C:/Strawberry221/perl/vendor/lib/Class/Load.pm line 174
Class::Load::try {...} () called at C:/Strawberry221/perl/vendor/lib/Try/Tiny.pm line 88
eval {...} called at C:/Strawberry221/perl/vendor/lib/Try/Tiny.pm line 83
Try::Tiny::try(CODE(0x14f887c), Try::Tiny::Catch=REF(0x15572dc)) called at C:/Strawberry221/perl/vendor/lib/Class/Load.pm line 180
Class::Load::try_load_class("Data::Pipeline::Aggregator::Pipeline", undef) called at C:/Strawberry221/perl/vendor/lib/Class/Load.pm line 35
Class::Load::load_class("Data::Pipeline::Aggregator::Pipeline") called at C:\STRAWB~1\cpan\build\Data-Pipeline-0.02-9UqjgT\blib\lib/Data/Pipeline.pm line 70
eval {...} called at C:\STRAWB~1\cpan\build\Data-Pipeline-0.02-9UqjgT\blib\lib/Data/Pipeline.pm line 70
Data::Pipeline::_find_class("Pipeline") called at C:\STRAWB~1\cpan\build\Data-Pipeline-0.02-9UqjgT\blib\lib/Data/Pipeline.pm line 23
Data::Pipeline::import("Data::Pipeline", "Pipeline", "Count", "Array") called at t/12-options.t line 3
main::BEGIN() called at C:\STRAWB~1\cpan\build\Data-Pipeline-0.02-9UqjgT\blib\lib/Data/Pipeline/Machine.pm line 22
eval {...} called at C:\STRAWB~1\cpan\build\Data-Pipeline-0.02-9UqjgT\blib\lib/Data/Pipeline/Machine.pm line 22
Class::MOP::load_class is deprecated at C:/Strawberry221/perl/vendor/lib/Class/MOP.pm line 69.
Class::MOP::load_class("Data::Pipeline::Adapter::Array") called at C:\STRAWB~1\cpan\build\Data-Pipeline-0.02-9UqjgT\blib\lib/Data/Pipeline/Types.pm line 83
Data::Pipeline::Types::__ANON__(1) called at C:/Strawberry221/perl/vendor/lib/Moose/Meta/TypeCoercion.pm line 65
Moose::Meta::TypeCoercion::__ANON__(1) called at C:/Strawberry221/perl/vendor/lib/Moose/Meta/TypeCoercion.pm line 100
Moose::Meta::TypeCoercion::coerce(Moose::Meta::TypeCoercion=HASH(0x15281b4), 1) called at C:/Strawberry221/perl/vendor/lib/Moose/Meta/TypeConstraint.pm line 145
Moose::Meta::TypeConstraint::coerce(Moose::Meta::TypeConstraint=HASH(0x153f04c), 1) called at C:/Strawberry221/perl/vendor/lib/MooseX/Types.pm line 494
MooseX::Types::__ANON__(1) called at C:/Strawberry221/perl/vendor/lib/Sub/Exporter/ForMethods.pm line 102
Data::Pipeline::Types::to_Adapter(1) called at C:\STRAWB~1\cpan\build\Data-Pipeline-0.02-9UqjgT\blib\lib/Data/Pipeline/Types.pm line 128
Data::Pipeline::Types::__ANON__(1) called at C:/Strawberry221/perl/vendor/lib/Moose/Meta/TypeCoercion.pm line 65
Moose::Meta::TypeCoercion::__ANON__(1) called at C:/Strawberry221/perl/vendor/lib/Moose/Meta/TypeCoercion.pm line 100
Moose::Meta::TypeCoercion::coerce(Moose::Meta::TypeCoercion=HASH(0x14c3a8c), 1) called at C:/Strawberry221/perl/vendor/lib/Moose/Meta/TypeConstraint.pm line 145
Moose::Meta::TypeConstraint::coerce(Moose::Meta::TypeConstraint=HASH(0x14cb8cc), 1) called at C:/Strawberry221/perl/vendor/lib/MooseX/Types.pm line 494
MooseX::Types::__ANON__(1) called at C:\STRAWB~1\cpan\build\Data-Pipeline-0.02-9UqjgT\blib\lib/Data/Pipeline/Iterator/Options.pm line 45
Data::Pipeline::Iterator::Options::build_source(Data::Pipeline::Iterator::Options=HASH(0x999cdc)) called at C:\STRAWB~1\cpan\build\Data-Pipeline-0.02-9UqjgT\blib\lib/Data/Pipeline/Iterator/Options.pm line 24
Data::Pipeline::Iterator::Options::__ANON__(Data::Pipeline::Iterator::Options=HASH(0x999cdc)) called at accessor Data::Pipeline::Iterator::Options::source (defined at C:\STRAWB~1\cpan\build\Data-Pipeline-0.02-9UqjgT\blib\lib/Data/Pipeline/Iterator/Options.pm line 27) line 17
Data::Pipeline::Iterator::Options::source(Data::Pipeline::Iterator::Options=HASH(0x999cdc)) called at C:\STRAWB~1\cpan\build\Data-Pipeline-0.02-9UqjgT\blib\lib/Data/Pipeline/Iterator.pm line 53
Data::Pipeline::Iterator::finished(Data::Pipeline::Iterator::Options=HASH(0x999cdc)) called at t/12-options.t line 23
t/12-options.t ......... ok
Class::MOP::load_class is deprecated at C:/Strawberry221/perl/vendor/lib/Class/MOP.pm line 69.
Class::MOP::load_class("Data::Pipeline::Aggregator::Pipeline") called at C:\STRAWB~1\cpan\build\Data-Pipeline-0.02-9UqjgT\blib\lib/Data/Pipeline.pm line 70
eval {...} called at C:\STRAWB~1\cpan\build\Data-Pipeline-0.02-9UqjgT\blib\lib/Data/Pipeline.pm line 70
Data::Pipeline::_find_class("Pipeline") called at C:\STRAWB~1\cpan\build\Data-Pipeline-0.02-9UqjgT\blib\lib/Data/Pipeline.pm line 23
Data::Pipeline::import("Data::Pipeline", "Pipeline", "UrlBuilder") called at t/13-uribuilder.t line 3
main::BEGIN() called at t/13-uribuilder.t line 3
eval {...} called at t/13-uribuilder.t line 3
Class::MOP::load_class is deprecated at C:/Strawberry221/perl/vendor/lib/Class/MOP.pm line 69.
Class::MOP::load_class("Data::Pipeline::Aggregator::Machine") called at C:\STRAWB~1\cpan\build\Data-Pipeline-0.02-9UqjgT\blib\lib/Data/Pipeline/Machine.pm line 20
Data::Pipeline::Machine::BEGIN() called at C:\STRAWB~1\cpan\build\Data-Pipeline-0.02-9UqjgT\blib\lib/Data/Pipeline/Machine.pm line 22
eval {...} called at C:\STRAWB~1\cpan\build\Data-Pipeline-0.02-9UqjgT\blib\lib/Data/Pipeline/Machine.pm line 22
require Data/Pipeline/Machine.pm called at C:\STRAWB~1\cpan\build\Data-Pipeline-0.02-9UqjgT\blib\lib/Data/Pipeline/Aggregator/Pipeline.pm line 10
Data::Pipeline::Aggregator::Pipeline::BEGIN() called at C:\STRAWB~1\cpan\build\Data-Pipeline-0.02-9UqjgT\blib\lib/Data/Pipeline/Machine.pm line 22
eval {...} called at C:\STRAWB~1\cpan\build\Data-Pipeline-0.02-9UqjgT\blib\lib/Data/Pipeline/Machine.pm line 22
require Data/Pipeline/Aggregator/Pipeline.pm called at C:/Strawberry221/perl/vendor/lib/Module/Runtime.pm line 317
Module::Runtime::require_module("Data::Pipeline::Aggregator::Pipeline") called at C:/Strawberry221/perl/vendor/lib/Class/Load.pm line 174
Class::Load::try {...} () called at C:/Strawberry221/perl/vendor/lib/Try/Tiny.pm line 88
eval {...} called at C:/Strawberry221/perl/vendor/lib/Try/Tiny.pm line 83
Try::Tiny::try(CODE(0x14f982c), Try::Tiny::Catch=REF(0x155799c)) called at C:/Strawberry221/perl/vendor/lib/Class/Load.pm line 180
Class::Load::try_load_class("Data::Pipeline::Aggregator::Pipeline", undef) called at C:/Strawberry221/perl/vendor/lib/Class/Load.pm line 35
Class::Load::load_class("Data::Pipeline::Aggregator::Pipeline") called at C:\STRAWB~1\cpan\build\Data-Pipeline-0.02-9UqjgT\blib\lib/Data/Pipeline.pm line 70
eval {...} called at C:\STRAWB~1\cpan\build\Data-Pipeline-0.02-9UqjgT\blib\lib/Data/Pipeline.pm line 70
Data::Pipeline::_find_class("Pipeline") called at C:\STRAWB~1\cpan\build\Data-Pipeline-0.02-9UqjgT\blib\lib/Data/Pipeline.pm line 23
Data::Pipeline::import("Data::Pipeline", "Pipeline", "UrlBuilder") called at t/13-uribuilder.t line 3
main::BEGIN() called at C:\STRAWB~1\cpan\build\Data-Pipeline-0.02-9UqjgT\blib\lib/Data/Pipeline/Machine.pm line 22
eval {...} called at C:\STRAWB~1\cpan\build\Data-Pipeline-0.02-9UqjgT\blib\lib/Data/Pipeline/Machine.pm line 22
Class::MOP::load_class is deprecated at C:/Strawberry221/perl/vendor/lib/Class/MOP.pm line 69.
Class::MOP::load_class("Data::Pipeline::Iterator") called at C:\STRAWB~1\cpan\build\Data-Pipeline-0.02-9UqjgT\blib\lib/Data/Pipeline/Types.pm line 133
Data::Pipeline::Types::__ANON__(Data::Pipeline::Adapter::UrlBuilder=HASH(0x99f6bc)) called at C:/Strawberry221/perl/vendor/lib/Moose/Meta/TypeCoercion.pm line 65
Moose::Meta::TypeCoercion::__ANON__(Data::Pipeline::Adapter::UrlBuilder=HASH(0x99f6bc)) called at C:/Strawberry221/perl/vendor/lib/Moose/Meta/TypeCoercion.pm line 100
Moose::Meta::TypeCoercion::coerce(Moose::Meta::TypeCoercion=HASH(0x14c4b8c), Data::Pipeline::Adapter::UrlBuilder=HASH(0x99f6bc)) called at C:/Strawberry221/perl/vendor/lib/Moose/Meta/TypeConstraint.pm line 145
Moose::Meta::TypeConstraint::coerce(Moose::Meta::TypeConstraint=HASH(0x14cb514), Data::Pipeline::Adapter::UrlBuilder=HASH(0x99f6bc)) called at C:/Strawberry221/perl/vendor/lib/MooseX/Types.pm line 494
MooseX::Types::__ANON__(Data::Pipeline::Adapter::UrlBuilder=HASH(0x99f6bc)) called at C:\STRAWB~1\cpan\build\Data-Pipeline-0.02-9UqjgT\blib\lib/Data/Pipeline/Aggregator/Pipeline.pm line 47
Data::Pipeline::Aggregator::Pipeline::transform(Data::Pipeline::Aggregator::Pipeline=HASH(0x99f7dc), Data::Pipeline::Adapter::UrlBuilder=HASH(0x99f6bc)) called at t/13-uribuilder.t line 16
t/13-uribuilder.t ...... ok
Class::MOP::load_class is deprecated at C:/Strawberry221/perl/vendor/lib/Class/MOP.pm line 69.
Class::MOP::load_class("Data::Pipeline::Aggregator::Machine") called at C:\STRAWB~1\cpan\build\Data-Pipeline-0.02-9UqjgT\blib\lib/Data/Pipeline/Machine.pm line 20
Data::Pipeline::Machine::BEGIN() called at C:\STRAWB~1\cpan\build\Data-Pipeline-0.02-9UqjgT\blib\lib/Data/Pipeline/Machine.pm line 22
eval {...} called at C:\STRAWB~1\cpan\build\Data-Pipeline-0.02-9UqjgT\blib\lib/Data/Pipeline/Machine.pm line 22
require Data/Pipeline/Machine.pm called at unkown line 638
Data::Pipeline::Parser::BEGIN() called at C:\STRAWB~1\cpan\build\Data-Pipeline-0.02-9UqjgT\blib\lib/Data/Pipeline/Machine.pm line 22
eval {...} called at C:\STRAWB~1\cpan\build\Data-Pipeline-0.02-9UqjgT\blib\lib/Data/Pipeline/Machine.pm line 22
require Data/Pipeline/Parser.pm called at t/20-script.t line 3
main::BEGIN() called at C:\STRAWB~1\cpan\build\Data-Pipeline-0.02-9UqjgT\blib\lib/Data/Pipeline/Machine.pm line 22
eval {...} called at C:\STRAWB~1\cpan\build\Data-Pipeline-0.02-9UqjgT\blib\lib/Data/Pipeline/Machine.pm line 22
Class::MOP::load_class is deprecated at C:/Strawberry221/perl/vendor/lib/Class/MOP.pm line 69.
Class::MOP::load_class("Data::Pipeline::Adapter::Array") called at unkown line 1005
eval {...} called at unkown line 1005
Data::Pipeline::Parser::_load_filter(Data::Pipeline::Parser=HASH(0x17641cc), "Adapter", "Array") called at unkown line 988
Data::Pipeline::Parser::load_actions(Data::Pipeline::Parser=HASH(0x17641cc), "Adapter", "Array") called at unkown line 264
Data::Pipeline::Parser::__ANON__() called at unkown line 61
Data::Pipeline::Parser::__ANON__() called at unkown line 978
Data::Pipeline::Parser::_eval_in_m(Data::Pipeline::Parser=HASH(0x17641cc), "", CODE(0x1737f8c)) called at unkown line 883
Data::Pipeline::Parser::parse(Data::Pipeline::Parser=HASH(0x173fa34), HASH(0x3f82d4), "\x{a} IN: Array\x{a} OUT: Array\x{a} USE: Identity\x{a}\x{a} PIPELINE"..., HASH(0x3f846c)) called at t/20-script.t line 9
Class::MOP::load_class is deprecated at C:/Strawberry221/perl/vendor/lib/Class/MOP.pm line 69.
Class::MOP::load_class("Data::Pipeline::Iterator") called at C:\STRAWB~1\cpan\build\Data-Pipeline-0.02-9UqjgT\blib\lib/Data/Pipeline/Types.pm line 133
Data::Pipeline::Types::__ANON__(Data::Pipeline::Adapter::Array=HASH(0x172548c)) called at C:/Strawberry221/perl/vendor/lib/Moose/Meta/TypeCoercion.pm line 65
Moose::Meta::TypeCoercion::__ANON__(Data::Pipeline::Adapter::Array=HASH(0x172548c)) called at C:/Strawberry221/perl/vendor/lib/Moose/Meta/TypeCoercion.pm line 100
Moose::Meta::TypeCoercion::coerce(Moose::Meta::TypeCoercion=HASH(0x1648914), Data::Pipeline::Adapter::Array=HASH(0x172548c)) called at C:/Strawberry221/perl/vendor/lib/Moose/Meta/TypeConstraint.pm line 145
Moose::Meta::TypeConstraint::coerce(Moose::Meta::TypeConstraint=HASH(0x161b554), Data::Pipeline::Adapter::Array=HASH(0x172548c)) called at C:/Strawberry221/perl/vendor/lib/MooseX/Types.pm line 494
MooseX::Types::__ANON__(Data::Pipeline::Adapter::Array=HASH(0x172548c)) called at C:\STRAWB~1\cpan\build\Data-Pipeline-0.02-9UqjgT\blib\lib/Data/Pipeline/Aggregator/Pipeline.pm line 30
Data::Pipeline::Aggregator::Pipeline::from(Data::Pipeline::Aggregator::Pipeline=HASH(0x1730cbc), "array", ARRAY(0x3f846c)) called at C:\STRAWB~1\cpan\build\Data-Pipeline-0.02-9UqjgT\blib\lib/Data/Pipeline/Aggregator/Machine.pm line 124
Data::Pipeline::Aggregator::Machine::__ANON__() called at C:\STRAWB~1\cpan\build\Data-Pipeline-0.02-9UqjgT\blib\lib/Data/Pipeline/Machine.pm line 162
Data::Pipeline::Machine::with_options(CODE(0xba767c), HASH(0xba73ac)) called at C:\STRAWB~1\cpan\build\Data-Pipeline-0.02-9UqjgT\blib\lib/Data/Pipeline/Aggregator/Machine.pm line 125
Data::Pipeline::Aggregator::Machine::from(Data::Pipeline::Aggregator::Machine=HASH(0x173a0d4), "array", ARRAY(0x3f846c)) called at unkown line 966
Data::Pipeline::Parser::run(Data::Pipeline::Parser=HASH(0x17641cc), "from", HASH(0x1737e84), "to", ARRAY(0x171d9fc)) called at t/20-script.t line 24
t/20-script.t .......... ok
All tests successful.
Files=14, Tests=137, 20 wallclock secs ( 0.11 usr + 0.06 sys = 0.17 CPU)
Result: PASS
------------------------------
PREREQUISITES
------------------------------
Prerequisite modules loaded:
requires:
Module Need Have
------------------- ---- --------
Moose 2.06 2.1605
build_requires:
Module Need Have
------------------- ---- --------
ExtUtils::MakeMaker 6.36 7.10
Test::More 0 1.001014
configure_requires:
Module Need Have
------------------- ---- --------
ExtUtils::MakeMaker 6.36 7.10
------------------------------
ENVIRONMENT AND OTHER CONTEXT
------------------------------
Environment variables:
AUTOMATED_TESTING = 1
COMSPEC = C:\WINDOWS\system32\cmd.exe
NUMBER_OF_PROCESSORS = 1
PATH = C:\WINDOWS\system32;C:\WINDOWS;C:\WINDOWS\System32\Wbem;C:\Strawberry221\c\bin;C:\Strawberry221\perl\site\bin;C:\Strawberry221\perl\bin;C:\Git\cmd
PERL5LIB =
PERL5OPT =
PERL5_CPANPLUS_IS_RUNNING = 244
PERL5_CPAN_IS_RUNNING = 244
PERL5_CPAN_IS_RUNNING_IN_RECURSION = 816,244
PERL_CR_SMOKER_CURRENT = Data-Pipeline-0.02
PERL_CR_SMOKER_RUNONCE = 1
PERL_EXTUTILS_AUTOINSTALL = --defaultdeps
PERL_HASH_SEED = 0x11111111
PERL_MM_USE_DEFAULT = 1
PROCESSOR_IDENTIFIER = x86 Family 16 Model 5 Stepping 3, AuthenticAMD
TEMP = C:\DOCUME~1\c\LOCALS~1\Temp
Perl special variables (and OS-specific diagnostics, for MSWin32):
$^X = C:\Strawberry221\perl\bin\perl.exe
$UID/$EUID = 0 / 0
$GID = 0
$EGID = 0
Win32::GetOSName = WinXP/.Net
Win32::GetOSVersion = Service Pack 3, 5, 1, 2600, 2, 3, 0, 256, 1
Win32::FsType = NTFS
Win32::IsAdminUser = 1
Perl module toolchain versions installed:
Module Have
------------------- --------
CPAN 2.11
CPAN::Meta 2.150005
Cwd 3.62
ExtUtils::CBuilder 0.280224
ExtUtils::Command 7.10
ExtUtils::Install 2.04
ExtUtils::MakeMaker 7.10
ExtUtils::Manifest 1.70
ExtUtils::ParseXS 3.30
File::Spec 3.62
JSON 2.90
JSON::PP 2.27300
Module::Build 0.4216
Module::Signature 0.79
Parse::CPAN::Meta 1.4417
Test::Harness 3.36
Test::More 1.001014
YAML 1.15
YAML::Syck 1.29
version 0.9916
--
Summary of my perl5 (revision 5 version 22 subversion 1) configuration:
Platform:
osname=MSWin32, osvers=4.0, archname=MSWin32-x86-multi-thread-64int
uname='Win32 strawberry-perl 5.22.1.4 #1 Sat Mar 26 14:08:02 2016 i386'
config_args='undef'
hint=recommended, useposix=true, d_sigaction=undef
useithreads=define, usemultiplicity=define
use64bitint=define, use64bitall=undef, uselongdouble=undef
usemymalloc=n, bincompat5005=undef
Compiler:
cc='gcc', ccflags =' -s -O2 -DWIN32 -DPERL_TEXTMODE_SCRIPTS -DPERL_IMPLICIT_CONTEXT -DPERL_IMPLICIT_SYS -fwrapv -fno-strict-aliasing -mms-bitfields',
optimize='-s -O2',
cppflags='-DWIN32'
ccversion='', gccversion='4.9.2', gccosandvers=''
intsize=4, longsize=4, ptrsize=4, doublesize=8, byteorder=12345678, doublekind=3
d_longlong=define, longlongsize=8, d_longdbl=define, longdblsize=12, longdblkind=3
ivtype='long long', ivsize=8, nvtype='double', nvsize=8, Off_t='long long', lseeksize=8
alignbytes=8, prototype=define
Linker and Libraries:
ld='g++', ldflags ='-s -L"C:\STRAWB~1\perl\lib\CORE" -L"C:\STRAWB~1\c\lib"'
libpth=C:\STRAWB~1\c\lib C:\STRAWB~1\c\i686-w64-mingw32\lib C:\STRAWB~1\c\lib\gcc\i686-w64-mingw32\4.9.2
libs=-lmoldname -lkernel32 -luser32 -lgdi32 -lwinspool -lcomdlg32 -ladvapi32 -lshell32 -lole32 -loleaut32 -lnetapi32 -luuid -lws2_32 -lmpr -lwinmm -lversion -lodbc32 -lodbccp32 -lcomctl32
perllibs=-lmoldname -lkernel32 -luser32 -lgdi32 -lwinspool -lcomdlg32 -ladvapi32 -lshell32 -lole32 -loleaut32 -lnetapi32 -luuid -lws2_32 -lmpr -lwinmm -lversion -lodbc32 -lodbccp32 -lcomctl32
libc=, so=dll, useshrplib=true, libperl=libperl522.a
gnulibc_version=''
Dynamic Linking:
dlsrc=dl_win32.xs, dlext=xs.dll, d_dlsymun=undef, ccdlflags=' '
cccdlflags=' ', lddlflags='-mdll -s -L"C:\STRAWB~1\perl\lib\CORE" -L"C:\STRAWB~1\c\lib"'
Characteristics of this binary (from libperl):
Compile-time options: HAS_TIMES HAVE_INTERP_INTERN MULTIPLICITY
PERLIO_LAYERS PERL_DONT_CREATE_GVSV
PERL_HASH_FUNC_ONE_AT_A_TIME_HARD
PERL_IMPLICIT_CONTEXT PERL_IMPLICIT_SYS
PERL_MALLOC_WRAP PERL_NEW_COPY_ON_WRITE
PERL_PRESERVE_IVUV USE_64_BIT_INT USE_ITHREADS
USE_LARGE_FILES USE_LOCALE USE_LOCALE_COLLATE
USE_LOCALE_CTYPE USE_LOCALE_NUMERIC USE_LOCALE_TIME
USE_PERLIO USE_PERL_ATOF
Built under MSWin32
Compiled at Mar 26 2016 14:12:26
%ENV:
PERL5_CPANPLUS_IS_RUNNING="244"
PERL5_CPAN_IS_RUNNING="244"
PERL5_CPAN_IS_RUNNING_IN_RECURSION="816,244"
PERL_CR_SMOKER_CURRENT="Data-Pipeline-0.02"
PERL_CR_SMOKER_RUNONCE="1"
PERL_EXTUTILS_AUTOINSTALL="--defaultdeps"
PERL_HASH_SEED="0x11111111"
PERL_MM_USE_DEFAULT="1"
@INC:
C:/Strawberry221/perl/site/lib
C:/Strawberry221/perl/vendor/lib
C:/Strawberry221/perl/lib
.