Weather-GHCN-Fetch vv0.0.011 Perl 5 v5.34.1 x86_64-linux

Status
Pass
From
Slaven Rezić
Dist
Weather-GHCN-Fetch vv0.0.011
Platform
Perl 5 v5.34.1 x86_64-linux
Date
2022-11-22 04:49:23
ID
08c1c2ee-6a21-11ed-a9dc-15116e8775ea
This distribution has been tested as part of the CPAN Testers
project, supporting the Perl programming language.  See
http://wiki.cpantesters.org/ for more information or email
questions to cpan-testers-discuss@perl.org


--
Dear Gary Puckering,

This is a computer-generated report for Weather-GHCN-Fetch-v0.0.011
on perl 5.34.1, created by CPAN-Reporter-1.2018.

Thank you for uploading your work to CPAN.  Congratulations!
All tests were successful.

Sections of this report:

    * Tester comments
    * Program output
    * Prerequisites
    * Environment and other context

------------------------------
TESTER COMMENTS
------------------------------

Additional comments from tester:

none provided

------------------------------
PROGRAM OUTPUT
------------------------------

Output from '/usr/bin/make test':

PERL_DL_NONLAZY=1 "/opt/perl-5.34.1/bin/perl" "-MExtUtils::Command::MM" "-MTest::Harness" "-e" "undef *Test::Harness::Switches; test_harness(0, 'blib/lib', 'blib/arch')" t/*.t
# 
# Versions for all modules listed in MYMETA.json (including optional ones):
# 
# === Configure Requires ===
# 
#     Module              Want Have
#     ------------------- ---- ----
#     ExtUtils::MakeMaker  any 7.64
# 
# === Build Requires ===
# 
#     Module              Want Have
#     ------------------- ---- ----
#     ExtUtils::MakeMaker  any 7.64
# 
# === Test Requires ===
# 
#     Module              Want     Have
#     ------------------- ---- --------
#     Capture::Tiny        any     0.48
#     ExtUtils::MakeMaker  any     7.64
#     File::Spec           any     3.80
#     Test::Exception      any     0.43
#     Test::LongString     any     0.17
#     Test::More           any 1.302191
#     Time::Local          any     1.30
#     lib                  any     0.65
# 
# === Test Recommends ===
# 
#     Module         Want     Have
#     ---------- -------- --------
#     CPAN::Meta 2.120900 2.150010
# 
# === Runtime Requires ===
# 
#     Module                     Want      Have
#     ------------------------- ----- ---------
#     Carp                        any      1.52
#     Const::Fast                 any     0.014
#     ControlBreak                any v0.22.244
#     Devel::Size                 any      0.83
#     English                     any      1.11
#     Exporter                    any      5.76
#     Fcntl                       any      1.14
#     File::stat                  any      1.09
#     FindBin                     any      1.52
#     Getopt::Long                any      2.52
#     HTML::Entities              any      3.78
#     Hash::Wrap                  any      0.22
#     LWP::Simple                 any      6.67
#     List::Util                  any      1.63
#     Math::Trig                  any      1.23
#     Module::Load::Conditional   any      0.74
#     Object::Pad                0.66      0.71
#     Path::Tiny                0.122     0.130
#     Pod::Usage                  any      2.03
#     Set::IntSpan::Fast          any      1.15
#     Text::Abbrev                any      1.02
#     Time::HiRes                 any    1.9767
#     Time::Piece                1.32    1.3401
#     Try::Tiny                   any      0.31
#     YAML::Tiny                  any      1.73
#     base                        any      2.27
#     feature                     any      1.64
#     if                          any    0.0609
#     parent                      any     0.238
#     strict                      any      1.12
#     warnings                    any      1.51
# 
t/00-report-prereqs.t ........... ok
t/00_initialize_test_env.t ...... ok
t/11_common.t ................... ok
t/12_country_codes.t ............ ok
t/13_measures.t ................. ok
t/14_options.t .................. ok
t/15_cacheURI.t ................. ok
t/21_station.t .................. ok
t/22_station_table_subs.t ....... ok
t/31_station_table_synthesis.t .. ok
t/81_timing_stats.t ............. ok
t/91_ghcn_fetch.t ............... ok
t/92_ghcn_extremes.t ............ ok
t/93_ghcn_station_counts.t ...... ok
t/94_ghcn_cacheutil.t ........... ok
All tests successful.
Files=15, Tests=155, 26 wallclock secs ( 0.08 usr  0.01 sys + 19.28 cusr  0.47 csys = 19.84 CPU)
Result: PASS

------------------------------
PREREQUISITES
------------------------------

Prerequisite modules loaded:

requires:

    Module                    Need     Have     
    ------------------------- -------- ---------
    base                      0        2.27     
    Carp                      0        1.52     
    Const::Fast               0        0.014    
    ControlBreak              0        v0.22.244
    Devel::Size               0        0.83     
    English                   0        1.11     
    Exporter                  0        5.76     
    Fcntl                     0        1.14     
    feature                   0        1.64     
    File::stat                0        1.09     
    FindBin                   0        1.52     
    Getopt::Long              0        2.52     
    Hash::Wrap                0        0.22     
    HTML::Entities            0        3.78     
    if                        0        0.0609   
    List::Util                0        1.63     
    LWP::Simple               0        6.67     
    Math::Trig                0        1.23     
    Module::Load::Conditional 0        0.74     
    Object::Pad               0.66     0.71     
    parent                    0        0.238    
    Path::Tiny                0.122    0.130    
    perl                      5.018000 5.034001 
    Pod::Usage                0        2.03     
    Set::IntSpan::Fast        0        1.15     
    strict                    0        1.12     
    Text::Abbrev              0        1.02     
    Time::HiRes               0        1.9767   
    Time::Piece               1.32     1.3401   
    Try::Tiny                 0        0.31     
    warnings                  0        1.51     
    YAML::Tiny                0        1.73     

build_requires:

    Module                    Need     Have     
    ------------------------- -------- ---------
    Capture::Tiny             0        0.48     
    ExtUtils::MakeMaker       0        7.64     
    File::Spec                0        3.80     
    lib                       0        0.65     
    Test::Exception           0        0.43     
    Test::LongString          0        0.17     
    Test::More                0        1.302191 
    Time::Local               0        1.30     

configure_requires:

    Module                    Need     Have     
    ------------------------- -------- ---------
    ExtUtils::MakeMaker       0        7.64     


------------------------------
ENVIRONMENT AND OTHER CONTEXT
------------------------------

Environment variables:

    LANG = en_US.UTF-8
    PATH = /usr/local/bin:/usr/bin:/bin:/usr/local/sbin:/usr/sbin:/sbin:/home/cpansand/bin/linux-gnu:/home/cpansand/bin/sh:/home/cpansand/bin:/usr/games:/home/cpansand/devel:/home/eserte/src/srezic-misc/scripts
    PERL5LIB = 
    PERL5OPT = 
    PERL5_CPANPLUS_IS_RUNNING = 2038678
    PERL5_CPAN_IS_RUNNING = 2038678
    PERL5_CPAN_IS_RUNNING_IN_RECURSION = 2038575,2038678
    PERLDOC = -MPod::Perldoc::ToTextOverstrike
    PERL_BATCH = yes
    PERL_CANARY_STABILITY_NOPROMPT = 1
    PERL_CPAN_REPORTER_CONFIG = /var/tmp/cpansmoker-1023/2022112204/cpanreporter_000_config.ini
    PERL_EXTUTILS_AUTOINSTALL = --defaultdeps
    PERL_USE_UNSAFE_INC = 1
    SHELL = /usr/bin/zsh
    TERM = screen
    TMPDIR = /var/tmp/cpansmoker-1023/2022112204

Perl special variables (and OS-specific diagnostics, for MSWin32):

    $^X = /opt/perl-5.34.1/bin/perl
    $UID/$EUID = 1023 / 1023
    $GID = 1023 1023
    $EGID = 1023 1023

Perl module toolchain versions installed:

    Module              Have    
    ------------------- --------
    CPAN                2.34    
    CPAN::Meta          2.150010
    Cwd                 3.80    
    ExtUtils::CBuilder  0.280236
    ExtUtils::Command   7.64    
    ExtUtils::Install   2.20    
    ExtUtils::MakeMaker 7.64    
    ExtUtils::Manifest  1.73    
    ExtUtils::ParseXS   3.43    
    File::Spec          3.80    
    JSON                4.10    
    JSON::PP            4.12    
    Module::Build       0.4231  
    Module::Signature   0.88    
    Parse::CPAN::Meta   2.150010
    Test::Harness       3.44    
    Test::More          1.302191
    YAML                1.30    
    YAML::Syck          1.34    
    version             0.9929  


--

Summary of my perl5 (revision 5 version 34 subversion 1) configuration:
   
  Platform:
    osname=linux
    osvers=5.15.0-25-generic
    archname=x86_64-linux
    uname='linux cloud14.bbbike.org 5.15.0-25-generic #25-ubuntu smp wed mar 30 15:54:22 utc 2022 x86_64 x86_64 x86_64 gnulinux '
    config_args='-ds -e -Dprefix=/opt/perl-5.34.1 -Dcf_email=srezic@cpan.org'
    hint=recommended
    useposix=true
    d_sigaction=define
    useithreads=undef
    usemultiplicity=undef
    use64bitint=define
    use64bitall=define
    uselongdouble=undef
    usemymalloc=n
    default_inc_excludes_dot=define
  Compiler:
    cc='cc'
    ccflags ='-fwrapv -fno-strict-aliasing -pipe -fstack-protector-strong -I/usr/local/include -D_LARGEFILE_SOURCE -D_FILE_OFFSET_BITS=64'
    optimize='-O2'
    cppflags='-fwrapv -fno-strict-aliasing -pipe -fstack-protector-strong -I/usr/local/include'
    ccversion=''
    gccversion='11.2.0'
    gccosandvers=''
    intsize=4
    longsize=8
    ptrsize=8
    doublesize=8
    byteorder=12345678
    doublekind=3
    d_longlong=define
    longlongsize=8
    d_longdbl=define
    longdblsize=16
    longdblkind=3
    ivtype='long'
    ivsize=8
    nvtype='double'
    nvsize=8
    Off_t='off_t'
    lseeksize=8
    alignbytes=8
    prototype=define
  Linker and Libraries:
    ld='cc'
    ldflags =' -fstack-protector-strong -L/usr/local/lib'
    libpth=/usr/local/lib /usr/lib/x86_64-linux-gnu /usr/lib /usr/lib64
    libs=-lpthread -lnsl -lgdbm -ldb -ldl -lm -lcrypt -lutil -lc
    perllibs=-lpthread -lnsl -ldl -lm -lcrypt -lutil -lc
    libc=/lib/x86_64-linux-gnu/libc.so.6
    so=so
    useshrplib=false
    libperl=libperl.a
    gnulibc_version='2.35'
  Dynamic Linking:
    dlsrc=dl_dlopen.xs
    dlext=so
    d_dlsymun=undef
    ccdlflags='-Wl,-E'
    cccdlflags='-fPIC'
    lddlflags='-shared -O2 -L/usr/local/lib -fstack-protector-strong'


Characteristics of this binary (from libperl): 
  Compile-time options:
    HAS_TIMES
    PERLIO_LAYERS
    PERL_COPY_ON_WRITE
    PERL_DONT_CREATE_GVSV
    PERL_MALLOC_WRAP
    PERL_OP_PARENT
    PERL_PRESERVE_IVUV
    USE_64_BIT_ALL
    USE_64_BIT_INT
    USE_LARGE_FILES
    USE_LOCALE
    USE_LOCALE_COLLATE
    USE_LOCALE_CTYPE
    USE_LOCALE_NUMERIC
    USE_LOCALE_TIME
    USE_PERLIO
    USE_PERL_ATOF
  Built under linux
  Compiled at Apr 25 2022 17:58:01
  %ENV:
    PERL5LIB=""
    PERL5OPT=""
    PERL5_CPANPLUS_IS_RUNNING="2038678"
    PERL5_CPAN_IS_RUNNING="2038678"
    PERL5_CPAN_IS_RUNNING_IN_RECURSION="2038575,2038678"
    PERLDOC="-MPod::Perldoc::ToTextOverstrike"
    PERL_BATCH="yes"
    PERL_CANARY_STABILITY_NOPROMPT="1"
    PERL_CPAN_REPORTER_CONFIG="/var/tmp/cpansmoker-1023/2022112204/cpanreporter_000_config.ini"
    PERL_EXTUTILS_AUTOINSTALL="--defaultdeps"
    PERL_USE_UNSAFE_INC="1"
  @INC:
    /opt/perl-5.34.1/lib/site_perl/5.34.1/x86_64-linux
    /opt/perl-5.34.1/lib/site_perl/5.34.1
    /opt/perl-5.34.1/lib/5.34.1/x86_64-linux
    /opt/perl-5.34.1/lib/5.34.1
    .