Dist-Zilla-PluginBundle-BioPerl v0.27 Perl 5 v5.22.0 amd64-freebsd

Status
Pass
From
Slaven Rezić (SREZIC)
Dist
Dist-Zilla-PluginBundle-BioPerl v0.27
Platform
Perl 5 v5.22.0 amd64-freebsd
Date
2018-09-14 15:22:46
ID
08b5f996-b832-11e8-845f-b3e9c9767be2
This distribution has been tested as part of the CPAN Testers
project, supporting the Perl programming language.  See
http://wiki.cpantesters.org/ for more information or email
questions to cpan-testers-discuss@perl.org


--
Dear carandraug,

This is a computer-generated report for Dist-Zilla-PluginBundle-BioPerl-0.27
on perl 5.22.0, created by CPAN-Reporter-1.2018.

Thank you for uploading your work to CPAN.  Congratulations!
All tests were successful.

Sections of this report:

    * Tester comments
    * Program output
    * Prerequisites
    * Environment and other context

------------------------------
TESTER COMMENTS
------------------------------

Additional comments from tester:

none provided

------------------------------
PROGRAM OUTPUT
------------------------------

Output from '/usr/bin/make test':

PERL_DL_NONLAZY=1 "/usr/perl5.22.0p/bin/perl5.22.0" "-MExtUtils::Command::MM" "-MTest::Harness" "-e" "undef *Test::Harness::Switches; test_harness(0, 'blib/lib', 'blib/arch')" t/*.t
Couldn't require Email::Abstract::Courriel : Specification contains unknown keys: [isa] at /usr/perl5.22.0p/lib/site_perl/5.22.0/Courriel/Header.pm line 34.
Compilation failed in require at /usr/perl5.22.0p/lib/site_perl/5.22.0/Courriel/Headers.pm line 9.
BEGIN failed--compilation aborted at /usr/perl5.22.0p/lib/site_perl/5.22.0/Courriel/Headers.pm line 9.
Compilation failed in require at /usr/perl5.22.0p/lib/site_perl/5.22.0/Courriel.pm line 11.
BEGIN failed--compilation aborted at /usr/perl5.22.0p/lib/site_perl/5.22.0/Courriel.pm line 11.
Compilation failed in require at /usr/perl5.22.0p/lib/site_perl/5.22.0/Email/Abstract/Courriel.pm line 8.
BEGIN failed--compilation aborted at /usr/perl5.22.0p/lib/site_perl/5.22.0/Email/Abstract/Courriel.pm line 8.
Compilation failed in require at /usr/perl5.22.0p/lib/site_perl/5.22.0/Module/Runtime.pm line 317.
 at /usr/perl5.22.0p/lib/site_perl/5.22.0/Module/Pluggable.pm line 32.
t/00-compile.t ........... ok
t/author-eol.t ........... skipped: these tests are for testing by the author
t/author-mojibake.t ...... skipped: these tests are for testing by the author
t/author-no-tabs.t ....... skipped: these tests are for testing by the author
t/author-pod-coverage.t .. skipped: these tests are for testing by the author
t/author-pod-syntax.t .... skipped: these tests are for testing by the author
Couldn't require Email::Abstract::Courriel : Specification contains unknown keys: [isa] at /usr/perl5.22.0p/lib/site_perl/5.22.0/Courriel/Header.pm line 34.
Compilation failed in require at /usr/perl5.22.0p/lib/site_perl/5.22.0/Courriel/Headers.pm line 9.
BEGIN failed--compilation aborted at /usr/perl5.22.0p/lib/site_perl/5.22.0/Courriel/Headers.pm line 9.
Compilation failed in require at /usr/perl5.22.0p/lib/site_perl/5.22.0/Courriel.pm line 11.
BEGIN failed--compilation aborted at /usr/perl5.22.0p/lib/site_perl/5.22.0/Courriel.pm line 11.
Compilation failed in require at /usr/perl5.22.0p/lib/site_perl/5.22.0/Email/Abstract/Courriel.pm line 8.
BEGIN failed--compilation aborted at /usr/perl5.22.0p/lib/site_perl/5.22.0/Email/Abstract/Courriel.pm line 8.
Compilation failed in require at /usr/perl5.22.0p/lib/site_perl/5.22.0/Module/Runtime.pm line 317.
 at /usr/perl5.22.0p/lib/site_perl/5.22.0/Module/Pluggable.pm line 32.
t/main.t ................. ok
All tests successful.
Files=7, Tests=3,  5 wallclock secs ( 0.01 usr  0.02 sys +  0.63 cusr  1.88 csys =  2.55 CPU)
Result: PASS

------------------------------
PREREQUISITES
------------------------------

Prerequisite modules loaded:

requires:

    Module                                          Need  Have    
    ----------------------------------------------- ----- --------
    Dist::Zilla::Plugin::AutoMetaResources          0     1.21    
    Dist::Zilla::Plugin::AutoPrereqs                0     6.012   
    Dist::Zilla::Plugin::Encoding                   0     6.012   
    Dist::Zilla::Plugin::Git::Check                 0     2.044   
    Dist::Zilla::Plugin::Git::Commit                0     2.044   
    Dist::Zilla::Plugin::Git::Tag                   0     2.044   
    Dist::Zilla::Plugin::MetaConfig                 0     6.012   
    Dist::Zilla::Plugin::MetaJSON                   0     6.012   
    Dist::Zilla::Plugin::MetaResources              0     6.012   
    Dist::Zilla::Plugin::MojibakeTests              0     0.8     
    Dist::Zilla::Plugin::NextRelease                0     6.012   
    Dist::Zilla::Plugin::PkgVersion                 0     6.012   
    Dist::Zilla::Plugin::PodCoverageTests           0     6.012   
    Dist::Zilla::Plugin::PodSyntaxTests             0     6.012   
    Dist::Zilla::Plugin::PodWeaver                  0     4.008   
    Dist::Zilla::Plugin::Test::Compile              0     2.058   
    Dist::Zilla::Plugin::Test::EOL                  0     0.18    
    Dist::Zilla::Plugin::Test::NoTabs               0     0.15    
    Dist::Zilla::PluginBundle::Basic                0     6.012   
    Dist::Zilla::Role::PluginBundle::Config::Slicer 0     0.201   
    Dist::Zilla::Role::PluginBundle::Easy           0     6.012   
    Dist::Zilla::Role::PluginBundle::PluginRemover  0     0.105   
    Moose                                           1.00  2.2011  
    MooseX::AttributeShortcuts                      0     0.036   
    MooseX::Types::Email                            0     0.007   
    MooseX::Types::Moose                            0     0.50    
    namespace::autoclean                            0     0.28    
    perl                                            5.006 5.022000
    Pod::Elemental::Transformer::List               0     0.102000
    Pod::Weaver::Config::Assembler                  0     4.015   
    Pod::Weaver::Plugin::EnsureUniqueSections       0     0.163250
    Pod::Weaver::Plugin::SingleEncoding             0     4.015   
    Pod::Weaver::Plugin::Transformer                0     4.015   
    Pod::Weaver::PluginBundle::CorePrep             0     4.015   
    Pod::Weaver::Section::Collect                   0     4.015   
    Pod::Weaver::Section::Contributors              0     0.009   
    Pod::Weaver::Section::GenerateSection           0     1.01    
    Pod::Weaver::Section::Leftovers                 0     4.015   
    Pod::Weaver::Section::Legal::Complicated        0     1.23    
    Pod::Weaver::Section::Name                      0     4.015   
    Pod::Weaver::Section::Region                    0     4.015   
    Pod::Weaver::Section::Version                   0     4.015   
    strict                                          0     1.09    
    utf8                                            0     1.17    
    warnings                                        0     1.32    

build_requires:

    Module                                          Need  Have    
    ----------------------------------------------- ----- --------
    ExtUtils::MakeMaker                             0     7.34    
    File::Spec                                      0     3.74    
    IO::Handle                                      0     1.39    
    IPC::Open3                                      0     1.18    
    Test::DZil                                      0     6.012   
    Test::Fatal                                     0     0.014   
    Test::More                                      0     1.302138

configure_requires:

    Module                                          Need  Have    
    ----------------------------------------------- ----- --------
    ExtUtils::MakeMaker                             0     7.34    


------------------------------
ENVIRONMENT AND OTHER CONTEXT
------------------------------

Environment variables:

    LC_ALL = de_DE.ISO8859-1
    PATH = /usr/local/bin:/usr/bin:/bin:/usr/local/sbin:/usr/sbin:/sbin:/home/cpansand/bin/freebsd10.3:/home/cpansand/bin/sh:/home/cpansand/bin:/usr/games:/home/cpansand/devel:/home/eserte/src/srezic-misc/scripts
    PERL5LIB = 
    PERL5OPT = 
    PERL5_CPANPLUS_IS_RUNNING = 97825
    PERL5_CPAN_IS_RUNNING = 97825
    PERL5_CPAN_IS_RUNNING_IN_RECURSION = 96857,97825
    PERLDOC = -MPod::Perldoc::ToTextOverstrike
    PERL_BATCH = yes
    PERL_CANARY_STABILITY_NOPROMPT = 1
    PERL_CPAN_REPORTER_CONFIG = /var/tmp/cpansmoker-1023/2018091417/cpanreporter_000_config.ini
    PERL_EXTUTILS_AUTOINSTALL = --defaultdeps
    SHELL = /usr/local/bin/zsh
    TERM = screen
    TMPDIR = /var/tmp/cpansmoker-1023/2018091417

Perl special variables (and OS-specific diagnostics, for MSWin32):

    $^X = /usr/perl5.22.0p/bin/perl5.22.0
    $UID/$EUID = 1023 / 1023
    $GID = 1023 1023
    $EGID = 1023 1023

Perl module toolchain versions installed:

    Module              Have    
    ------------------- --------
    CPAN                2.16    
    CPAN::Meta          2.150010
    Cwd                 3.74    
    ExtUtils::CBuilder  0.280230
    ExtUtils::Command   7.34    
    ExtUtils::Install   2.14    
    ExtUtils::MakeMaker 7.34    
    ExtUtils::Manifest  1.70    
    ExtUtils::ParseXS   3.35    
    File::Spec          3.74    
    JSON                2.97001 
    JSON::PP            2.94    
    Module::Build       0.4224  
    Module::Signature   0.83    
    Parse::CPAN::Meta   2.150010
    Test::Harness       3.42    
    Test::More          1.302138
    YAML                1.26    
    YAML::Syck          1.30    
    version             0.9922  


--

Summary of my perl5 (revision 5 version 22 subversion 0) configuration:
   
  Platform:
    osname=freebsd, osvers=10.1-release, archname=amd64-freebsd
    uname='freebsd cvrsnica-freebsd-101.herceg.de 10.1-release freebsd 10.1-release #0 r274401: tue nov 11 21:02:49 utc 2014 root@releng1.nyi.freebsd.org:usrobjusrsrcsysgeneric amd64 '
    config_args='-ds -e -Dprefix=/usr/perl5.22.0p -Dcf_email=srezic@cpan.org'
    hint=recommended, useposix=true, d_sigaction=define
    useithreads=undef, usemultiplicity=undef
    use64bitint=define, use64bitall=define, uselongdouble=undef
    usemymalloc=n, bincompat5005=undef
  Compiler:
    cc='cc', ccflags ='-DHAS_FPSETMASK -DHAS_FLOATINGPOINT_H -fno-strict-aliasing -pipe -fstack-protector -I/usr/local/include -D_FORTIFY_SOURCE=2',
    optimize='-O',
    cppflags='-DHAS_FPSETMASK -DHAS_FLOATINGPOINT_H -fno-strict-aliasing -pipe -fstack-protector -I/usr/local/include'
    ccversion='', gccversion='4.2.1 Compatible FreeBSD Clang 3.4.1 (tags/RELEASE_34/dot1-final 208032)', gccosandvers=''
    intsize=4, longsize=8, ptrsize=8, doublesize=8, byteorder=12345678, doublekind=3
    d_longlong=define, longlongsize=8, d_longdbl=define, longdblsize=16, longdblkind=3
    ivtype='long', ivsize=8, nvtype='double', nvsize=8, Off_t='off_t', lseeksize=8
    alignbytes=8, prototype=define
  Linker and Libraries:
    ld='cc', ldflags ='-pthread -Wl,-E  -fstack-protector -L/usr/local/lib'
    libpth=/usr/lib /usr/local/lib /usr/include/clang/3.4.1 /usr/lib
    libs=-lpthread -lgdbm -lm -lcrypt -lutil -lc
    perllibs=-lpthread -lm -lcrypt -lutil -lc
    libc=, so=so, useshrplib=false, libperl=libperl.a
    gnulibc_version=''
  Dynamic Linking:
    dlsrc=dl_dlopen.xs, dlext=so, d_dlsymun=undef, ccdlflags=' '
    cccdlflags='-DPIC -fPIC', lddlflags='-shared  -L/usr/local/lib -fstack-protector'


Characteristics of this binary (from libperl): 
  Compile-time options: HAS_TIMES PERLIO_LAYERS PERL_DONT_CREATE_GVSV
                        PERL_HASH_FUNC_ONE_AT_A_TIME_HARD PERL_MALLOC_WRAP
                        PERL_NEW_COPY_ON_WRITE PERL_PRESERVE_IVUV
                        USE_64_BIT_ALL USE_64_BIT_INT USE_LARGE_FILES
                        USE_LOCALE USE_LOCALE_COLLATE USE_LOCALE_CTYPE
                        USE_LOCALE_NUMERIC USE_LOCALE_TIME USE_PERLIO
                        USE_PERL_ATOF
  Built under freebsd
  Compiled at Jun  1 2015 20:19:01
  %ENV:
    PERL5LIB=""
    PERL5OPT=""
    PERL5_CPANPLUS_IS_RUNNING="97825"
    PERL5_CPAN_IS_RUNNING="97825"
    PERL5_CPAN_IS_RUNNING_IN_RECURSION="96857,97825"
    PERLDOC="-MPod::Perldoc::ToTextOverstrike"
    PERL_BATCH="yes"
    PERL_CANARY_STABILITY_NOPROMPT="1"
    PERL_CPAN_REPORTER_CONFIG="/var/tmp/cpansmoker-1023/2018091417/cpanreporter_000_config.ini"
    PERL_EXTUTILS_AUTOINSTALL="--defaultdeps"
  @INC:
    /usr/perl5.22.0p/lib/site_perl/5.22.0/amd64-freebsd
    /usr/perl5.22.0p/lib/site_perl/5.22.0
    /usr/perl5.22.0p/lib/5.22.0/amd64-freebsd
    /usr/perl5.22.0p/lib/5.22.0
    .