App-GitGitr v0.907 Perl 5 v5.41.12 darwin-2level

Status
Pass
From
John SJ Anderson
Dist
App-GitGitr v0.907
Platform
Perl 5 v5.41.12 darwin-2level
Date
2025-04-22 05:02:47
ID
0865aa0e-1f37-11f0-92a8-fa1e28d4fbc0
This distribution has been tested as part of the CPAN Testers
project, supporting the Perl programming language.  See
http://wiki.cpantesters.org/ for more information or email
questions to cpan-testers-discuss@perl.org


--
Dear GENEHACK,

This is a computer-generated report for App-GitGitr-0.907
on perl 5.41.12, created by App::cpanminus::reporter 0.22 (1.7048).

Thank you for uploading your work to CPAN.  Congratulations!
All tests were successful.

Sections of this report:

    * Tester comments
    * Program output
    * Prerequisites
    * Environment and other context

------------------------------
TESTER COMMENTS
------------------------------

Additional comments from tester:

none provided

------------------------------
PROGRAM OUTPUT
------------------------------

Output from '':

Building and testing App-GitGitr-0.907
cp lib/App/GitGitr.pm blib/lib/App/GitGitr.pm
cp bin/gitgitr blib/script/gitgitr
"/opt/plenv/versions/5.41.12/bin/perl5.41.12" -MExtUtils::MY -e 'MY->fixin(shift)' -- blib/script/gitgitr
PERL_DL_NONLAZY=1 "/opt/plenv/versions/5.41.12/bin/perl5.41.12" "-MExtUtils::Command::MM" "-MTest::Harness" "-e" "undef *Test::Harness::Switches; test_harness(0, 'blib/lib', 'blib/arch')" t/*.t
t/00-compile.t ........... ok
t/author-eol.t ........... skipped: these tests are for testing by the author
t/author-pod-coverage.t .. skipped: these tests are for testing by the author
t/author-pod-syntax.t .... skipped: these tests are for testing by the author
All tests successful.
Files=4, Tests=2,  0 wallclock secs ( 0.01 usr  0.00 sys +  0.08 cusr  0.01 csys =  0.10 CPU)
Result: PASS

------------------------------
PREREQUISITES
------------------------------

Prerequisite modules loaded:

runtime:

    Module                   Need  Have    
    ------------------------ ----- --------
    App::Cmd::Simple         0     0.337   
    Archive::Extract         0     0.88    
    autodie                  0     2.37    
    Carp                     0     1.54    
    File::Remove             0     1.61    
    HTML::TreeBuilder::XPath 0     0.14    
    HTTP::Tiny               0     0.090   
    IPC::System::Simple      0     1.30    
    parent                   0     0.244   
    perl                     5.010 5.041012
    strict                   0     1.13    
    warnings                 0     1.74    

build:

    Module                   Need  Have    
    ------------------------ ----- --------
    ExtUtils::MakeMaker      0     7.74    

configure:

    Module                   Need  Have    
    ------------------------ ----- --------
    ExtUtils::MakeMaker      0     7.74    


------------------------------
ENVIRONMENT AND OTHER CONTEXT
------------------------------

Environment variables:

    LANG = en_US.UTF-8
    LC_ALL = en_US.UTF-8
    LC_TERMINAL = iTerm2
    LC_TERMINAL_VERSION = 3.5.13
    PATH = /opt/plenv/versions/5.41.12/bin:/opt/plenv/libexec:/opt/plenv/plugins/Perl-Build/bin:/Users/genehack/src/git-subrepo/lib:/opt/nextstrain:/Users/genehack/bin:/opt/rust/cargo/bin:/opt/miniconda3/bin:/opt/plenv/shims:/opt/plenv/bin:/opt/git/bin:/opt/homebrew/bin:/opt/local/bin:/usr/bin:/bin:/usr/sbin:/sbin
    PERL_CPANM_OPT = --skip-installed --prompt
    SHELL = /bin/zsh
    TERM = screen-256color
    TMPDIR = /var/folders/wb/w4vwqm8d34x0w9pcyr63fv5m0000gn/T/

Perl special variables (and OS-specific diagnostics, for MSWin32):

    EGID = 20 20 12 61 79 80 81 701 33 98 100 204 250 395 398 399 400
    EUID = 501
    EXECUTABLE_NAME = /opt/plenv/versions/5.41.12/bin/perl5.41.12
    GID = 20 20 12 61 79 80 81 701 33 98 100 204 250 395 398 399 400
    UID = 501

Perl module toolchain versions installed:

    Module              Have    
    ------------------- --------
    CPAN                2.38    
    CPAN::Meta          2.150010
    Cwd                 3.94    
    ExtUtils::CBuilder  0.280240
    ExtUtils::Command   7.74    
    ExtUtils::Install   2.22    
    ExtUtils::MakeMaker 7.74    
    ExtUtils::Manifest  1.75    
    ExtUtils::ParseXS   3.57    
    File::Spec          3.94    
    JSON                4.10    
    JSON::PP            4.16    
    Module::Build       0.4234  
    Module::Signature   n/a     
    Parse::CPAN::Meta   2.150010
    Test::Harness       3.50    
    Test::More          1.302210
    YAML                1.31    
    YAML::Syck          n/a     
    version             0.9933  


--

Summary of my perl5 (revision 5 version 41 subversion 12) configuration:
   
  Platform:
    osname=darwin
    osvers=24.4.0
    archname=darwin-2level
    uname='darwin betterer.home.genehack.org 24.4.0 darwin kernel version 24.4.0: fri apr 11 18:34:14 pdt 2025; root:xnu-11417.101.15~117release_arm64_t8122 arm64 arm darwin '
    config_args='-Dprefix=/opt/plenv/versions/5.41.12 -de -Dversiononly -Dusedevel -A'eval:scriptdir=/opt/plenv/versions/5.41.12/bin''
    hint=recommended
    useposix=true
    d_sigaction=define
    useithreads=undef
    usemultiplicity=undef
    use64bitint=define
    use64bitall=define
    uselongdouble=undef
    usemymalloc=n
    default_inc_excludes_dot=define
  Compiler:
    cc='cc'
    ccflags ='-fno-common -DPERL_DARWIN -mmacosx-version-min=15.4 -DNO_THREAD_SAFE_QUERYLOCALE -DNO_POSIX_2008_LOCALE -DHAS_BROKEN_LANGINFO_CODESET -DNO_LOCALE_COLLATE -fno-strict-aliasing -pipe -fstack-protector-strong'
    optimize='-O3'
    cppflags='-fno-common -DPERL_DARWIN -mmacosx-version-min=15.4 -DNO_THREAD_SAFE_QUERYLOCALE -DNO_POSIX_2008_LOCALE -DHAS_BROKEN_LANGINFO_CODESET -DNO_LOCALE_COLLATE -fno-strict-aliasing -pipe -fstack-protector-strong'
    ccversion=''
    gccversion='Apple LLVM 17.0.0 (clang-1700.0.13.3)'
    gccosandvers=''
    intsize=4
    longsize=8
    ptrsize=8
    doublesize=8
    byteorder=12345678
    doublekind=3
    d_longlong=define
    longlongsize=8
    d_longdbl=define
    longdblsize=8
    longdblkind=0
    ivtype='long'
    ivsize=8
    nvtype='double'
    nvsize=8
    Off_t='off_t'
    lseeksize=8
    alignbytes=8
    prototype=define
  Linker and Libraries:
    ld='cc'
    ldflags =' -mmacosx-version-min=15.4 -fstack-protector-strong'
    libpth=/Library/Developer/CommandLineTools/usr/lib/clang/17/lib /Library/Developer/CommandLineTools/SDKs/MacOSX15.4.sdk/usr/lib /Library/Developer/CommandLineTools/usr/lib /usr/lib
    libs= 
    perllibs=
    libc=
    so=dylib
    useshrplib=false
    libperl=libperl.a
    gnulibc_version=''
  Dynamic Linking:
    dlsrc=dl_dlopen.xs
    dlext=bundle
    d_dlsymun=undef
    ccdlflags=' '
    cccdlflags=' '
    lddlflags=' -mmacosx-version-min=15.4 -bundle -undefined dynamic_lookup -fstack-protector-strong'


Characteristics of this binary (from libperl): 
  Compile-time options:
    HAS_LONG_DOUBLE
    HAS_STRTOLD
    HAS_TIMES
    PERLIO_LAYERS
    PERL_COPY_ON_WRITE
    PERL_DONT_CREATE_GVSV
    PERL_HASH_FUNC_SIPHASH13
    PERL_HASH_USE_SBOX32
    PERL_MALLOC_WRAP
    PERL_OP_PARENT
    PERL_PRESERVE_IVUV
    PERL_USE_DEVEL
    PERL_USE_SAFE_PUTENV
    USE_64_BIT_ALL
    USE_64_BIT_INT
    USE_LARGE_FILES
    USE_LOCALE
    USE_LOCALE_CTYPE
    USE_LOCALE_NUMERIC
    USE_LOCALE_TIME
    USE_PERLIO
    USE_PERL_ATOF
  Built under darwin
  Compiled at Apr 21 2025 16:05:02
  %ENV:
    PERL_CPANM_OPT="--skip-installed --prompt"
  @INC:
    /opt/plenv/versions/5.41.12/lib/perl5/site_perl/5.41.12/darwin-2level
    /opt/plenv/versions/5.41.12/lib/perl5/site_perl/5.41.12
    /opt/plenv/versions/5.41.12/lib/perl5/5.41.12/darwin-2level
    /opt/plenv/versions/5.41.12/lib/perl5/5.41.12