Store-Digest v0.06 Perl 5 v5.14.4 MSWin32-x64-multi-thread

Status
Pass
From
LNATION
Dist
Store-Digest v0.06
Platform
Perl 5 v5.14.4 MSWin32-x64-multi-thread
Date
2025-05-26 06:17:49
ID
08630da3-6ef6-1014-be6d-96659602e6fc
This distribution has been tested as part of the CPAN Testers
project, supporting the Perl programming language.  See
http://wiki.cpantesters.org/ for more information or email
questions to cpan-testers-discuss@perl.org


--
Dear Dorian Taylor,

This is a computer-generated report for Store-Digest-0.06
on perl 5.14.4, created by CPAN-Reporter-1.2020.

Thank you for uploading your work to CPAN.  Congratulations!
All tests were successful.

Sections of this report:

    * Tester comments
    * Program output
    * Prerequisites
    * Environment and other context

------------------------------
TESTER COMMENTS
------------------------------

Additional comments from tester:

this report is from an automated smoke testing program
and was not reviewed by a human for accuracy

------------------------------
PROGRAM OUTPUT
------------------------------

Output from 'C:\strawberry\c\bin\dmake.exe test':

"C:\strawberry\perl\bin\perl.exe" "-MExtUtils::Command::MM" "-MTest::Harness" "-e" "undef *Test::Harness::Switches; test_harness(0, 'inc', 'blib\lib', 'blib\arch')" t/*.t
# Testing Store::Digest 0.06, Perl 5.014004, C:\strawberry\perl\bin\perl.exe
t/00-load.t ....... ok
# ni:///sha-256;47DEQpj8HBSa-_TImW-5JCeuQeRkm5NMpJWZG3hSuFU
t/01-object.t ..... ok
# DB version: 5.3
WARNING: You don't seem to have a mime-info database. The shared-mime-info package is available from http://freedesktop.org/ at C:/strawberry/perl/site/lib/File/MimeInfo.pm line 154.
	File::MimeInfo::rehash() called at C:/strawberry/perl/site/lib/File/MimeInfo.pm line 68
	File::MimeInfo::globs() called at C:/strawberry/perl/site/lib/File/MimeInfo.pm line 35
	File::MimeInfo::mimetype() called at C:/strawberry/perl/site/lib/Role/MimeInfo.pm line 50
	Role::MimeInfo::mimetype(Store::Digest::Driver::FileSystem=HASH(0x39c26c8), "t\\content\\store\\ehe7\\cqwr\\bslc\\q36xafduzshegknmwo7ppzsxmq62k4"...) called at C:\strawberry\cpan\build\Store-Digest-0.06-WAukOP\blib\lib/Store/Digest/Driver/FileSystem.pm line 832
	Store::Digest::Driver::FileSystem::add(Store::Digest::Driver::FileSystem=HASH(0x39c26c8), "mtime", DateTime=HASH(0x566be58), "content", IO::File=GLOB(0x54f40f8)) called at C:\strawberry\cpan\build\Store-Digest-0.06-WAukOP\blib\lib/Store/Digest/Driver.pm line 74
	Class::MOP::Class:::around(undef, undef, "content", IO::File=GLOB(0x54f40f8), "mtime", 1521854480) called at C:/strawberry/perl/site/lib/Class/MOP/Method/Wrapped.pm line 166
	Store::Digest::Driver::FileSystem::_wrapped_add(Store::Digest::Driver::FileSystem=HASH(0x39c26c8), "content", IO::File=GLOB(0x54f40f8), "mtime", 1521854480) called at C:/strawberry/perl/site/lib/Class/MOP/Method/Wrapped.pm line 97
	Store::Digest::Driver::FileSystem::add(Store::Digest::Driver::FileSystem=HASH(0x39c26c8), "content", IO::File=GLOB(0x54f40f8), "mtime", 1521854480) called at t/02-fs-driver.t line 22
# Store::Digest::Object
#   Digests:
#     ni:///md5;lSF_bYrxmP2cB_5cLdWciQ
#     ni:///sha-1;xK0bpGL2hQkPBtDxqXy-Yz4uDyg
#     ni:///sha-256;IcnxQtEMlihv1wFHTMjkMprLO-9-ZXZD2lcsQLmQ1xA
#     ni:///sha-384;t_Hk9o8uRxB2sRzAGjY5ycZon0FDXczwbHTO2x_NLZYxKXl5cq4nFRqV2OhiQqFl
#     ni:///sha-512;uWhaS1hSbh_-Id9T-a8_-7msx_-sFsKQgBH8yGXVtO8AAn8E7ljoHeeW7S2t54qJHY7iNrFpz8Wx8MvDXX7Ung
#   Size (Bytes): 1515
#   Added to Store: 2025-05-26T06:17:43
#   Last Modified: 2018-03-24T01:21:20
#   Properties Modified: 2025-05-26T06:17:43
#   Content Type: text/plain
#   Validation:
#     content-type    : unverified
#     charset         : unverified
#     content-encoding: unverified
#     syntax          : unverified
# Digest store stats:
#   Created on:      2025-05-26T06:17:43 
#   Last Modified:   2025-05-26T06:17:43 
#   Bytes stored:    1515                
#   Objects stored:  1                   
#   Objects deleted: 0                   
t/02-fs-driver.t .. ok
t/boilerplate.t ... ok
t/manifest.t ...... skipped: Author tests not required for installation
t/pod-coverage.t .. ok
t/pod.t ........... ok
All tests successful.

Test Summary Report
-------------------
t/boilerplate.t (Wstat: 0 Tests: 6 Failed: 0)
  TODO passed:   1-6
Files=7, Tests=35,  7 wallclock secs ( 0.05 usr +  0.03 sys =  0.08 CPU)
Result: PASS

------------------------------
PREREQUISITES
------------------------------

Prerequisite modules loaded:

requires:

    Module                   Need   Have    
    ------------------------ ------ --------
    BerkeleyDB               0.55   0.66    
    Class::Load              0.23   0.25    
    DateTime                 0.70   0.78    
    DateTime::Format::HTTP   0.40   0.43    
    File::Copy               2.21   2.21    
    HTTP::Negotiate          6.00   6.01    
    Math::BigInt             1.997  2.005003
    MIME::Base32             1.02   1.303   
    Moose                    2.0604 2.2207  
    MooseX::Params::Validate 0.18   0.21    
    MooseX::Types            0.35   0.51    
    Path::Class              0.24   0.37    
    perl                     5.012  5.014004
    Plack                    1.0005 1.0051  
    Role::MimeInfo           0.01   0.02    
    String::RewritePrefix    0.007  0.009   
    Test::More               0      1.302213
    URI::ni                  0.03   0.05    
    XML::LibXML::LazyBuilder 0.05   0.08    

build_requires:

    Module                   Need   Have    
    ------------------------ ------ --------
    ExtUtils::MakeMaker      6.59   7.76    
    Module::Install          0      1.21    
    Test::More               0      1.302213

configure_requires:

    Module                   Need   Have    
    ------------------------ ------ --------
    ExtUtils::MakeMaker      6.59   7.76    
    Module::Install          0      1.21    


------------------------------
ENVIRONMENT AND OTHER CONTEXT
------------------------------

Environment variables:

    AUTOMATED_TESTING = 1
    COMSPEC = C:\Windows\system32\cmd.exe
    NUMBER_OF_PROCESSORS = 2
    PATH = C:\Windows\system32;C:\Windows;C:\Windows\System32\Wbem;C:\Windows\System32\WindowsPowerShell\v1.0\;C:\Windows\System32\OpenSSH\;C:\Program Files\Amazon\cfn-bootstrap\;C:\strawberry\c\bin;C:\strawberry\perl\site\bin;C:\strawberry\perl\bin;C:\Users\Administrator\AppData\Local\Microsoft\WindowsApps;C:\Users\Administrator\AppData\Local\Microsoft\WinGet\Links;
    PERL5LIB = 
    PERL5OPT = 
    PERL5_CPANPLUS_IS_RUNNING = 2896
    PERL5_CPAN_IS_RUNNING = 2896
    PERL5_CPAN_IS_RUNNING_IN_RECURSION = 3848,2896
    PERL_CR_SMOKER_CURRENT = Store-Digest-0.06
    PERL_EXTUTILS_AUTOINSTALL = --defaultdeps
    PERL_MM_USE_DEFAULT = 1
    PROCESSOR_IDENTIFIER = Intel64 Family 6 Model 85 Stepping 7, GenuineIntel
    TEMP = C:\Users\ADMINI~1\AppData\Local\Temp\2
    TERM = dumb

Perl special variables (and OS-specific diagnostics, for MSWin32):

    $^X = C:\strawberry\perl\bin\perl.exe
    $UID/$EUID = 0 / 0
    $GID = 0
    $EGID = 0
    Win32::GetOSName = Win2012
    Win32::GetOSVersion = , 6, 2, 9200, 2, 0, 0, 400, 3
    Win32::FsType = NTFS
    Win32::IsAdminUser = 1

Perl module toolchain versions installed:

    Module              Have    
    ------------------- --------
    CPAN                1.9800  
    CPAN::Meta          2.150010
    Cwd                 3.75    
    ExtUtils::CBuilder  0.280236
    ExtUtils::Command   7.76    
    ExtUtils::Install   2.06    
    ExtUtils::MakeMaker 7.76    
    ExtUtils::Manifest  1.75    
    ExtUtils::ParseXS   3.57    
    File::Spec          3.75    
    JSON                4.10    
    JSON::PP            4.16    
    Module::Build       0.4234  
    Module::Signature   n/a     
    Parse::CPAN::Meta   2.150010
    Test2               1.302213
    Test::Harness       3.52    
    Test::More          1.302213
    YAML                1.31    
    YAML::Syck          1.23    
    version             0.9933  


--

Summary of my perl5 (revision 5 version 14 subversion 4) configuration:
   
  Platform:
    osname=MSWin32, osvers=4.0, archname=MSWin32-x64-multi-thread
    uname='Win32 strawberry-perl 5.14.4.1 #1 Mon Mar 11 18:06:54 2013 x64'
    config_args='undef'
    hint=recommended, useposix=true, d_sigaction=undef
    useithreads=define, usemultiplicity=define
    useperlio=define, d_sfio=undef, uselargefiles=define, usesocks=undef
    use64bitint=define, use64bitall=undef, uselongdouble=undef
    usemymalloc=n, bincompat5005=undef
  Compiler:
    cc='gcc', ccflags =' -s -O2 -DWIN32 -DWIN64 -DCONSERVATIVE  -DPERL_TEXTMODE_SCRIPTS -DPERL_IMPLICIT_CONTEXT -DPERL_IMPLICIT_SYS -fno-strict-aliasing -mms-bitfields',
    optimize='-s -O2',
    cppflags='-DWIN32'
    ccversion='', gccversion='4.6.3', gccosandvers=''
    intsize=4, longsize=4, ptrsize=8, doublesize=8, byteorder=12345678
    d_longlong=define, longlongsize=8, d_longdbl=define, longdblsize=12
    ivtype='long long', ivsize=8, nvtype='double', nvsize=8, Off_t='long long', lseeksize=8
    alignbytes=8, prototype=define
  Linker and Libraries:
    ld='g++', ldflags ='-s -L"C:\strawberry\perl\lib\CORE" -L"C:\strawberry\c\lib"'
    libpth=C:\strawberry\c\lib C:\strawberry\c\x86_64-w64-mingw32\lib
    libs=-lmoldname -lkernel32 -luser32 -lgdi32 -lwinspool -lcomdlg32 -ladvapi32 -lshell32 -lole32 -loleaut32 -lnetapi32 -luuid -lws2_32 -lmpr -lwinmm -lversion -lodbc32 -lodbccp32 -lcomctl32
    perllibs=-lmoldname -lkernel32 -luser32 -lgdi32 -lwinspool -lcomdlg32 -ladvapi32 -lshell32 -lole32 -loleaut32 -lnetapi32 -luuid -lws2_32 -lmpr -lwinmm -lversion -lodbc32 -lodbccp32 -lcomctl32
    libc=, so=dll, useshrplib=true, libperl=libperl514.a
    gnulibc_version=''
  Dynamic Linking:
    dlsrc=dl_win32.xs, dlext=dll, d_dlsymun=undef, ccdlflags=' '
    cccdlflags=' ', lddlflags='-mdll -s -L"C:\strawberry\perl\lib\CORE" -L"C:\strawberry\c\lib"'


Characteristics of this binary (from libperl): 
  Compile-time options: MULTIPLICITY PERL_DONT_CREATE_GVSV
                        PERL_IMPLICIT_CONTEXT PERL_IMPLICIT_SYS
                        PERL_MALLOC_WRAP PERL_PRESERVE_IVUV PL_OP_SLAB_ALLOC
                        USE_64_BIT_INT USE_ITHREADS USE_LARGE_FILES
                        USE_PERLIO USE_PERL_ATOF
  Built under MSWin32
  Compiled at Mar 11 2013 18:11:21
  %ENV:
    PERL5_CPANPLUS_IS_RUNNING="2896"
    PERL5_CPAN_IS_RUNNING="2896"
    PERL5_CPAN_IS_RUNNING_IN_RECURSION="3848,2896"
    PERL_CR_SMOKER_CURRENT="Store-Digest-0.06"
    PERL_EXTUTILS_AUTOINSTALL="--defaultdeps"
    PERL_MM_USE_DEFAULT="1"
  @INC:
    C:/strawberry/perl/site/lib
    C:/strawberry/perl/vendor/lib
    C:/strawberry/perl/lib
    .