Back
From: metabase:user:314402c4-2aae-11df-837a-5e0a49663a4f
Subject: PASS MooseX-Getopt-Defanged-v1.18.0 v5.22.3 RC3 GNU/Linux
Date: 2016-09-04T19:51:55Z
This distribution has been tested as part of the CPAN Testers
project, supporting the Perl programming language. See
http://wiki.cpantesters.org/ for more information or email
questions to cpan-testers-discuss@perl.org
--
Dear Elliot Shank,
This is a computer-generated report for MooseX-Getopt-Defanged-v1.18.0
on perl 5.22.3, created by CPAN-Reporter-1.2018.
Thank you for uploading your work to CPAN. Congratulations!
All tests were successful.
Sections of this report:
* Tester comments
* Program output
* Prerequisites
* Environment and other context
------------------------------
TESTER COMMENTS
------------------------------
Additional comments from tester:
none provided
------------------------------
PROGRAM OUTPUT
------------------------------
Output from './Build test':
Passing a list of values to enum is deprecated. Enum values should be wrapped in an arrayref. at /opt/perl-5.22.3-RC3/lib/site_perl/5.22.3/Test/Compile/Internal.pm line 197.
eval '
#line 197 "/opt/perl-5.22.3-RC3/lib/site_perl/5.22.3/Test/Compile/Internal.pm"
CORE::require($file);
' called at /opt/perl-5.22.3-RC3/lib/site_perl/5.22.3/UNIVERSAL/require.pm line 99
UNIVERSAL::require("MooseX::Getopt::Defanged::Meta::Attribute::Trait::_Getopt") called at /opt/perl-5.22.3-RC3/lib/site_perl/5.22.3/Test/Compile/Internal.pm line 197
Test::Compile::Internal::__ANON__() called at /opt/perl-5.22.3-RC3/lib/site_perl/5.22.3/Test/Compile/Internal.pm line 316
Test::Compile::Internal::_run_subprocess(Test::Compile::Internal=HASH(0x2297a38), CODE(0x1e231f8)) called at /opt/perl-5.22.3-RC3/lib/site_perl/5.22.3/Test/Compile/Internal.pm line 208
Test::Compile::Internal::pm_file_compiles(Test::Compile::Internal=HASH(0x2297a38), "blib/lib/MooseX/Getopt/Defanged/Meta/Attribute/Trait/_Getopt.pm") called at /opt/perl-5.22.3-RC3/lib/site_perl/5.22.3/Test/Compile.pm line 280
Test::Compile::pm_file_ok("blib/lib/MooseX/Getopt/Defanged/Meta/Attribute/Trait/_Getopt.pm") called at /opt/perl-5.22.3-RC3/lib/site_perl/5.22.3/Test/Compile.pm line 222
Test::Compile::all_pm_files_ok() called at t/00-use-ok.t line 15
t/00-use-ok.t ..................... ok
Passing a list of values to enum is deprecated. Enum values should be wrapped in an arrayref. at /opt/perl-5.22.3-RC3/lib/site_perl/5.22.3/Module/Runtime.pm line 317.
Module::Runtime::require_module("MooseX::Getopt::Defanged::Meta::Attribute::Trait::_Getopt") called at /opt/perl-5.22.3-RC3/lib/site_perl/5.22.3/Module/Runtime.pm line 381
eval {...} called at /opt/perl-5.22.3-RC3/lib/site_perl/5.22.3/Module/Runtime.pm line 381
Module::Runtime::use_package_optimistically("MooseX::Getopt::Defanged::Meta::Attribute::Trait::_Getopt") called at /opt/perl-5.22.3-RC3/lib/site_perl/5.22.3/x86_64-linux/Moose/Util.pm line 239
Moose::Util::resolve_metaclass_alias("Attribute", "MooseX::Getopt::Defanged::Meta::Attribute::Trait::_Getopt", "trait", 1) called at /opt/perl-5.22.3-RC3/lib/site_perl/5.22.3/x86_64-linux/Moose/Util.pm line 211
Moose::Util::resolve_metatrait_alias("Attribute", "MooseX::Getopt::Defanged::Meta::Attribute::Trait::_Getopt") called at /opt/perl-5.22.3-RC3/lib/site_perl/5.22.3/x86_64-linux/Moose/Meta/Attribute.pm line 38
Moose::Meta::Attribute::try {...} () called at /opt/perl-5.22.3-RC3/lib/site_perl/5.22.3/Try/Tiny.pm line 101
eval {...} called at /opt/perl-5.22.3-RC3/lib/site_perl/5.22.3/Try/Tiny.pm line 94
Try::Tiny::try(CODE(0x2233008)) called at /opt/perl-5.22.3-RC3/lib/site_perl/5.22.3/x86_64-linux/Moose/Meta/Attribute.pm line 39
Moose::Meta::Attribute::does(Moose::Meta::Attribute=HASH(0x2221790), "MooseX::Getopt::Defanged::Meta::Attribute::Trait::_Getopt") called at /tmpfs/.cpan-build-cpansand/2016090418/MooseX-Getopt-Defanged-v1.18.0-0/blib/lib/MooseX/Getopt/Defanged.pm line 63
MooseX::Getopt::Defanged::_getopt_get_option_attributes(MooseX::Getopt::Defanged::MinimalConsumer=HASH(0x2221a48)) called at /tmpfs/.cpan-build-cpansand/2016090418/MooseX-Getopt-Defanged-v1.18.0-0/blib/lib/MooseX/Getopt/Defanged.pm line 95
MooseX::Getopt::Defanged::_getopt_invoke_getopt_long(MooseX::Getopt::Defanged::MinimalConsumer=HASH(0x2221a48), ARRAY(0x2209580)) called at /tmpfs/.cpan-build-cpansand/2016090418/MooseX-Getopt-Defanged-v1.18.0-0/blib/lib/MooseX/Getopt/Defanged.pm line 48
MooseX::Getopt::Defanged::parse_command_line(MooseX::Getopt::Defanged::MinimalConsumer=HASH(0x2221a48), ARRAY(0x2209580)) called at t/getopt.t line 149
MooseX::Getopt::Defanged::Test::test_3_can_parse_command_line_for_minimal_consumer(MooseX::Getopt::Defanged::Test=HASH(0x2183798)) called at /opt/perl-5.22.3-RC3/lib/site_perl/5.22.3/Test/Class.pm line 293
Test::Class::try {...} () called at /opt/perl-5.22.3-RC3/lib/site_perl/5.22.3/Try/Tiny.pm line 101
eval {...} called at /opt/perl-5.22.3-RC3/lib/site_perl/5.22.3/Try/Tiny.pm line 94
Try::Tiny::try(CODE(0x22090d0), Try::Tiny::Catch=REF(0x2225b38)) called at /opt/perl-5.22.3-RC3/lib/site_perl/5.22.3/Test/Class.pm line 293
Test::Class::_run_method(MooseX::Getopt::Defanged::Test=HASH(0x2183798), "test_3_can_parse_command_line_for_minimal_consumer", ARRAY(0xe72e70)) called at /opt/perl-5.22.3-RC3/lib/site_perl/5.22.3/Test/Class.pm line 395
Test::Class::runtests("MooseX::Getopt::Defanged::Test") called at t/getopt.t line 113
t/getopt.t ........................ ok
Passing a list of values to enum is deprecated. Enum values should be wrapped in an arrayref. at /opt/perl-5.22.3-RC3/lib/site_perl/5.22.3/Module/Runtime.pm line 317.
Module::Runtime::require_module("MooseX::Getopt::Defanged::Meta::Attribute::Trait::_Getopt") called at /opt/perl-5.22.3-RC3/lib/site_perl/5.22.3/Module/Runtime.pm line 381
eval {...} called at /opt/perl-5.22.3-RC3/lib/site_perl/5.22.3/Module/Runtime.pm line 381
Module::Runtime::use_package_optimistically("MooseX::Getopt::Defanged::Meta::Attribute::Trait::_Getopt") called at /opt/perl-5.22.3-RC3/lib/site_perl/5.22.3/x86_64-linux/Moose/Util.pm line 239
Moose::Util::resolve_metaclass_alias("Attribute", "MooseX::Getopt::Defanged::Meta::Attribute::Trait::_Getopt", "trait", 1) called at /opt/perl-5.22.3-RC3/lib/site_perl/5.22.3/x86_64-linux/Moose/Util.pm line 211
Moose::Util::resolve_metatrait_alias("Attribute", "MooseX::Getopt::Defanged::Meta::Attribute::Trait::_Getopt") called at /opt/perl-5.22.3-RC3/lib/site_perl/5.22.3/x86_64-linux/Moose/Meta/Attribute.pm line 38
Moose::Meta::Attribute::try {...} () called at /opt/perl-5.22.3-RC3/lib/site_perl/5.22.3/Try/Tiny.pm line 101
eval {...} called at /opt/perl-5.22.3-RC3/lib/site_perl/5.22.3/Try/Tiny.pm line 94
Try::Tiny::try(CODE(0x1bbb218)) called at /opt/perl-5.22.3-RC3/lib/site_perl/5.22.3/x86_64-linux/Moose/Meta/Attribute.pm line 39
Moose::Meta::Attribute::does("Moose::Meta::Attribute", "MooseX::Getopt::Defanged::Meta::Attribute::Trait::_Getopt") called at /opt/perl-5.22.3-RC3/lib/site_perl/5.22.3/x86_64-linux/Moose/Meta/Attribute.pm line 132
Moose::Meta::Attribute::interpolate_class("Moose::Meta::Attribute", HASH(0x16fc208)) called at /opt/perl-5.22.3-RC3/lib/site_perl/5.22.3/x86_64-linux/Moose/Meta/Attribute.pm line 98
Moose::Meta::Attribute::interpolate_class_and_new("Moose::Meta::Attribute", "test3", "definition_context", HASH(0x2191ec0), "traits", ARRAY(0x1bb7d98), "is", "ro", ...) called at /opt/perl-5.22.3-RC3/lib/site_perl/5.22.3/x86_64-linux/Moose/Meta/Class.pm line 711
Moose::Meta::Class::_process_new_attribute(Moose::Meta::Class=HASH(0x1a5e160), "test3", "definition_context", HASH(0x2191ec0), "traits", ARRAY(0x1bb7d98), "is", "ro", ...) called at /opt/perl-5.22.3-RC3/lib/site_perl/5.22.3/x86_64-linux/Moose/Meta/Class.pm line 704
Moose::Meta::Class::_process_attribute(Moose::Meta::Class=HASH(0x1a5e160), "test3", "definition_context", HASH(0x2191ec0), "traits", ARRAY(0x1bb7d98), "is", "ro", ...) called at /opt/perl-5.22.3-RC3/lib/site_perl/5.22.3/x86_64-linux/Moose/Meta/Class.pm line 568
Moose::Meta::Class::add_attribute(Moose::Meta::Class=HASH(0x1a5e160), "test3", "definition_context", HASH(0x2191ec0), "traits", ARRAY(0x1bb7d98), "is", "ro", ...) called at /opt/perl-5.22.3-RC3/lib/site_perl/5.22.3/x86_64-linux/Moose.pm line 74
Moose::has(Moose::Meta::Class=HASH(0x1a5e160), "test3", "traits", ARRAY(0x1bb7d98), "is", "ro", "isa", "Str") called at /opt/perl-5.22.3-RC3/lib/site_perl/5.22.3/x86_64-linux/Moose/Exporter.pm line 419
Moose::has("test3", "traits", ARRAY(0x1bb7d98), "is", "ro", "isa", "Str") called at t/inheritance.d/lib/MooseX/Getopt/Defanged/BaseClass.pm line 13
require MooseX/Getopt/Defanged/BaseClass.pm called at /opt/perl-5.22.3-RC3/lib/site_perl/5.22.3/Module/Runtime.pm line 317
Module::Runtime::require_module("MooseX::Getopt::Defanged::BaseClass") called at /opt/perl-5.22.3-RC3/lib/site_perl/5.22.3/Module/Runtime.pm line 381
eval {...} called at /opt/perl-5.22.3-RC3/lib/site_perl/5.22.3/Module/Runtime.pm line 381
Module::Runtime::use_package_optimistically("MooseX::Getopt::Defanged::BaseClass") called at /opt/perl-5.22.3-RC3/lib/site_perl/5.22.3/x86_64-linux/Moose/Util.pm line 352
Moose::Util::_load_user_class("MooseX::Getopt::Defanged::BaseClass", undef) called at /opt/perl-5.22.3-RC3/lib/site_perl/5.22.3/x86_64-linux/Moose/Meta/Class.pm line 556
Moose::Meta::Class::superclasses(undef, "MooseX::Getopt::Defanged::BaseClass") called at /opt/perl-5.22.3-RC3/lib/site_perl/5.22.3/x86_64-linux/Moose.pm line 53
Moose::extends(Moose::Meta::Class=HASH(0x1a51610), "MooseX::Getopt::Defanged::BaseClass") called at /opt/perl-5.22.3-RC3/lib/site_perl/5.22.3/x86_64-linux/Moose/Exporter.pm line 419
Moose::extends("MooseX::Getopt::Defanged::BaseClass") called at t/inheritance.d/lib/MooseX/Getopt/Defanged/SubClass.pm line 11
require MooseX/Getopt/Defanged/SubClass.pm called at t/inheritance.t line 22
main::BEGIN() called at /tmpfs/.cpan-build-cpansand/2016090418/MooseX-Getopt-Defanged-v1.18.0-0/blib/lib/MooseX/Getopt/Defanged/Meta/Attribute/Trait/_Getopt.pm line 0
eval {...} called at /tmpfs/.cpan-build-cpansand/2016090418/MooseX-Getopt-Defanged-v1.18.0-0/blib/lib/MooseX/Getopt/Defanged/Meta/Attribute/Trait/_Getopt.pm line 0
t/inheritance.t ................... ok
Passing a list of values to enum is deprecated. Enum values should be wrapped in an arrayref. at /tmpfs/.cpan-build-cpansand/2016090418/MooseX-Getopt-Defanged-v1.18.0-0/blib/lib/MooseX/Getopt/Defanged/Meta/Attribute/Trait/_Getopt.pm line 0.
eval {...} called at /tmpfs/.cpan-build-cpansand/2016090418/MooseX-Getopt-Defanged-v1.18.0-0/blib/lib/MooseX/Getopt/Defanged/Meta/Attribute/Trait/_Getopt.pm line 0
t/meta-attribute-trait-_getopt.t .. ok
All tests successful.
Files=4, Tests=380, 2 wallclock secs ( 0.03 usr 0.03 sys + 1.54 cusr 0.20 csys = 1.80 CPU)
Result: PASS
------------------------------
PREREQUISITES
------------------------------
Prerequisite modules loaded:
requires:
Module Need Have
----------------------------------- ---- --------
autodie 0 2.29
English 0 1.09
Exception::Class 0 1.40
Exporter 0 5.72
Getopt::Long 0 2.49
Moose 0.92 2.1805
Moose::Role 0.92 2.1805
Moose::Util::TypeConstraints 0.92 2.1805
MooseX::Accessors::ReadWritePrivate 0 v1.4.0
MooseX::AttributeHelpers 0.2 0.25
MooseX::StrictConstructor 0.08 0.19
Readonly 0 2.05
Scalar::Util 0 1.45
strict 0 1.09
utf8 0 1.17
version 0 0.9917
warnings 0 1.34
build_requires:
Module Need Have
----------------------------------- ---- --------
Carp 0 1.38
File::Spec::Functions 0 3.62
lib 0 0.63
overload 0 1.26
parent 0 0.234
Test::Class 0 0.50
Test::Compile 0 v1.3.0
Test::Deep 0 1.120
Test::Exception 0 0.43
Test::Moose 0 2.1805
Test::More 0.88 1.302052
configure_requires:
Module Need Have
----------------------------------- ---- --------
Module::Build 0.33 0.4220
opt_requires:
Module Need Have
----------------------------------- ---- --------
Readonly::XS 0 1.05
------------------------------
ENVIRONMENT AND OTHER CONTEXT
------------------------------
Environment variables:
LANG = C
LC_ALL = de_DE.UTF-8
PATH = /usr/local/bin:/usr/bin:/bin:/usr/local/sbin:/usr/sbin:/sbin:/home/cpansand/bin/linux-gnu:/home/cpansand/bin/sh:/home/cpansand/bin:/usr/games:/home/cpansand/devel:/home/eserte/src/srezic-misc/scripts
PERL5LIB =
PERL5OPT =
PERL5_CPANPLUS_IS_RUNNING = 24931
PERL5_CPAN_IS_RUNNING = 24931
PERL5_CPAN_IS_RUNNING_IN_RECURSION = 20625,24931
PERLDOC = -MPod::Perldoc::ToTextOverstrike
PERL_BATCH = yes
PERL_CANARY_STABILITY_NOPROMPT = 1
PERL_CPAN_REPORTER_CONFIG = /run/user/1023/cpansmoker/2016090415/cpanreporter_001_config.ini
PERL_EXTUTILS_AUTOINSTALL = --defaultdeps
PERL_PARALLEL_SMOKER = yes
PERL_USE_UNSAFE_INC = 1
SHELL = /bin/zsh
TERM = screen
TMPDIR = /run/user/1023/cpansmoker/2016090415
Perl special variables (and OS-specific diagnostics, for MSWin32):
$^X = /bbbike/perl-5.22.3-RC3/bin/perl
$UID/$EUID = 1023 / 1023
$GID = 1023 1023
$EGID = 1023 1023
Perl module toolchain versions installed:
Module Have
------------------- --------
CPAN 2.14
CPAN::Meta 2.150010
Cwd 3.62
ExtUtils::CBuilder 0.280224
ExtUtils::Command 7.24
ExtUtils::Install 2.04
ExtUtils::MakeMaker 7.24
ExtUtils::Manifest 1.70
ExtUtils::ParseXS 3.30
File::Spec 3.62
JSON 2.90
JSON::PP 2.27400
Module::Build 0.4220
Module::Signature 0.80
Parse::CPAN::Meta 2.150010
Test::Harness 3.36
Test::More 1.302052
YAML 1.18
YAML::Syck 1.29
version 0.9917
--
Summary of my perl5 (revision 5 version 22 subversion 3) configuration:
Platform:
osname=linux, osvers=3.16.0-4-amd64, archname=x86_64-linux
uname='linux eserte 3.16.0-4-amd64 #1 smp debian 3.16.7-ckt25-2+deb8u3 (2016-07-02) x86_64 gnulinux '
config_args='-ds -e -Dprefix=/opt/perl-5.22.3-RC3 -Dcf_email=srezic@cpan.org'
hint=recommended, useposix=true, d_sigaction=define
useithreads=undef, usemultiplicity=undef
use64bitint=define, use64bitall=define, uselongdouble=undef
usemymalloc=n, bincompat5005=undef
Compiler:
cc='cc', ccflags ='-fwrapv -fno-strict-aliasing -pipe -fstack-protector-strong -I/usr/local/include -D_LARGEFILE_SOURCE -D_FILE_OFFSET_BITS=64 -D_FORTIFY_SOURCE=2',
optimize='-O2',
cppflags='-fwrapv -fno-strict-aliasing -pipe -fstack-protector-strong -I/usr/local/include'
ccversion='', gccversion='4.9.2', gccosandvers=''
intsize=4, longsize=8, ptrsize=8, doublesize=8, byteorder=12345678, doublekind=3
d_longlong=define, longlongsize=8, d_longdbl=define, longdblsize=16, longdblkind=3
ivtype='long', ivsize=8, nvtype='double', nvsize=8, Off_t='off_t', lseeksize=8
alignbytes=8, prototype=define
Linker and Libraries:
ld='cc', ldflags =' -fstack-protector-strong -L/usr/local/lib'
libpth=/usr/local/lib /usr/lib/gcc/x86_64-linux-gnu/4.9/include-fixed /usr/include/x86_64-linux-gnu /usr/lib /lib/x86_64-linux-gnu /lib/../lib /usr/lib/x86_64-linux-gnu /usr/lib/../lib /lib
libs=-lpthread -lnsl -lgdbm -ldb -ldl -lm -lcrypt -lutil -lc -lgdbm_compat
perllibs=-lpthread -lnsl -ldl -lm -lcrypt -lutil -lc
libc=libc-2.19.so, so=so, useshrplib=false, libperl=libperl.a
gnulibc_version='2.19'
Dynamic Linking:
dlsrc=dl_dlopen.xs, dlext=so, d_dlsymun=undef, ccdlflags='-Wl,-E'
cccdlflags='-fPIC', lddlflags='-shared -O2 -L/usr/local/lib -fstack-protector-strong'
Characteristics of this binary (from libperl):
Compile-time options: HAS_TIMES PERLIO_LAYERS PERL_DONT_CREATE_GVSV
PERL_HASH_FUNC_ONE_AT_A_TIME_HARD PERL_MALLOC_WRAP
PERL_NEW_COPY_ON_WRITE PERL_PRESERVE_IVUV
USE_64_BIT_ALL USE_64_BIT_INT USE_LARGE_FILES
USE_LOCALE USE_LOCALE_COLLATE USE_LOCALE_CTYPE
USE_LOCALE_NUMERIC USE_LOCALE_TIME USE_PERLIO
USE_PERL_ATOF
Locally applied patches:
RC3
Built under linux
Compiled at Aug 19 2016 14:03:58
%ENV:
PERL5LIB=""
PERL5OPT=""
PERL5_CPANPLUS_IS_RUNNING="24931"
PERL5_CPAN_IS_RUNNING="24931"
PERL5_CPAN_IS_RUNNING_IN_RECURSION="20625,24931"
PERLDOC="-MPod::Perldoc::ToTextOverstrike"
PERL_BATCH="yes"
PERL_CANARY_STABILITY_NOPROMPT="1"
PERL_CPAN_REPORTER_CONFIG="/run/user/1023/cpansmoker/2016090415/cpanreporter_001_config.ini"
PERL_EXTUTILS_AUTOINSTALL="--defaultdeps"
PERL_PARALLEL_SMOKER="yes"
PERL_USE_UNSAFE_INC="1"
@INC:
/opt/perl-5.22.3-RC3/lib/site_perl/5.22.3/x86_64-linux
/opt/perl-5.22.3-RC3/lib/site_perl/5.22.3
/opt/perl-5.22.3-RC3/lib/5.22.3/x86_64-linux
/opt/perl-5.22.3-RC3/lib/5.22.3
.