Mail-Mbox-MessageParser v1.5111 Perl 5 v5.41.9 x86_64-linux

Status
Pass
From
Andreas J. König (ANDK)
Dist
Mail-Mbox-MessageParser v1.5111
Platform
Perl 5 v5.41.9 x86_64-linux
Date
2025-03-08 17:16:11
ID
084f1d0c-fc41-11ef-b6e1-829ebfb9ebbf
This distribution has been tested as part of the CPAN Testers
project, supporting the Perl programming language.  See
http://wiki.cpantesters.org/ for more information or email
questions to cpan-testers-discuss@perl.org


--
Dear David Coppit,

This is a computer-generated report for Mail-Mbox-MessageParser-1.5111
on perl 5.41.9, created by CPAN-Reporter-1.2020.

Thank you for uploading your work to CPAN.  Congratulations!
All tests were successful.

Sections of this report:

    * Tester comments
    * Program output
    * Prerequisites
    * Environment and other context

------------------------------
TESTER COMMENTS
------------------------------

Additional comments from tester:

this report is from an automated smoke testing program
and was not reviewed by a human for accuracy

------------------------------
PROGRAM OUTPUT
------------------------------

Output from '/usr/bin/make test':

PERL_DL_NONLAZY=1 "/tmp/basesmoker-reloperl-wELa/bin/perl" "-MExtUtils::Command::MM" "-MTest::Harness" "-e" "undef *Test::Harness::Switches; test_harness(1, 'blib/lib', 'blib/arch')" t/*.t
t/000_standard__compile.t ....... 
1..6
ok 1 - blib/lib/Mail/Mbox/MessageParser.pm compiles
ok 2 - blib/lib/Mail/Mbox/MessageParser/Cache.pm compiles
ok 3 - blib/lib/Mail/Mbox/MessageParser/Config.pm compiles
ok 4 - blib/lib/Mail/Mbox/MessageParser/Grep.pm compiles
ok 5 - blib/lib/Mail/Mbox/MessageParser/MetaInfo.pm compiles
ok 6 - blib/lib/Mail/Mbox/MessageParser/Perl.pm compiles
ok
t/000_standard__perl_critic.t ... skipped: Author test. Set $ENV{TEST_AUTHOR} to a true value to run.
t/000_standard__pod.t ........... 
1..6
ok 1 - POD test for blib/lib/Mail/Mbox/MessageParser.pm
ok 2 - POD test for blib/lib/Mail/Mbox/MessageParser/Grep.pm
ok 3 - POD test for blib/lib/Mail/Mbox/MessageParser/MetaInfo.pm
ok 4 - POD test for blib/lib/Mail/Mbox/MessageParser/Cache.pm
ok 5 - POD test for blib/lib/Mail/Mbox/MessageParser/Config.pm
ok 6 - POD test for blib/lib/Mail/Mbox/MessageParser/Perl.pm
ok
t/000_standard__pod_coverage.t .. 
1..6
ok 1 - Pod coverage on Mail::Mbox::MessageParser
ok 2 - Pod coverage on Mail::Mbox::MessageParser::Grep
ok 3 - Pod coverage on Mail::Mbox::MessageParser::MetaInfo
ok 4 - Pod coverage on Mail::Mbox::MessageParser::Cache
ok 5 - Pod coverage on Mail::Mbox::MessageParser::Config
ok 6 - Pod coverage on Mail::Mbox::MessageParser::Perl
ok
t/appended_mailbox.t ............ 
1..6
Testing modified mailbox with Perl implementation
Comparing /tmp/5XFDbYIleV to t/mailboxes/mailarc-1.txt
Output /tmp/5XFDbYIleV looks good.
ok 1 - Computing differences
Testing modified mailbox with Cache implementation
Comparing /tmp/8LQTNHQuVO to t/mailboxes/mailarc-1.txt
Output /tmp/8LQTNHQuVO looks good.
ok 2 - Computing differences
Testing modified mailbox with Grep implementation
ok 3 # skip GNU grep not available
Testing modified mailbox with Perl implementation
Comparing /tmp/SpMUpMsCPZ to t/mailboxes/mailarc-1.txt
Output /tmp/SpMUpMsCPZ looks good.
ok 4 - Computing differences
Testing modified mailbox with Cache implementation
Comparing /tmp/ax4jHyQnip to t/mailboxes/mailarc-1.txt
Output /tmp/ax4jHyQnip looks good.
ok 5 - Computing differences
Testing modified mailbox with Grep implementation
ok 6 # skip GNU grep not available
ok
t/bzip2.t ....................... 
1..1
Running test:
  "/usr/bin/cat" "t/mailboxes/mailarc-2.txt.bz2" | "/usr/bin/bzip2" -cd
Comparing /tmp/kixACNIj5T to t/results/mailarc-2.txt
Output /tmp/kixACNIj5T looks good.
Comparing /tmp/fDmcGDypJF to t/results/none
Output /tmp/fDmcGDypJF looks good.
ok 1 - Computing differences
ok
t/endline.t ..................... 
1..8
Testing filename: t/mailboxes/mailarc-1-dos.txt
ok 1 - Dos endline expected
ok 2 - Dos endline expected
ok 3 - Dos endline expected
ok 4 # skip GNU grep not available
Testing filename: t/mailboxes/mailarc-1.txt
ok 5 - Unix endline expected
ok 6 - Unix endline expected
ok 7 - Unix endline expected
ok 8 # skip GNU grep not available
ok
t/filehandle_compressed.t ....... 
1..16
Testing filename: t/mailboxes/mailarc-2.txt.bz2
Comparing /tmp/A__YpYyh1W to t/mailboxes/mailarc-2.txt
Output /tmp/A__YpYyh1W looks good.
ok 1 - Computing differences
Comparing /tmp/Qoy33lWYYK to t/mailboxes/mailarc-2.txt
Output /tmp/Qoy33lWYYK looks good.
ok 2 - Computing differences
Comparing /tmp/IwTKreq4nc to t/mailboxes/mailarc-2.txt
Output /tmp/IwTKreq4nc looks good.
ok 3 - Computing differences
ok 4 # skip GNU grep not available
Testing filename: t/mailboxes/mailarc-2.txt.gz
Comparing /tmp/lNonD5l0ay to t/mailboxes/mailarc-2.txt
Output /tmp/lNonD5l0ay looks good.
ok 5 - Computing differences
Comparing /tmp/AfYMNczHX1 to t/mailboxes/mailarc-2.txt
Output /tmp/AfYMNczHX1 looks good.
ok 6 - Computing differences
Comparing /tmp/7KeGPujLmP to t/mailboxes/mailarc-2.txt
Output /tmp/7KeGPujLmP looks good.
ok 7 - Computing differences
ok 8 # skip GNU grep not available
Testing filename: t/mailboxes/mailarc-2.txt.lz
ok 9 # skip lzip not available
ok 10 # skip lzip not available
ok 11 # skip lzip not available
ok 12 # skip lzip not available
Testing filename: t/mailboxes/mailarc-2.txt.xz
Comparing /tmp/ig_3CbfmSJ to t/mailboxes/mailarc-2.txt
Output /tmp/ig_3CbfmSJ looks good.
ok 13 - Computing differences
Comparing /tmp/Pe9G8JA5e7 to t/mailboxes/mailarc-2.txt
Output /tmp/Pe9G8JA5e7 looks good.
ok 14 - Computing differences
Comparing /tmp/pzDDFbsbRo to t/mailboxes/mailarc-2.txt
Output /tmp/pzDDFbsbRo looks good.
ok 15 - Computing differences
ok 16 # skip GNU grep not available
ok
t/filehandle_noncompressed.t .... 
1..44
Testing filename: t/mailboxes/binary_body.txt
Comparing /tmp/LMPhOlsMza to t/mailboxes/binary_body.txt
Output /tmp/LMPhOlsMza looks good.
ok 1 - Computing differences
Comparing /tmp/7oJf3EHfvA to t/mailboxes/binary_body.txt
Output /tmp/7oJf3EHfvA looks good.
ok 2 - Computing differences
Comparing /tmp/rEhIb6Emj7 to t/mailboxes/binary_body.txt
Output /tmp/rEhIb6Emj7 looks good.
ok 3 - Computing differences
ok 4 # skip GNU grep not available
Testing filename: t/mailboxes/hessbug.txt
Comparing /tmp/uleWJI84yB to t/mailboxes/hessbug.txt
Output /tmp/uleWJI84yB looks good.
ok 5 - Computing differences
Comparing /tmp/Zbs0GkxIf3 to t/mailboxes/hessbug.txt
Output /tmp/Zbs0GkxIf3 looks good.
ok 6 - Computing differences
Comparing /tmp/pvPzq9uITl to t/mailboxes/hessbug.txt
Output /tmp/pvPzq9uITl looks good.
ok 7 - Computing differences
ok 8 # skip GNU grep not available
Testing filename: t/mailboxes/invalid-boundaries.txt
Comparing /tmp/1ljTrWcutm to t/mailboxes/invalid-boundaries.txt
Output /tmp/1ljTrWcutm looks good.
ok 9 - Computing differences
Comparing /tmp/oaPR41uk1q to t/mailboxes/invalid-boundaries.txt
Output /tmp/oaPR41uk1q looks good.
ok 10 - Computing differences
Comparing /tmp/zhv3icH085 to t/mailboxes/invalid-boundaries.txt
Output /tmp/zhv3icH085 looks good.
ok 11 - Computing differences
ok 12 # skip GNU grep not available
Testing filename: t/mailboxes/mailarc-1-dos.txt
Comparing /tmp/psg7JobMyh to t/mailboxes/mailarc-1-dos.txt
Output /tmp/psg7JobMyh looks good.
ok 13 - Computing differences
Comparing /tmp/6cxKMMA1ay to t/mailboxes/mailarc-1-dos.txt
Output /tmp/6cxKMMA1ay looks good.
ok 14 - Computing differences
Comparing /tmp/I_h_GZdxJf to t/mailboxes/mailarc-1-dos.txt
Output /tmp/I_h_GZdxJf looks good.
ok 15 - Computing differences
ok 16 # skip GNU grep not available
Testing filename: t/mailboxes/mailarc-1.txt
Comparing /tmp/Z0e3sLcgo0 to t/mailboxes/mailarc-1.txt
Output /tmp/Z0e3sLcgo0 looks good.
ok 17 - Computing differences
Comparing /tmp/MHjkLevGyB to t/mailboxes/mailarc-1.txt
Output /tmp/MHjkLevGyB looks good.
ok 18 - Computing differences
Comparing /tmp/8dv2Z6n4vE to t/mailboxes/mailarc-1.txt
Output /tmp/8dv2Z6n4vE looks good.
ok 19 - Computing differences
ok 20 # skip GNU grep not available
Testing filename: t/mailboxes/mailarc-2.txt
Comparing /tmp/ZNIqhsPFWC to t/mailboxes/mailarc-2.txt
Output /tmp/ZNIqhsPFWC looks good.
ok 21 - Computing differences
Comparing /tmp/zLHtktLOn_ to t/mailboxes/mailarc-2.txt
Output /tmp/zLHtktLOn_ looks good.
ok 22 - Computing differences
Comparing /tmp/s0S6dsR8jK to t/mailboxes/mailarc-2.txt
Output /tmp/s0S6dsR8jK looks good.
ok 23 - Computing differences
ok 24 # skip GNU grep not available
Testing filename: t/mailboxes/mailarc-3.txt
Comparing /tmp/3gN8a5gTZe to t/mailboxes/mailarc-3.txt
Output /tmp/3gN8a5gTZe looks good.
ok 25 - Computing differences
Comparing /tmp/6mpoQuQNOR to t/mailboxes/mailarc-3.txt
Output /tmp/6mpoQuQNOR looks good.
ok 26 - Computing differences
Comparing /tmp/f3E9dQedG4 to t/mailboxes/mailarc-3.txt
Output /tmp/f3E9dQedG4 looks good.
ok 27 - Computing differences
ok 28 # skip GNU grep not available
Testing filename: t/mailboxes/mailseparators.txt
Comparing /tmp/d08GABrjaw to t/mailboxes/mailseparators.txt
Output /tmp/d08GABrjaw looks good.
ok 29 - Computing differences
Comparing /tmp/OmkQ2jbaSk to t/mailboxes/mailseparators.txt
Output /tmp/OmkQ2jbaSk looks good.
ok 30 - Computing differences
Comparing /tmp/lgIn2jCDta to t/mailboxes/mailseparators.txt
Output /tmp/lgIn2jCDta looks good.
ok 31 - Computing differences
ok 32 # skip GNU grep not available
Testing filename: t/mailboxes/malformed.txt
Comparing /tmp/7BcYcGbEik to t/mailboxes/malformed.txt
Output /tmp/7BcYcGbEik looks good.
ok 33 - Computing differences
Comparing /tmp/9kFj98GsDY to t/mailboxes/malformed.txt
Output /tmp/9kFj98GsDY looks good.
ok 34 - Computing differences
Comparing /tmp/lofSFRzOUw to t/mailboxes/malformed.txt
Output /tmp/lofSFRzOUw looks good.
ok 35 - Computing differences
ok 36 # skip GNU grep not available
Testing filename: t/mailboxes/newlines_at_beginning.txt
Comparing /tmp/6fWlINpQ5K to t/mailboxes/newlines_at_beginning.txt
Output /tmp/6fWlINpQ5K looks good.
ok 37 - Computing differences
Comparing /tmp/XBKvQnoIRT to t/mailboxes/newlines_at_beginning.txt
Output /tmp/XBKvQnoIRT looks good.
ok 38 - Computing differences
Comparing /tmp/eG5tRmgjVN to t/mailboxes/newlines_at_beginning.txt
Output /tmp/eG5tRmgjVN looks good.
ok 39 - Computing differences
ok 40 # skip GNU grep not available
Testing filename: t/mailboxes/vm-emacs.txt
Comparing /tmp/whxyloUTRC to t/mailboxes/vm-emacs.txt
Output /tmp/whxyloUTRC looks good.
ok 41 - Computing differences
Comparing /tmp/bOCZtCQP4h to t/mailboxes/vm-emacs.txt
Output /tmp/bOCZtCQP4h looks good.
ok 42 - Computing differences
Comparing /tmp/Mg5AIkTlqz to t/mailboxes/vm-emacs.txt
Output /tmp/Mg5AIkTlqz looks good.
ok 43 - Computing differences
ok 44 # skip GNU grep not available
ok
t/filename_compressed.t ......... 
1..4
Testing filename: t/mailboxes/mailarc-2.txt.bz2
Comparing /tmp/LfaCkTke8F to t/mailboxes/mailarc-2.txt
Output /tmp/LfaCkTke8F looks good.
ok 1 - Computing differences
Testing filename: t/mailboxes/mailarc-2.txt.gz
Comparing /tmp/qTQSqjOLs2 to t/mailboxes/mailarc-2.txt
Output /tmp/qTQSqjOLs2 looks good.
ok 2 - Computing differences
Testing filename: t/mailboxes/mailarc-2.txt.lz
ok 3 # skip lzip not available
Testing filename: t/mailboxes/mailarc-2.txt.xz
Comparing /tmp/nPehWk_mhh to t/mailboxes/mailarc-2.txt
Output /tmp/nPehWk_mhh looks good.
ok 4 - Computing differences
ok
t/filename_noncompressed.t ...... 
1..11
Testing filename: t/mailboxes/binary_body.txt
Comparing /tmp/mMm1BbLfWB to t/mailboxes/binary_body.txt
Output /tmp/mMm1BbLfWB looks good.
ok 1 - Computing differences
Testing filename: t/mailboxes/hessbug.txt
Comparing /tmp/FEGFmEx203 to t/mailboxes/hessbug.txt
Output /tmp/FEGFmEx203 looks good.
ok 2 - Computing differences
Testing filename: t/mailboxes/invalid-boundaries.txt
Comparing /tmp/6axPxnkbcO to t/mailboxes/invalid-boundaries.txt
Output /tmp/6axPxnkbcO looks good.
ok 3 - Computing differences
Testing filename: t/mailboxes/mailarc-1-dos.txt
Comparing /tmp/cdE2cSDJ3a to t/mailboxes/mailarc-1-dos.txt
Output /tmp/cdE2cSDJ3a looks good.
ok 4 - Computing differences
Testing filename: t/mailboxes/mailarc-1.txt
Comparing /tmp/DR4PaD3EPT to t/mailboxes/mailarc-1.txt
Output /tmp/DR4PaD3EPT looks good.
ok 5 - Computing differences
Testing filename: t/mailboxes/mailarc-2.txt
Comparing /tmp/dxFT4FxULg to t/mailboxes/mailarc-2.txt
Output /tmp/dxFT4FxULg looks good.
ok 6 - Computing differences
Testing filename: t/mailboxes/mailarc-3.txt
Comparing /tmp/UyWpRXW9Bp to t/mailboxes/mailarc-3.txt
Output /tmp/UyWpRXW9Bp looks good.
ok 7 - Computing differences
Testing filename: t/mailboxes/mailseparators.txt
Comparing /tmp/EP6M_LWd2D to t/mailboxes/mailseparators.txt
Output /tmp/EP6M_LWd2D looks good.
ok 8 - Computing differences
Testing filename: t/mailboxes/malformed.txt
Comparing /tmp/ouef5T7cOa to t/mailboxes/malformed.txt
Output /tmp/ouef5T7cOa looks good.
ok 9 - Computing differences
Testing filename: t/mailboxes/newlines_at_beginning.txt
Comparing /tmp/LLW4uqLs8p to t/mailboxes/newlines_at_beginning.txt
Output /tmp/LLW4uqLs8p looks good.
ok 10 - Computing differences
Testing filename: t/mailboxes/vm-emacs.txt
Comparing /tmp/NcyCuuJXem to t/mailboxes/vm-emacs.txt
Output /tmp/NcyCuuJXem looks good.
ok 11 - Computing differences
ok
t/grep.t ........................ 
1..4
Running test:
  unset LC_ALL LC_COLLATE LANG LC_CTYPE LC_MESSAGES; grep --extended-regexp --line-number --byte-offset --binary-files=text "^From [^:]+(:[0-9][0-9]){1,2}(  *([A-Z]{2,6}|[+-]?[0-9]{4})){1,3}( remote from .*)?
?$" t/mailboxes/mailarc-1.txt
ok 1 # skip 1
Running test:
  unset LC_ALL LC_COLLATE LANG LC_CTYPE LC_MESSAGES; grep --extended-regexp --line-number --byte-offset --binary-files=text "^From [^:]+(:[0-9][0-9]){1,2}(  *([A-Z]{2,6}|[+-]?[0-9]{4})){1,3}( remote from .*)?
?$" t/mailboxes/mailarc-2.txt
ok 2 # skip 1
Running test:
  unset LC_ALL LC_COLLATE LANG LC_CTYPE LC_MESSAGES; grep --extended-regexp --line-number --byte-offset --binary-files=text "^From [^:]+(:[0-9][0-9]){1,2}(  *([A-Z]{2,6}|[+-]?[0-9]{4})){1,3}( remote from .*)?
?$" t/mailboxes/mailarc-3.txt
ok 3 # skip 1
Running test:
  unset LC_ALL LC_COLLATE LANG LC_CTYPE LC_MESSAGES; grep --extended-regexp --line-number --byte-offset --binary-files=text "^From [^:]+(:[0-9][0-9]){1,2}(  *([A-Z]{2,6}|[+-]?[0-9]{4})){1,3}( remote from .*)?
?$" t/mailboxes/mailseparators.txt
ok 4 # skip 1
ok
t/gzip.t ........................ 
1..1
Running test:
  "/usr/bin/cat" "t/mailboxes/mailarc-2.txt.gz" | "/usr/bin/gzip" -cd
Comparing /tmp/h4Yc6FeB4w to t/results/mailarc-2.txt
Output /tmp/h4Yc6FeB4w looks good.
Comparing /tmp/CxjMUQhPGj to t/results/none
Output /tmp/CxjMUQhPGj looks good.
ok 1 - Computing differences
ok
t/length.t ...................... 
1..30
Testing filename: t/mailboxes/binary_body.txt
Comparing /tmp/Rik1XdsdTG to t/results/length_binary_body.stdout
Output /tmp/Rik1XdsdTG looks good.
ok 1 - Computing differences
Comparing /tmp/PykQ45FgRh to t/results/length_binary_body.stdout
Output /tmp/PykQ45FgRh looks good.
ok 2 - Computing differences
ok 3 # skip GNU grep not available
Testing filename: t/mailboxes/hessbug.txt
Comparing /tmp/Eq_jNZWLwb to t/results/length_hessbug.stdout
Output /tmp/Eq_jNZWLwb looks good.
ok 4 - Computing differences
Comparing /tmp/JAtDksP3fU to t/results/length_hessbug.stdout
Output /tmp/JAtDksP3fU looks good.
ok 5 - Computing differences
ok 6 # skip GNU grep not available
Testing filename: t/mailboxes/invalid-boundaries.txt
Comparing /tmp/25WiTXItIO to t/results/length_invalid-boundaries.stdout
Output /tmp/25WiTXItIO looks good.
ok 7 - Computing differences
Comparing /tmp/ge6iWxc98A to t/results/length_invalid-boundaries.stdout
Output /tmp/ge6iWxc98A looks good.
ok 8 - Computing differences
ok 9 # skip GNU grep not available
Testing filename: t/mailboxes/mailarc-1-dos.txt
Comparing /tmp/O4v1WkDQgw to t/results/length_mailarc-1-dos.stdout
Output /tmp/O4v1WkDQgw looks good.
ok 10 - Computing differences
Comparing /tmp/z9px0NSX1q to t/results/length_mailarc-1-dos.stdout
Output /tmp/z9px0NSX1q looks good.
ok 11 - Computing differences
ok 12 # skip GNU grep not available
Testing filename: t/mailboxes/mailarc-1.txt
Comparing /tmp/9xpYGR3iB1 to t/results/length_mailarc-1.stdout
Output /tmp/9xpYGR3iB1 looks good.
ok 13 - Computing differences
Comparing /tmp/afGv00k3Db to t/results/length_mailarc-1.stdout
Output /tmp/afGv00k3Db looks good.
ok 14 - Computing differences
ok 15 # skip GNU grep not available
Testing filename: t/mailboxes/mailarc-2.txt
Comparing /tmp/8O3JjwQTXF to t/results/length_mailarc-2.stdout
Output /tmp/8O3JjwQTXF looks good.
ok 16 - Computing differences
Comparing /tmp/ZsZu701HzZ to t/results/length_mailarc-2.stdout
Output /tmp/ZsZu701HzZ looks good.
ok 17 - Computing differences
ok 18 # skip GNU grep not available
Testing filename: t/mailboxes/mailarc-3.txt
Comparing /tmp/e9R9sckccK to t/results/length_mailarc-3.stdout
Output /tmp/e9R9sckccK looks good.
ok 19 - Computing differences
Comparing /tmp/gNU9aShXAC to t/results/length_mailarc-3.stdout
Output /tmp/gNU9aShXAC looks good.
ok 20 - Computing differences
ok 21 # skip GNU grep not available
Testing filename: t/mailboxes/mailseparators.txt
Comparing /tmp/CmwthOmd3t to t/results/length_mailseparators.stdout
Output /tmp/CmwthOmd3t looks good.
ok 22 - Computing differences
Comparing /tmp/47QAg1ykEc to t/results/length_mailseparators.stdout
Output /tmp/47QAg1ykEc looks good.
ok 23 - Computing differences
ok 24 # skip GNU grep not available
Testing filename: t/mailboxes/malformed.txt
Comparing /tmp/ehpJjqhnPu to t/results/length_malformed.stdout
Output /tmp/ehpJjqhnPu looks good.
ok 25 - Computing differences
Comparing /tmp/S7V1C2UsAT to t/results/length_malformed.stdout
Output /tmp/S7V1C2UsAT looks good.
ok 26 - Computing differences
ok 27 # skip GNU grep not available
Testing filename: t/mailboxes/newlines_at_beginning.txt
Comparing /tmp/axB2xvuSg9 to t/results/length_newlines_at_beginning.stdout
Output /tmp/axB2xvuSg9 looks good.
ok 28 - Computing differences
Comparing /tmp/_7Z9DUn8_x to t/results/length_newlines_at_beginning.stdout
Output /tmp/_7Z9DUn8_x looks good.
ok 29 - Computing differences
ok 30 # skip GNU grep not available
ok
t/line_number.t ................. 
1..30
Testing filename: t/mailboxes/binary_body.txt
Comparing /tmp/eBIEKEyugM to t/results/line_number_binary_body.stdout
Output /tmp/eBIEKEyugM looks good.
ok 1 - Computing differences
Comparing /tmp/HKPlRhUDf6 to t/results/line_number_binary_body.stdout
Output /tmp/HKPlRhUDf6 looks good.
ok 2 - Computing differences
ok 3 # skip GNU grep not available
Testing filename: t/mailboxes/hessbug.txt
Comparing /tmp/xQASVHeRwr to t/results/line_number_hessbug.stdout
Output /tmp/xQASVHeRwr looks good.
ok 4 - Computing differences
Comparing /tmp/YamM2LedML to t/results/line_number_hessbug.stdout
Output /tmp/YamM2LedML looks good.
ok 5 - Computing differences
ok 6 # skip GNU grep not available
Testing filename: t/mailboxes/invalid-boundaries.txt
Comparing /tmp/1mmsbPICTH to t/results/line_number_invalid-boundaries.stdout
Output /tmp/1mmsbPICTH looks good.
ok 7 - Computing differences
Comparing /tmp/3IF4u6UdFM to t/results/line_number_invalid-boundaries.stdout
Output /tmp/3IF4u6UdFM looks good.
ok 8 - Computing differences
ok 9 # skip GNU grep not available
Testing filename: t/mailboxes/mailarc-1-dos.txt
Comparing /tmp/DfVf9S4aSY to t/results/line_number_mailarc-1-dos.stdout
Output /tmp/DfVf9S4aSY looks good.
ok 10 - Computing differences
Comparing /tmp/6WznHVcTxo to t/results/line_number_mailarc-1-dos.stdout
Output /tmp/6WznHVcTxo looks good.
ok 11 - Computing differences
ok 12 # skip GNU grep not available
Testing filename: t/mailboxes/mailarc-1.txt
Comparing /tmp/73YDBpoYpT to t/results/line_number_mailarc-1.stdout
Output /tmp/73YDBpoYpT looks good.
ok 13 - Computing differences
Comparing /tmp/qUPyFC5Ik4 to t/results/line_number_mailarc-1.stdout
Output /tmp/qUPyFC5Ik4 looks good.
ok 14 - Computing differences
ok 15 # skip GNU grep not available
Testing filename: t/mailboxes/mailarc-2.txt
Comparing /tmp/oKviS_ZXk2 to t/results/line_number_mailarc-2.stdout
Output /tmp/oKviS_ZXk2 looks good.
ok 16 - Computing differences
Comparing /tmp/uNtGJChZOK to t/results/line_number_mailarc-2.stdout
Output /tmp/uNtGJChZOK looks good.
ok 17 - Computing differences
ok 18 # skip GNU grep not available
Testing filename: t/mailboxes/mailarc-3.txt
Comparing /tmp/Upgh98JjvZ to t/results/line_number_mailarc-3.stdout
Output /tmp/Upgh98JjvZ looks good.
ok 19 - Computing differences
Comparing /tmp/XiIRjUABFM to t/results/line_number_mailarc-3.stdout
Output /tmp/XiIRjUABFM looks good.
ok 20 - Computing differences
ok 21 # skip GNU grep not available
Testing filename: t/mailboxes/mailseparators.txt
Comparing /tmp/WiKVqT32xZ to t/results/line_number_mailseparators.stdout
Output /tmp/WiKVqT32xZ looks good.
ok 22 - Computing differences
Comparing /tmp/_5PKyalNTh to t/results/line_number_mailseparators.stdout
Output /tmp/_5PKyalNTh looks good.
ok 23 - Computing differences
ok 24 # skip GNU grep not available
Testing filename: t/mailboxes/malformed.txt
Comparing /tmp/hZX_H1dRGA to t/results/line_number_malformed.stdout
Output /tmp/hZX_H1dRGA looks good.
ok 25 - Computing differences
Comparing /tmp/nqotkr3Kh2 to t/results/line_number_malformed.stdout
Output /tmp/nqotkr3Kh2 looks good.
ok 26 - Computing differences
ok 27 # skip GNU grep not available
Testing filename: t/mailboxes/newlines_at_beginning.txt
Comparing /tmp/AaqQ2o2nLI to t/results/line_number_newlines_at_beginning.stdout
Output /tmp/AaqQ2o2nLI looks good.
ok 28 - Computing differences
Comparing /tmp/mIOxh42G09 to t/results/line_number_newlines_at_beginning.stdout
Output /tmp/mIOxh42G09 looks good.
ok 29 - Computing differences
ok 30 # skip GNU grep not available
ok
t/lzip.t ........................ 
1..1
Running test:
  "/usr/bin/cat" "t/mailboxes/mailarc-2.txt.lz" | "lzip" -cd
ok 1 # skip lzip not available
ok
t/number.t ...................... 
1..30
Testing filename: t/mailboxes/binary_body.txt
Comparing /tmp/UlLVBg6mq2 to t/results/number_binary_body.stdout
Output /tmp/UlLVBg6mq2 looks good.
ok 1 - Computing differences
Comparing /tmp/hWmlyKWGaW to t/results/number_binary_body.stdout
Output /tmp/hWmlyKWGaW looks good.
ok 2 - Computing differences
ok 3 # skip GNU grep not available
Testing filename: t/mailboxes/hessbug.txt
Comparing /tmp/9dZJwQFjHR to t/results/number_hessbug.stdout
Output /tmp/9dZJwQFjHR looks good.
ok 4 - Computing differences
Comparing /tmp/OAAT0a2uEG to t/results/number_hessbug.stdout
Output /tmp/OAAT0a2uEG looks good.
ok 5 - Computing differences
ok 6 # skip GNU grep not available
Testing filename: t/mailboxes/invalid-boundaries.txt
Comparing /tmp/0wSp22zXnb to t/results/number_invalid-boundaries.stdout
Output /tmp/0wSp22zXnb looks good.
ok 7 - Computing differences
Comparing /tmp/BOjaqBXEet to t/results/number_invalid-boundaries.stdout
Output /tmp/BOjaqBXEet looks good.
ok 8 - Computing differences
ok 9 # skip GNU grep not available
Testing filename: t/mailboxes/mailarc-1-dos.txt
Comparing /tmp/Ct_vvwQrvy to t/results/number_mailarc-1-dos.stdout
Output /tmp/Ct_vvwQrvy looks good.
ok 10 - Computing differences
Comparing /tmp/W_GqidSDfF to t/results/number_mailarc-1-dos.stdout
Output /tmp/W_GqidSDfF looks good.
ok 11 - Computing differences
ok 12 # skip GNU grep not available
Testing filename: t/mailboxes/mailarc-1.txt
Comparing /tmp/81PYrEBxQg to t/results/number_mailarc-1.stdout
Output /tmp/81PYrEBxQg looks good.
ok 13 - Computing differences
Comparing /tmp/oETqX8YACC to t/results/number_mailarc-1.stdout
Output /tmp/oETqX8YACC looks good.
ok 14 - Computing differences
ok 15 # skip GNU grep not available
Testing filename: t/mailboxes/mailarc-2.txt
Comparing /tmp/vEum23ufd5 to t/results/number_mailarc-2.stdout
Output /tmp/vEum23ufd5 looks good.
ok 16 - Computing differences
Comparing /tmp/CnV0OY1xim to t/results/number_mailarc-2.stdout
Output /tmp/CnV0OY1xim looks good.
ok 17 - Computing differences
ok 18 # skip GNU grep not available
Testing filename: t/mailboxes/mailarc-3.txt
Comparing /tmp/1aF6BVXR12 to t/results/number_mailarc-3.stdout
Output /tmp/1aF6BVXR12 looks good.
ok 19 - Computing differences
Comparing /tmp/Zt8vMzvXUl to t/results/number_mailarc-3.stdout
Output /tmp/Zt8vMzvXUl looks good.
ok 20 - Computing differences
ok 21 # skip GNU grep not available
Testing filename: t/mailboxes/mailseparators.txt
Comparing /tmp/jIgJhfWJd7 to t/results/number_mailseparators.stdout
Output /tmp/jIgJhfWJd7 looks good.
ok 22 - Computing differences
Comparing /tmp/749QojdjU7 to t/results/number_mailseparators.stdout
Output /tmp/749QojdjU7 looks good.
ok 23 - Computing differences
ok 24 # skip GNU grep not available
Testing filename: t/mailboxes/malformed.txt
Comparing /tmp/MqeGuX7sR_ to t/results/number_malformed.stdout
Output /tmp/MqeGuX7sR_ looks good.
ok 25 - Computing differences
Comparing /tmp/QCvRpXx7I7 to t/results/number_malformed.stdout
Output /tmp/QCvRpXx7I7 looks good.
ok 26 - Computing differences
ok 27 # skip GNU grep not available
Testing filename: t/mailboxes/newlines_at_beginning.txt
Comparing /tmp/b2gC3Ej9Qr to t/results/number_newlines_at_beginning.stdout
Output /tmp/b2gC3Ej9Qr looks good.
ok 28 - Computing differences
Comparing /tmp/VTrcvov6fU to t/results/number_newlines_at_beginning.stdout
Output /tmp/VTrcvov6fU looks good.
ok 29 - Computing differences
ok 30 # skip GNU grep not available
ok
t/offset.t ...................... 
1..30
Testing filename: t/mailboxes/binary_body.txt
Comparing /tmp/LsI7oxZGoN to t/results/offset_binary_body.stdout
Output /tmp/LsI7oxZGoN looks good.
ok 1 - Computing differences
Comparing /tmp/0dTcSzkGyg to t/results/offset_binary_body.stdout
Output /tmp/0dTcSzkGyg looks good.
ok 2 - Computing differences
ok 3 # skip GNU grep not available
Testing filename: t/mailboxes/hessbug.txt
Comparing /tmp/csEHzMsvdr to t/results/offset_hessbug.stdout
Output /tmp/csEHzMsvdr looks good.
ok 4 - Computing differences
Comparing /tmp/11dwtRRksa to t/results/offset_hessbug.stdout
Output /tmp/11dwtRRksa looks good.
ok 5 - Computing differences
ok 6 # skip GNU grep not available
Testing filename: t/mailboxes/invalid-boundaries.txt
Comparing /tmp/rS8TxHentp to t/results/offset_invalid-boundaries.stdout
Output /tmp/rS8TxHentp looks good.
ok 7 - Computing differences
Comparing /tmp/_ac1CJH6q6 to t/results/offset_invalid-boundaries.stdout
Output /tmp/_ac1CJH6q6 looks good.
ok 8 - Computing differences
ok 9 # skip GNU grep not available
Testing filename: t/mailboxes/mailarc-1-dos.txt
Comparing /tmp/7YJSJcgF8O to t/results/offset_mailarc-1-dos.stdout
Output /tmp/7YJSJcgF8O looks good.
ok 10 - Computing differences
Comparing /tmp/Ik65HhhcES to t/results/offset_mailarc-1-dos.stdout
Output /tmp/Ik65HhhcES looks good.
ok 11 - Computing differences
ok 12 # skip GNU grep not available
Testing filename: t/mailboxes/mailarc-1.txt
Comparing /tmp/G9FPUcUW7s to t/results/offset_mailarc-1.stdout
Output /tmp/G9FPUcUW7s looks good.
ok 13 - Computing differences
Comparing /tmp/QWi0YqLylv to t/results/offset_mailarc-1.stdout
Output /tmp/QWi0YqLylv looks good.
ok 14 - Computing differences
ok 15 # skip GNU grep not available
Testing filename: t/mailboxes/mailarc-2.txt
Comparing /tmp/jprmf5p5mc to t/results/offset_mailarc-2.stdout
Output /tmp/jprmf5p5mc looks good.
ok 16 - Computing differences
Comparing /tmp/cRD5YpXYr0 to t/results/offset_mailarc-2.stdout
Output /tmp/cRD5YpXYr0 looks good.
ok 17 - Computing differences
ok 18 # skip GNU grep not available
Testing filename: t/mailboxes/mailarc-3.txt
Comparing /tmp/NvNRo9ajHJ to t/results/offset_mailarc-3.stdout
Output /tmp/NvNRo9ajHJ looks good.
ok 19 - Computing differences
Comparing /tmp/tJozZde5k1 to t/results/offset_mailarc-3.stdout
Output /tmp/tJozZde5k1 looks good.
ok 20 - Computing differences
ok 21 # skip GNU grep not available
Testing filename: t/mailboxes/mailseparators.txt
Comparing /tmp/XTZ12NUNT2 to t/results/offset_mailseparators.stdout
Output /tmp/XTZ12NUNT2 looks good.
ok 22 - Computing differences
Comparing /tmp/keLFcRRyr4 to t/results/offset_mailseparators.stdout
Output /tmp/keLFcRRyr4 looks good.
ok 23 - Computing differences
ok 24 # skip GNU grep not available
Testing filename: t/mailboxes/malformed.txt
Comparing /tmp/I5biy_Yh1_ to t/results/offset_malformed.stdout
Output /tmp/I5biy_Yh1_ looks good.
ok 25 - Computing differences
Comparing /tmp/dAk3Fvgmsf to t/results/offset_malformed.stdout
Output /tmp/dAk3Fvgmsf looks good.
ok 26 - Computing differences
ok 27 # skip GNU grep not available
Testing filename: t/mailboxes/newlines_at_beginning.txt
Comparing /tmp/ea2qNZKHJR to t/results/offset_newlines_at_beginning.stdout
Output /tmp/ea2qNZKHJR looks good.
ok 28 - Computing differences
Comparing /tmp/99hoK4HPOy to t/results/offset_newlines_at_beginning.stdout
Output /tmp/99hoK4HPOy looks good.
ok 29 - Computing differences
ok 30 # skip GNU grep not available
ok
t/prologue.t .................... 
1..33
Testing filename: t/mailboxes/binary_body.txt
Comparing /tmp/fnCka12YkY to t/mailboxes/binary_body.txt
Output /tmp/fnCka12YkY looks good.
ok 1 - Computing differences
Comparing /tmp/AxHhePoQUG to t/mailboxes/binary_body.txt
Output /tmp/AxHhePoQUG looks good.
ok 2 - Computing differences
ok 3 # skip GNU grep not available
Testing filename: t/mailboxes/hessbug.txt
Comparing /tmp/BuQ1dZZpSu to t/mailboxes/hessbug.txt
Output /tmp/BuQ1dZZpSu looks good.
ok 4 - Computing differences
Comparing /tmp/Pv1xl9C1zB to t/mailboxes/hessbug.txt
Output /tmp/Pv1xl9C1zB looks good.
ok 5 - Computing differences
ok 6 # skip GNU grep not available
Testing filename: t/mailboxes/invalid-boundaries.txt
Comparing /tmp/iMpjkjzKbc to t/mailboxes/invalid-boundaries.txt
Output /tmp/iMpjkjzKbc looks good.
ok 7 - Computing differences
Comparing /tmp/AAglZG1hAV to t/mailboxes/invalid-boundaries.txt
Output /tmp/AAglZG1hAV looks good.
ok 8 - Computing differences
ok 9 # skip GNU grep not available
Testing filename: t/mailboxes/mailarc-1-dos.txt
Comparing /tmp/AoBygP9ZhW to t/mailboxes/mailarc-1-dos.txt
Output /tmp/AoBygP9ZhW looks good.
ok 10 - Computing differences
Comparing /tmp/175ZjEHfNc to t/mailboxes/mailarc-1-dos.txt
Output /tmp/175ZjEHfNc looks good.
ok 11 - Computing differences
ok 12 # skip GNU grep not available
Testing filename: t/mailboxes/mailarc-1.txt
Comparing /tmp/8sJMUPMSu2 to t/mailboxes/mailarc-1.txt
Output /tmp/8sJMUPMSu2 looks good.
ok 13 - Computing differences
Comparing /tmp/KNXV8A15BX to t/mailboxes/mailarc-1.txt
Output /tmp/KNXV8A15BX looks good.
ok 14 - Computing differences
ok 15 # skip GNU grep not available
Testing filename: t/mailboxes/mailarc-2.txt
Comparing /tmp/cKwzEu22Dj to t/mailboxes/mailarc-2.txt
Output /tmp/cKwzEu22Dj looks good.
ok 16 - Computing differences
Comparing /tmp/B1AakAvJbQ to t/mailboxes/mailarc-2.txt
Output /tmp/B1AakAvJbQ looks good.
ok 17 - Computing differences
ok 18 # skip GNU grep not available
Testing filename: t/mailboxes/mailarc-3.txt
Comparing /tmp/Vz7Ml9WvqN to t/mailboxes/mailarc-3.txt
Output /tmp/Vz7Ml9WvqN looks good.
ok 19 - Computing differences
Comparing /tmp/wA52d8cRwB to t/mailboxes/mailarc-3.txt
Output /tmp/wA52d8cRwB looks good.
ok 20 - Computing differences
ok 21 # skip GNU grep not available
Testing filename: t/mailboxes/mailseparators.txt
Comparing /tmp/hEyhqysdrS to t/mailboxes/mailseparators.txt
Output /tmp/hEyhqysdrS looks good.
ok 22 - Computing differences
Comparing /tmp/QrpD5ZLTuf to t/mailboxes/mailseparators.txt
Output /tmp/QrpD5ZLTuf looks good.
ok 23 - Computing differences
ok 24 # skip GNU grep not available
Testing filename: t/mailboxes/malformed.txt
Comparing /tmp/jb7eNBKTow to t/mailboxes/malformed.txt
Output /tmp/jb7eNBKTow looks good.
ok 25 - Computing differences
Comparing /tmp/QYconf5oaO to t/mailboxes/malformed.txt
Output /tmp/QYconf5oaO looks good.
ok 26 - Computing differences
ok 27 # skip GNU grep not available
Testing filename: t/mailboxes/newlines_at_beginning.txt
Comparing /tmp/_27gieYFgp to t/mailboxes/newlines_at_beginning.txt
Output /tmp/_27gieYFgp looks good.
ok 28 - Computing differences
Comparing /tmp/WgHqtnJElz to t/mailboxes/newlines_at_beginning.txt
Output /tmp/WgHqtnJElz looks good.
ok 29 - Computing differences
ok 30 # skip GNU grep not available
Testing filename: t/mailboxes/vm-emacs.txt
Comparing /tmp/2liGZGHJvw to t/mailboxes/vm-emacs.txt
Output /tmp/2liGZGHJvw looks good.
ok 31 - Computing differences
Comparing /tmp/FqjFHWzHU0 to t/mailboxes/vm-emacs.txt
Output /tmp/FqjFHWzHU0 looks good.
ok 32 - Computing differences
ok 33 # skip GNU grep not available
ok
t/reset.t ....................... 
1..60
Testing filename: t/mailboxes/binary_body.txt
Testing partial mailbox reset with Perl implementation
Comparing /tmp/Xtf1HmIe4q to t/results/reset_binary_body.stdout
Output /tmp/Xtf1HmIe4q looks good.
ok 1 - Computing differences
Testing partial mailbox reset with Cache implementation
Comparing /tmp/ewZVzSaaNB to t/results/reset_binary_body.stdout
Output /tmp/ewZVzSaaNB looks good.
ok 2 - Computing differences
Testing partial mailbox reset with Grep implementation
ok 3 # skip GNU grep not available
Testing full mailbox reset with Perl implementation
Comparing /tmp/97Dw65UWiH to t/results/reset_binary_body.stdout
Output /tmp/97Dw65UWiH looks good.
ok 4 - Computing differences
Testing full mailbox reset with Cache implementation
Comparing /tmp/8s2dX98tYt to t/results/reset_binary_body.stdout
Output /tmp/8s2dX98tYt looks good.
ok 5 - Computing differences
Testing full mailbox reset with Grep implementation
ok 6 # skip GNU grep not available
Testing filename: t/mailboxes/hessbug.txt
Testing partial mailbox reset with Perl implementation
Comparing /tmp/rgeqUaSbpD to t/results/reset_hessbug.stdout
Output /tmp/rgeqUaSbpD looks good.
ok 7 - Computing differences
Testing partial mailbox reset with Cache implementation
Comparing /tmp/RubNT1LS84 to t/results/reset_hessbug.stdout
Output /tmp/RubNT1LS84 looks good.
ok 8 - Computing differences
Testing partial mailbox reset with Grep implementation
ok 9 # skip GNU grep not available
Testing full mailbox reset with Perl implementation
Comparing /tmp/bhJc9_53T9 to t/results/reset_hessbug.stdout
Output /tmp/bhJc9_53T9 looks good.
ok 10 - Computing differences
Testing full mailbox reset with Cache implementation
Comparing /tmp/8kvYCWIbpg to t/results/reset_hessbug.stdout
Output /tmp/8kvYCWIbpg looks good.
ok 11 - Computing differences
Testing full mailbox reset with Grep implementation
ok 12 # skip GNU grep not available
Testing filename: t/mailboxes/invalid-boundaries.txt
Testing partial mailbox reset with Perl implementation
Comparing /tmp/aCs55B3V2X to t/results/reset_invalid-boundaries.stdout
Output /tmp/aCs55B3V2X looks good.
ok 13 - Computing differences
Testing partial mailbox reset with Cache implementation
Comparing /tmp/jf_4Az_mIc to t/results/reset_invalid-boundaries.stdout
Output /tmp/jf_4Az_mIc looks good.
ok 14 - Computing differences
Testing partial mailbox reset with Grep implementation
ok 15 # skip GNU grep not available
Testing full mailbox reset with Perl implementation
Comparing /tmp/OTk61QKaYW to t/results/reset_invalid-boundaries.stdout
Output /tmp/OTk61QKaYW looks good.
ok 16 - Computing differences
Testing full mailbox reset with Cache implementation
Comparing /tmp/BCyrpyOOxi to t/results/reset_invalid-boundaries.stdout
Output /tmp/BCyrpyOOxi looks good.
ok 17 - Computing differences
Testing full mailbox reset with Grep implementation
ok 18 # skip GNU grep not available
Testing filename: t/mailboxes/mailarc-1-dos.txt
Testing partial mailbox reset with Perl implementation
Comparing /tmp/Knl2oQ6_Ln to t/results/reset_mailarc-1-dos.stdout
Output /tmp/Knl2oQ6_Ln looks good.
ok 19 - Computing differences
Testing partial mailbox reset with Cache implementation
Comparing /tmp/BYo5i4OOOs to t/results/reset_mailarc-1-dos.stdout
Output /tmp/BYo5i4OOOs looks good.
ok 20 - Computing differences
Testing partial mailbox reset with Grep implementation
ok 21 # skip GNU grep not available
Testing full mailbox reset with Perl implementation
Comparing /tmp/vAM0MS_MmI to t/results/reset_mailarc-1-dos.stdout
Output /tmp/vAM0MS_MmI looks good.
ok 22 - Computing differences
Testing full mailbox reset with Cache implementation
Comparing /tmp/2dAjxpTuKq to t/results/reset_mailarc-1-dos.stdout
Output /tmp/2dAjxpTuKq looks good.
ok 23 - Computing differences
Testing full mailbox reset with Grep implementation
ok 24 # skip GNU grep not available
Testing filename: t/mailboxes/mailarc-1.txt
Testing partial mailbox reset with Perl implementation
Comparing /tmp/ZqS_GQbLu1 to t/results/reset_mailarc-1.stdout
Output /tmp/ZqS_GQbLu1 looks good.
ok 25 - Computing differences
Testing partial mailbox reset with Cache implementation
Comparing /tmp/dRkbKmar3S to t/results/reset_mailarc-1.stdout
Output /tmp/dRkbKmar3S looks good.
ok 26 - Computing differences
Testing partial mailbox reset with Grep implementation
ok 27 # skip GNU grep not available
Testing full mailbox reset with Perl implementation
Comparing /tmp/DaFDzYklmQ to t/results/reset_mailarc-1.stdout
Output /tmp/DaFDzYklmQ looks good.
ok 28 - Computing differences
Testing full mailbox reset with Cache implementation
Comparing /tmp/7sGBg1MMVa to t/results/reset_mailarc-1.stdout
Output /tmp/7sGBg1MMVa looks good.
ok 29 - Computing differences
Testing full mailbox reset with Grep implementation
ok 30 # skip GNU grep not available
Testing filename: t/mailboxes/mailarc-2.txt
Testing partial mailbox reset with Perl implementation
Comparing /tmp/oiuyHqlXYU to t/results/reset_mailarc-2.stdout
Output /tmp/oiuyHqlXYU looks good.
ok 31 - Computing differences
Testing partial mailbox reset with Cache implementation
Comparing /tmp/ebuwICREUX to t/results/reset_mailarc-2.stdout
Output /tmp/ebuwICREUX looks good.
ok 32 - Computing differences
Testing partial mailbox reset with Grep implementation
ok 33 # skip GNU grep not available
Testing full mailbox reset with Perl implementation
Comparing /tmp/ciItfscnjn to t/results/reset_mailarc-2.stdout
Output /tmp/ciItfscnjn looks good.
ok 34 - Computing differences
Testing full mailbox reset with Cache implementation
Comparing /tmp/lJELr9mV_8 to t/results/reset_mailarc-2.stdout
Output /tmp/lJELr9mV_8 looks good.
ok 35 - Computing differences
Testing full mailbox reset with Grep implementation
ok 36 # skip GNU grep not available
Testing filename: t/mailboxes/mailarc-3.txt
Testing partial mailbox reset with Perl implementation
Comparing /tmp/s8MbSf0cF3 to t/results/reset_mailarc-3.stdout
Output /tmp/s8MbSf0cF3 looks good.
ok 37 - Computing differences
Testing partial mailbox reset with Cache implementation
Comparing /tmp/48pspHFZkt to t/results/reset_mailarc-3.stdout
Output /tmp/48pspHFZkt looks good.
ok 38 - Computing differences
Testing partial mailbox reset with Grep implementation
ok 39 # skip GNU grep not available
Testing full mailbox reset with Perl implementation
Comparing /tmp/GSijOKrkzp to t/results/reset_mailarc-3.stdout
Output /tmp/GSijOKrkzp looks good.
ok 40 - Computing differences
Testing full mailbox reset with Cache implementation
Comparing /tmp/UQhDlIgL5I to t/results/reset_mailarc-3.stdout
Output /tmp/UQhDlIgL5I looks good.
ok 41 - Computing differences
Testing full mailbox reset with Grep implementation
ok 42 # skip GNU grep not available
Testing filename: t/mailboxes/mailseparators.txt
Testing partial mailbox reset with Perl implementation
Comparing /tmp/WgWf6Nc0Xp to t/results/reset_mailseparators.stdout
Output /tmp/WgWf6Nc0Xp looks good.
ok 43 - Computing differences
Testing partial mailbox reset with Cache implementation
Comparing /tmp/Tw7IUbGBXb to t/results/reset_mailseparators.stdout
Output /tmp/Tw7IUbGBXb looks good.
ok 44 - Computing differences
Testing partial mailbox reset with Grep implementation
ok 45 # skip GNU grep not available
Testing full mailbox reset with Perl implementation
Comparing /tmp/Dp3eqoe_zz to t/results/reset_mailseparators.stdout
Output /tmp/Dp3eqoe_zz looks good.
ok 46 - Computing differences
Testing full mailbox reset with Cache implementation
Comparing /tmp/CX5MmRd17b to t/results/reset_mailseparators.stdout
Output /tmp/CX5MmRd17b looks good.
ok 47 - Computing differences
Testing full mailbox reset with Grep implementation
ok 48 # skip GNU grep not available
Testing filename: t/mailboxes/malformed.txt
Testing partial mailbox reset with Perl implementation
Comparing /tmp/vlPKu3t0fS to t/results/reset_malformed.stdout
Output /tmp/vlPKu3t0fS looks good.
ok 49 - Computing differences
Testing partial mailbox reset with Cache implementation
Comparing /tmp/hToFbRjnRZ to t/results/reset_malformed.stdout
Output /tmp/hToFbRjnRZ looks good.
ok 50 - Computing differences
Testing partial mailbox reset with Grep implementation
ok 51 # skip GNU grep not available
Testing full mailbox reset with Perl implementation
Comparing /tmp/RpkX8xnKLN to t/results/reset_malformed.stdout
Output /tmp/RpkX8xnKLN looks good.
ok 52 - Computing differences
Testing full mailbox reset with Cache implementation
Comparing /tmp/_FvtDWh2f1 to t/results/reset_malformed.stdout
Output /tmp/_FvtDWh2f1 looks good.
ok 53 - Computing differences
Testing full mailbox reset with Grep implementation
ok 54 # skip GNU grep not available
Testing filename: t/mailboxes/newlines_at_beginning.txt
Testing partial mailbox reset with Perl implementation
Comparing /tmp/bxzhQ1sAbJ to t/results/reset_newlines_at_beginning.stdout
Output /tmp/bxzhQ1sAbJ looks good.
ok 55 - Computing differences
Testing partial mailbox reset with Cache implementation
Comparing /tmp/9SvL2YUEpQ to t/results/reset_newlines_at_beginning.stdout
Output /tmp/9SvL2YUEpQ looks good.
ok 56 - Computing differences
Testing partial mailbox reset with Grep implementation
ok 57 # skip GNU grep not available
Testing full mailbox reset with Perl implementation
Comparing /tmp/jSZcHcn2hT to t/results/reset_newlines_at_beginning.stdout
Output /tmp/jSZcHcn2hT looks good.
ok 58 - Computing differences
Testing full mailbox reset with Cache implementation
Comparing /tmp/u3okAhNmfj to t/results/reset_newlines_at_beginning.stdout
Output /tmp/u3okAhNmfj looks good.
ok 59 - Computing differences
Testing full mailbox reset with Grep implementation
ok 60 # skip GNU grep not available
ok
t/separators.t .................. 
1..6
Testing filename: t/mailboxes/separators2.sep
ok 1 - Number of emails in t/mailboxes/separators2.sep
ok 2 - Number of emails in t/mailboxes/separators2.sep
ok 3 # skip GNU grep not available
Testing filename: t/mailboxes/separators1.sep
ok 4 - Number of emails in t/mailboxes/separators1.sep
ok 5 - Number of emails in t/mailboxes/separators1.sep
ok 6 # skip GNU grep not available
ok
t/stdin_compressed.t ............ 
1..4
Testing filename: t/mailboxes/mailarc-2.txt.bz2
Comparing /tmp/MRzQiq8dpR to t/mailboxes/mailarc-2.txt
Output /tmp/MRzQiq8dpR looks good.
ok 1 - Computing differences
Testing filename: t/mailboxes/mailarc-2.txt.gz
Comparing /tmp/mr3Geb6qTi to t/mailboxes/mailarc-2.txt
Output /tmp/mr3Geb6qTi looks good.
ok 2 - Computing differences
Testing filename: t/mailboxes/mailarc-2.txt.lz
ok 3 # skip lzip not available
Testing filename: t/mailboxes/mailarc-2.txt.xz
Comparing /tmp/ekZ0txQQna to t/mailboxes/mailarc-2.txt
Output /tmp/ekZ0txQQna looks good.
ok 4 - Computing differences
ok
t/stdin_uncompressed.t .......... 
1..11
Testing filename: t/mailboxes/binary_body.txt
Comparing /tmp/SeNvzujAbp to t/mailboxes/binary_body.txt
Output /tmp/SeNvzujAbp looks good.
ok 1 - Computing differences
Testing filename: t/mailboxes/hessbug.txt
Comparing /tmp/6uZYJSkozV to t/mailboxes/hessbug.txt
Output /tmp/6uZYJSkozV looks good.
ok 2 - Computing differences
Testing filename: t/mailboxes/invalid-boundaries.txt
Comparing /tmp/ap6K_y3Riq to t/mailboxes/invalid-boundaries.txt
Output /tmp/ap6K_y3Riq looks good.
ok 3 - Computing differences
Testing filename: t/mailboxes/mailarc-1-dos.txt
Comparing /tmp/zbLqjCnZm8 to t/mailboxes/mailarc-1-dos.txt
Output /tmp/zbLqjCnZm8 looks good.
ok 4 - Computing differences
Testing filename: t/mailboxes/mailarc-1.txt
Comparing /tmp/q6ZZvIh7Pr to t/mailboxes/mailarc-1.txt
Output /tmp/q6ZZvIh7Pr looks good.
ok 5 - Computing differences
Testing filename: t/mailboxes/mailarc-2.txt
Comparing /tmp/AaI4QOJpSc to t/mailboxes/mailarc-2.txt
Output /tmp/AaI4QOJpSc looks good.
ok 6 - Computing differences
Testing filename: t/mailboxes/mailarc-3.txt
Comparing /tmp/lJoc0Ebpz0 to t/mailboxes/mailarc-3.txt
Output /tmp/lJoc0Ebpz0 looks good.
ok 7 - Computing differences
Testing filename: t/mailboxes/mailseparators.txt
Comparing /tmp/npntuca5fj to t/mailboxes/mailseparators.txt
Output /tmp/npntuca5fj looks good.
ok 8 - Computing differences
Testing filename: t/mailboxes/malformed.txt
Comparing /tmp/Zo1Q3_hT5T to t/mailboxes/malformed.txt
Output /tmp/Zo1Q3_hT5T looks good.
ok 9 - Computing differences
Testing filename: t/mailboxes/newlines_at_beginning.txt
Comparing /tmp/uWfM2QYQ0o to t/mailboxes/newlines_at_beginning.txt
Output /tmp/uWfM2QYQ0o looks good.
ok 10 - Computing differences
Testing filename: t/mailboxes/vm-emacs.txt
Comparing /tmp/XDRvneP7Og to t/mailboxes/vm-emacs.txt
Output /tmp/XDRvneP7Og looks good.
ok 11 - Computing differences
ok
t/undef_return_value.t .......... 
1..33
Testing Perl 
Comparing /tmp/8hzj72OUfa to t/mailboxes/binary_body.txt
Output /tmp/8hzj72OUfa looks good.
ok 1 - Computing differences
Testing Cache implementation
Comparing /tmp/KL0wmt1U1t to t/mailboxes/binary_body.txt
Output /tmp/KL0wmt1U1t looks good.
ok 2 - Computing differences
ok 3 # skip GNU grep not available
Testing Perl 
Comparing /tmp/urQJAhoQvV to t/mailboxes/hessbug.txt
Output /tmp/urQJAhoQvV looks good.
ok 4 - Computing differences
Testing Cache implementation
Comparing /tmp/Uc3eJqA4Iy to t/mailboxes/hessbug.txt
Output /tmp/Uc3eJqA4Iy looks good.
ok 5 - Computing differences
ok 6 # skip GNU grep not available
Testing Perl 
Comparing /tmp/MuIqpZaFgp to t/mailboxes/invalid-boundaries.txt
Output /tmp/MuIqpZaFgp looks good.
ok 7 - Computing differences
Testing Cache implementation
Comparing /tmp/m4FK1FIOXP to t/mailboxes/invalid-boundaries.txt
Output /tmp/m4FK1FIOXP looks good.
ok 8 - Computing differences
ok 9 # skip GNU grep not available
Testing Perl 
Comparing /tmp/5tUlpj2Ved to t/mailboxes/mailarc-1-dos.txt
Output /tmp/5tUlpj2Ved looks good.
ok 10 - Computing differences
Testing Cache implementation
Comparing /tmp/LLxqBC3hxZ to t/mailboxes/mailarc-1-dos.txt
Output /tmp/LLxqBC3hxZ looks good.
ok 11 - Computing differences
ok 12 # skip GNU grep not available
Testing Perl 
Comparing /tmp/IXKGUfHEiG to t/mailboxes/mailarc-1.txt
Output /tmp/IXKGUfHEiG looks good.
ok 13 - Computing differences
Testing Cache implementation
Comparing /tmp/82vUS7FeNO to t/mailboxes/mailarc-1.txt
Output /tmp/82vUS7FeNO looks good.
ok 14 - Computing differences
ok 15 # skip GNU grep not available
Testing Perl 
Comparing /tmp/EQdpaop1QT to t/mailboxes/mailarc-2.txt
Output /tmp/EQdpaop1QT looks good.
ok 16 - Computing differences
Testing Cache implementation
Comparing /tmp/MR4xD56k2L to t/mailboxes/mailarc-2.txt
Output /tmp/MR4xD56k2L looks good.
ok 17 - Computing differences
ok 18 # skip GNU grep not available
Testing Perl 
Comparing /tmp/XGwqJRFEEf to t/mailboxes/mailarc-3.txt
Output /tmp/XGwqJRFEEf looks good.
ok 19 - Computing differences
Testing Cache implementation
Comparing /tmp/t1ux7ULRZG to t/mailboxes/mailarc-3.txt
Output /tmp/t1ux7ULRZG looks good.
ok 20 - Computing differences
ok 21 # skip GNU grep not available
Testing Perl 
Comparing /tmp/Stp4BjH0vf to t/mailboxes/mailseparators.txt
Output /tmp/Stp4BjH0vf looks good.
ok 22 - Computing differences
Testing Cache implementation
Comparing /tmp/Z22KIX04QX to t/mailboxes/mailseparators.txt
Output /tmp/Z22KIX04QX looks good.
ok 23 - Computing differences
ok 24 # skip GNU grep not available
Testing Perl 
Comparing /tmp/6snMlakWUE to t/mailboxes/malformed.txt
Output /tmp/6snMlakWUE looks good.
ok 25 - Computing differences
Testing Cache implementation
Comparing /tmp/rM07eSyQNV to t/mailboxes/malformed.txt
Output /tmp/rM07eSyQNV looks good.
ok 26 - Computing differences
ok 27 # skip GNU grep not available
Testing Perl 
Comparing /tmp/JemzH6dwQC to t/mailboxes/newlines_at_beginning.txt
Output /tmp/JemzH6dwQC looks good.
ok 28 - Computing differences
Testing Cache implementation
Comparing /tmp/JYsDLGHwaM to t/mailboxes/newlines_at_beginning.txt
Output /tmp/JYsDLGHwaM looks good.
ok 29 - Computing differences
ok 30 # skip GNU grep not available
Testing Perl 
Comparing /tmp/EzEAhJUEcd to t/mailboxes/vm-emacs.txt
Output /tmp/EzEAhJUEcd looks good.
ok 31 - Computing differences
Testing Cache implementation
Comparing /tmp/aZnSjW4ZQE to t/mailboxes/vm-emacs.txt
Output /tmp/aZnSjW4ZQE looks good.
ok 32 - Computing differences
ok 33 # skip GNU grep not available
ok
t/xz.t .......................... 
1..1
Running test:
  "/usr/bin/cat" "t/mailboxes/mailarc-2.txt.xz" | "/usr/bin/xz" -cd
Comparing /tmp/xHSnuW6Guf to t/results/mailarc-2.txt
Output /tmp/xHSnuW6Guf looks good.
Comparing /tmp/rdRslxywtH to t/results/none
Output /tmp/rdRslxywtH looks good.
ok 1 - Computing differences
ok
All tests successful.
Files=25, Tests=382,  6 wallclock secs ( 0.15 usr  0.11 sys +  4.47 cusr  1.03 csys =  5.76 CPU)
Result: PASS

------------------------------
PREREQUISITES
------------------------------

Prerequisite modules loaded:

requires:

    Module              Need  Have    
    ------------------- ----- --------
    FileHandle::Unget   0     0.1634  
    perl                5.005 5.041009
    Storable            0     3.35    

build_requires:

    Module              Need  Have    
    ------------------- ----- --------
    ExtUtils::MakeMaker 6.36  7.70    
    File::Path          2.08  2.18    
    File::Slurper       0     0.014   
    Test::Compile       0     v3.3.3  
    Test::More          0     1.302209
    Text::Diff          0     1.45    
    UNIVERSAL::require  0     0.19    
    URI::Escape         0     5.31    

configure_requires:

    Module              Need  Have    
    ------------------- ----- --------
    ExtUtils::MakeMaker 6.36  7.70    
    URI::Escape         0     5.31    


------------------------------
ENVIRONMENT AND OTHER CONTEXT
------------------------------

Environment variables:

    AUTOMATED_TESTING = 1
    LANG = en_US.UTF-8
    PATH = /home/sand/bin:/usr/local/bin:/usr/local/sbin:/usr/sbin:/usr/bin:/sbin:/bin:/usr/games:/usr/local/games:/snap/bin:/usr/local/perl/bin:/usr/X11/bin
    PERL = /tmp/basesmoker-reloperl-wELa/bin/perl
    PERL5LIB = /tmp/loop_over_bdir-287296-9l_app/Device-Kiln-0.03-0/blib/arch:/tmp/loop_over_bdir-287296-9l_app/Device-Kiln-0.03-0/blib/lib:/tmp/loop_over_bdir-287296-9l_app/OSDial-3.0.2.124-0/blib/arch:/tmp/loop_over_bdir-287296-9l_app/OSDial-3.0.2.124-0/blib/lib:/tmp/loop_over_bdir-287296-9l_app/Devel-Required-0.16-0/blib/arch:/tmp/loop_over_bdir-287296-9l_app/Devel-Required-0.16-0/blib/lib:/tmp/loop_over_bdir-287296-9l_app/downsexta-0/blib/arch:/tmp/loop_over_bdir-287296-9l_app/downsexta-0/blib/lib:/tmp/loop_over_bdir-287296-9l_app/Module-ScanDeps-Static-1.7.2-0/blib/arch:/tmp/loop_over_bdir-287296-9l_app/Module-ScanDeps-Static-1.7.2-0/blib/lib:/tmp/loop_over_bdir-287296-9l_app/Captive-Portal-4.10-0/blib/arch:/tmp/loop_over_bdir-287296-9l_app/Captive-Portal-4.10-0/blib/lib:/tmp/loop_over_bdir-287296-9l_app/ProjectBuilder-0.14.1-0/blib/arch:/tmp/loop_over_bdir-287296-9l_app/ProjectBuilder-0.14.1-0/blib/lib:/tmp/loop_over_bdir-287296-9l_app/shishi-0.0.1-0/blib/arch:/tmp/loop_over_bdir-287296-9l_app/shishi-0.0.1-0/blib/lib:/tmp/loop_over_bdir-287296-9l_app/AllKnowingDNS-1.7-0/blib/arch:/tmp/loop_over_bdir-287296-9l_app/AllKnowingDNS-1.7-0/blib/lib:/tmp/loop_over_bdir-287296-9l_app/Simulation-Automate-1.0.1-0/blib/arch:/tmp/loop_over_bdir-287296-9l_app/Simulation-Automate-1.0.1-0/blib/lib:/tmp/loop_over_bdir-287296-9l_app/Net-OpenVPN-DDNS-0.1-0/blib/arch:/tmp/loop_over_bdir-287296-9l_app/Net-OpenVPN-DDNS-0.1-0/blib/lib:/tmp/loop_over_bdir-287296-9l_app/dta-tokwrap-0.98-0/blib/arch:/tmp/loop_over_bdir-287296-9l_app/dta-tokwrap-0.98-0/blib/lib:/tmp/loop_over_bdir-287296-9l_app/MP3-PodcastFetch-1.05-0/blib/arch:/tmp/loop_over_bdir-287296-9l_app/MP3-PodcastFetch-1.05-0/blib/lib
    PERL5OPT = 
    PERL5_CPANPLUS_IS_RUNNING = 287309
    PERL5_CPAN_IS_RUNNING = 287309
    PERL_CANARY_STABILITY_NOPROMPT = 1
    PERL_MM_USE_DEFAULT = 1
    PERL_USE_UNSAFE_INC = 1
    SHELL = /usr/bin/zsh
    TERM = screen

Perl special variables (and OS-specific diagnostics, for MSWin32):

    $^X = /tmp/basesmoker-reloperl-wELa/bin/perl
    $UID/$EUID = 1005 / 1005
    $GID = 1005 1005
    $EGID = 1005 1005

Perl module toolchain versions installed:

    Module              Have    
    ------------------- --------
    CPAN                2.38    
    CPAN::Meta          2.150010
    Cwd                 3.92    
    ExtUtils::CBuilder  0.280240
    ExtUtils::Command   7.70    
    ExtUtils::Install   2.22    
    ExtUtils::MakeMaker 7.70    
    ExtUtils::Manifest  1.75    
    ExtUtils::ParseXS   3.57    
    File::Spec          3.93    
    JSON                4.10    
    JSON::PP            4.16    
    Module::Build       0.4234  
    Module::Signature   0.89    
    Parse::CPAN::Meta   2.150010
    Test2               1.302209
    Test::Harness       3.50    
    Test::More          1.302209
    YAML                1.31    
    YAML::Syck          1.34    
    version             0.9933  


--

Summary of my perl5 (revision 5 version 41 subversion 9) configuration:
  Commit id: b6969eb9f23724dcbb888d791d31c4708dabc85c
  Platform:
    osname=linux
    osvers=5.4.0-204-generic
    archname=x86_64-linux
    uname='linux k93focal 5.4.0-204-generic #224-ubuntu smp thu dec 5 13:38:28 utc 2024 x86_64 x86_64 x86_64 gnulinux '
    config_args='-Dprefix=/home/sand/src/perl/repoperls/installed-perls/host/k93focal/v5.41.9/b254 -Dmyhostname=k93focal -Dinstallusrbinperl=n -Uversiononly -Dusedevel -des -Ui_db -Dlibswanted=cl pthread socket inet nsl gdbm dbm malloc dl ld sun m crypt sec util c cposix posix ucb BSD gdbm_compat -Uuseithreads -Uuselongdouble -DEBUGGING=both'
    hint=recommended
    useposix=true
    d_sigaction=define
    useithreads=undef
    usemultiplicity=undef
    use64bitint=define
    use64bitall=define
    uselongdouble=undef
    usemymalloc=n
    default_inc_excludes_dot=define
  Compiler:
    cc='cc'
    ccflags ='-fwrapv -DDEBUGGING -fno-strict-aliasing -pipe -fstack-protector-strong -I/usr/local/include -D_LARGEFILE_SOURCE -D_FILE_OFFSET_BITS=64'
    optimize='-O2 -g'
    cppflags='-fwrapv -DDEBUGGING -fno-strict-aliasing -pipe -fstack-protector-strong -I/usr/local/include'
    ccversion=''
    gccversion='9.4.0'
    gccosandvers=''
    intsize=4
    longsize=8
    ptrsize=8
    doublesize=8
    byteorder=12345678
    doublekind=3
    d_longlong=define
    longlongsize=8
    d_longdbl=define
    longdblsize=16
    longdblkind=3
    ivtype='long'
    ivsize=8
    nvtype='double'
    nvsize=8
    Off_t='off_t'
    lseeksize=8
    alignbytes=8
    prototype=define
  Linker and Libraries:
    ld='cc'
    ldflags =' -fstack-protector-strong -L/usr/local/lib'
    libpth=/usr/local/lib /usr/lib/x86_64-linux-gnu /usr/lib /usr/lib64
    libs=-lpthread -lnsl -ldl -lm -lcrypt -lutil -lc
    perllibs=-lpthread -lnsl -ldl -lm -lcrypt -lutil -lc
    libc=libc-2.31.so
    so=so
    useshrplib=false
    libperl=libperl.a
    gnulibc_version='2.31'
  Dynamic Linking:
    dlsrc=dl_dlopen.xs
    dlext=so
    d_dlsymun=undef
    ccdlflags='-Wl,-E'
    cccdlflags='-fPIC'
    lddlflags='-shared -O2 -g -L/usr/local/lib -fstack-protector-strong'


Characteristics of this binary (from libperl): 
  Compile-time options:
    DEBUGGING
    HAS_LONG_DOUBLE
    HAS_STRTOLD
    HAS_TIMES
    PERLIO_LAYERS
    PERL_COPY_ON_WRITE
    PERL_DONT_CREATE_GVSV
    PERL_HASH_FUNC_SIPHASH13
    PERL_HASH_USE_SBOX32
    PERL_MALLOC_WRAP
    PERL_OP_PARENT
    PERL_PRESERVE_IVUV
    PERL_USE_DEVEL
    PERL_USE_SAFE_PUTENV
    USE_64_BIT_ALL
    USE_64_BIT_INT
    USE_LARGE_FILES
    USE_LOCALE
    USE_LOCALE_COLLATE
    USE_LOCALE_CTYPE
    USE_LOCALE_NUMERIC
    USE_LOCALE_TIME
    USE_PERLIO
    USE_PERL_ATOF
  Built under linux
  Compiled at Feb 24 2025 11:24:21
  %ENV:
    PERL="/tmp/basesmoker-reloperl-wELa/bin/perl"
    PERL5LIB="/tmp/loop_over_bdir-287296-9l_app/Device-Kiln-0.03-0/blib/arch:/tmp/loop_over_bdir-287296-9l_app/Device-Kiln-0.03-0/blib/lib:/tmp/loop_over_bdir-287296-9l_app/OSDial-3.0.2.124-0/blib/arch:/tmp/loop_over_bdir-287296-9l_app/OSDial-3.0.2.124-0/blib/lib:/tmp/loop_over_bdir-287296-9l_app/Devel-Required-0.16-0/blib/arch:/tmp/loop_over_bdir-287296-9l_app/Devel-Required-0.16-0/blib/lib:/tmp/loop_over_bdir-287296-9l_app/downsexta-0/blib/arch:/tmp/loop_over_bdir-287296-9l_app/downsexta-0/blib/lib:/tmp/loop_over_bdir-287296-9l_app/Module-ScanDeps-Static-1.7.2-0/blib/arch:/tmp/loop_over_bdir-287296-9l_app/Module-ScanDeps-Static-1.7.2-0/blib/lib:/tmp/loop_over_bdir-287296-9l_app/Captive-Portal-4.10-0/blib/arch:/tmp/loop_over_bdir-287296-9l_app/Captive-Portal-4.10-0/blib/lib:/tmp/loop_over_bdir-287296-9l_app/ProjectBuilder-0.14.1-0/blib/arch:/tmp/loop_over_bdir-287296-9l_app/ProjectBuilder-0.14.1-0/blib/lib:/tmp/loop_over_bdir-287296-9l_app/shishi-0.0.1-0/blib/arch:/tmp/loop_over_bdir-287296-9l_app/shishi-0.0.1-0/blib/lib:/tmp/loop_over_bdir-287296-9l_app/AllKnowingDNS-1.7-0/blib/arch:/tmp/loop_over_bdir-287296-9l_app/AllKnowingDNS-1.7-0/blib/lib:/tmp/loop_over_bdir-287296-9l_app/Simulation-Automate-1.0.1-0/blib/arch:/tmp/loop_over_bdir-287296-9l_app/Simulation-Automate-1.0.1-0/blib/lib:/tmp/loop_over_bdir-287296-9l_app/Net-OpenVPN-DDNS-0.1-0/blib/arch:/tmp/loop_over_bdir-287296-9l_app/Net-OpenVPN-DDNS-0.1-0/blib/lib:/tmp/loop_over_bdir-287296-9l_app/dta-tokwrap-0.98-0/blib/arch:/tmp/loop_over_bdir-287296-9l_app/dta-tokwrap-0.98-0/blib/lib:/tmp/loop_over_bdir-287296-9l_app/MP3-PodcastFetch-1.05-0/blib/arch:/tmp/loop_over_bdir-287296-9l_app/MP3-PodcastFetch-1.05-0/blib/lib"
    PERL5OPT=""
    PERL5_CPANPLUS_IS_RUNNING="287309"
    PERL5_CPAN_IS_RUNNING="287309"
    PERL_CANARY_STABILITY_NOPROMPT="1"
    PERL_MM_USE_DEFAULT="1"
    PERL_USE_UNSAFE_INC="1"
  @INC:
    /tmp/loop_over_bdir-287296-9l_app/Device-Kiln-0.03-0/blib/arch
    /tmp/loop_over_bdir-287296-9l_app/Device-Kiln-0.03-0/blib/lib
    /tmp/loop_over_bdir-287296-9l_app/OSDial-3.0.2.124-0/blib/arch
    /tmp/loop_over_bdir-287296-9l_app/OSDial-3.0.2.124-0/blib/lib
    /tmp/loop_over_bdir-287296-9l_app/Devel-Required-0.16-0/blib/arch
    /tmp/loop_over_bdir-287296-9l_app/Devel-Required-0.16-0/blib/lib
    /tmp/loop_over_bdir-287296-9l_app/downsexta-0/blib/arch
    /tmp/loop_over_bdir-287296-9l_app/downsexta-0/blib/lib
    /tmp/loop_over_bdir-287296-9l_app/Module-ScanDeps-Static-1.7.2-0/blib/arch
    /tmp/loop_over_bdir-287296-9l_app/Module-ScanDeps-Static-1.7.2-0/blib/lib
    /tmp/loop_over_bdir-287296-9l_app/Captive-Portal-4.10-0/blib/arch
    /tmp/loop_over_bdir-287296-9l_app/Captive-Portal-4.10-0/blib/lib
    /tmp/loop_over_bdir-287296-9l_app/ProjectBuilder-0.14.1-0/blib/arch
    /tmp/loop_over_bdir-287296-9l_app/ProjectBuilder-0.14.1-0/blib/lib
    /tmp/loop_over_bdir-287296-9l_app/shishi-0.0.1-0/blib/arch
    /tmp/loop_over_bdir-287296-9l_app/shishi-0.0.1-0/blib/lib
    /tmp/loop_over_bdir-287296-9l_app/AllKnowingDNS-1.7-0/blib/arch
    /tmp/loop_over_bdir-287296-9l_app/AllKnowingDNS-1.7-0/blib/lib
    /tmp/loop_over_bdir-287296-9l_app/Simulation-Automate-1.0.1-0/blib/arch
    /tmp/loop_over_bdir-287296-9l_app/Simulation-Automate-1.0.1-0/blib/lib
    /tmp/loop_over_bdir-287296-9l_app/Net-OpenVPN-DDNS-0.1-0/blib/arch
    /tmp/loop_over_bdir-287296-9l_app/Net-OpenVPN-DDNS-0.1-0/blib/lib
    /tmp/loop_over_bdir-287296-9l_app/dta-tokwrap-0.98-0/blib/arch
    /tmp/loop_over_bdir-287296-9l_app/dta-tokwrap-0.98-0/blib/lib
    /tmp/loop_over_bdir-287296-9l_app/MP3-PodcastFetch-1.05-0/blib/arch
    /tmp/loop_over_bdir-287296-9l_app/MP3-PodcastFetch-1.05-0/blib/lib
    /home/sand/src/perl/repoperls/installed-perls/host/k93focal/v5.41.9/b254/lib/site_perl/5.41.9/x86_64-linux
    /home/sand/src/perl/repoperls/installed-perls/host/k93focal/v5.41.9/b254/lib/site_perl/5.41.9
    /home/sand/src/perl/repoperls/installed-perls/host/k93focal/v5.41.9/b254/lib/5.41.9/x86_64-linux
    /home/sand/src/perl/repoperls/installed-perls/host/k93focal/v5.41.9/b254/lib/5.41.9
    .