Back
From: metabase:user:315f03b2-2aae-11df-837a-5e0a49663a4f
Subject: PASS DBIx-Table-TestDataGenerator-0.005 v5.14.2 NetBSD
Date: 2013-02-25T08:04:51Z
This distribution has been tested as part of the CPAN Testers
project, supporting the Perl programming language. See
http://wiki.cpantesters.org/ for more information or email
questions to cpan-testers-discuss@perl.org
--
Dear Jose Diaz Seng,
This is a computer-generated report for DBIx-Table-TestDataGenerator-0.005
on perl 5.14.2, created by CPAN-Reporter-1.2009.
Thank you for uploading your work to CPAN. Congratulations!
All tests were successful.
Sections of this report:
* Tester comments
* Program output
* Prerequisites
* Environment and other context
------------------------------
TESTER COMMENTS
------------------------------
Additional comments from tester:
this report is from an automated smoke testing program
and was not reviewed by a human for accuracy
------------------------------
PROGRAM OUTPUT
------------------------------
Output from './Build test':
# Testing DBIx::Table::TestDataGenerator 0.005, Perl 5.014002, /home/smoke/perl5/perlbrew/perls/perl-5.14.2/bin/perl
t/00-load.t ............................. ok
t/01DBIC.t .............................. ok
t/02DataGeneration.t .................... ok
t/03DataGeneration_null_root_parents.t .. ok
t/04DataGeneration_csv.t ................ ok
t/boilerplate.t ......................... ok
All tests successful.
Test Summary Report
-------------------
t/boilerplate.t (Wstat: 0 Tests: 5 Failed: 0)
TODO passed: 1-5
Files=6, Tests=28, 10 wallclock secs ( 0.08 usr 0.00 sys + 8.70 cusr 0.44 csys = 9.22 CPU)
Result: PASS
------------------------------
PREREQUISITES
------------------------------
Prerequisite modules loaded:
requires:
Module Need Have
-------------------------------------- -------- --------
aliased 0 0.31
Carp 0 1.26
Cwd 0 3.40
Data::GUID 0 0.046
DBD::CSV 0 0.38
DBD::SQLite 0 1.37
DBI 0 1.623
DBI::Const::GetInfoType 0 2.008696
DBIx::Class::Helper::ResultSet::Random 2.016004 2.016005
DBIx::Class::Optional::Dependencies 0 0
DBIx::Class::Relationship 0 0
DBIx::Class::Schema::Loader 0 0.07033
DBIx::RunSQL 0 0.09
File::Basename 0 2.82
File::Spec 0 3.40
List::Util 0 1.27
Moo 0 1.000008
perl 5.006 5.014002
Readonly 0 1.03
SQL::Abstract 0 1.73
SQL::Translator 0.11016 0.11016
Test::Exception 0 0.31
build_requires:
Module Need Have
-------------------------------------- -------- --------
Pod::Coverage 0 0.22
Pod::Coverage::Moose 0 0.04
Test::CheckManifest 0 1.26
Test::More 0 0.98
Test::Pod 0 1.46
Test::Pod::Coverage 0 1.08
configure_requires:
Module Need Have
-------------------------------------- -------- --------
DBIx::Class 0.08203 0.08208
Module::Build 0.4 0.4003
------------------------------
ENVIRONMENT AND OTHER CONTEXT
------------------------------
Environment variables:
AUTOMATED_TESTING = 1
MANPATH_WITHOUT_PERLBREW =
PATH = /home/smoke/perl5/perlbrew/bin:/home/smoke/perl5/perlbrew/perls/perl-5.14.2/bin:/home/smoke/bin:/bin:/sbin:/usr/bin:/usr/sbin:/usr/X11R7/bin:/usr/X11R6/bin:/usr/pkg/bin:/usr/pkg/sbin:/usr/games:/usr/local/bin:/usr/local/sbin
PATH_WITHOUT_PERLBREW = /home/smoke/bin:/bin:/sbin:/usr/bin:/usr/sbin:/usr/X11R7/bin:/usr/X11R6/bin:/usr/pkg/bin:/usr/pkg/sbin:/usr/games:/usr/local/bin:/usr/local/sbin
PERL5LIB =
PERL5OPT =
PERL5_CPANPLUS_IS_RUNNING = 8377
PERL5_CPAN_IS_RUNNING = 8377
PERL5_CPAN_IS_RUNNING_IN_RECURSION = 2346,8377
PERLBREW_BASHRC_VERSION = 0.41
PERLBREW_HOME = /home/smoke/.perlbrew
PERLBREW_MANPATH = /home/smoke/perl5/perlbrew/perls/perl-5.14.2/man
PERLBREW_PATH = /home/smoke/perl5/perlbrew/bin:/home/smoke/perl5/perlbrew/perls/perl-5.14.2/bin
PERLBREW_PERL = perl-5.14.2
PERLBREW_ROOT = /home/smoke/perl5/perlbrew
PERLBREW_VERSION = 0.41
PERL_CR_SMOKER_CURRENT = DBIx-Table-TestDataGenerator-0.005
PERL_EXTUTILS_AUTOINSTALL = --defaultdeps
PERL_MM_USE_DEFAULT = 1
SHELL = /usr/pkg/bin/bash
TERM = xterm-color
Perl special variables (and OS-specific diagnostics, for MSWin32):
$^X = /home/smoke/perl5/perlbrew/perls/perl-5.14.2/bin/perl
$UID/$EUID = 1002 / 1002
$GID = 100 100
$EGID = 100 100
Perl module toolchain versions installed:
Module Have
------------------- ---------
CPAN 1.9600_01
CPAN::Meta 2.120921
Cwd 3.40
ExtUtils::CBuilder 0.280205
ExtUtils::Command 1.17
ExtUtils::Install 1.56
ExtUtils::MakeMaker 6.64
ExtUtils::Manifest 1.60
ExtUtils::ParseXS 3.18
File::Spec 3.40
JSON 2.53
JSON::PP 2.27200
Module::Build 0.4003
Module::Signature n/a
Parse::CPAN::Meta 1.4404
Test::Harness 3.26
Test::More 0.98
YAML 0.84
YAML::Syck 1.22
version 0.9901
--
Summary of my perl5 (revision 5 version 14 subversion 2) configuration:
Platform:
osname=netbsd, osvers=6.0.1, archname=i386-netbsd
uname='netbsd prickle.zeroclue.com 6.0.1 netbsd 6.0.1 (generic) i386 '
config_args='-de -Dprefix=/home/smoke/perl5/perlbrew/perls/perl-5.14.2'
hint=recommended, useposix=true, d_sigaction=define
useithreads=undef, usemultiplicity=undef
useperlio=define, d_sfio=undef, uselargefiles=define, usesocks=undef
use64bitint=undef, use64bitall=undef, uselongdouble=undef
usemymalloc=n, bincompat5005=undef
Compiler:
cc='cc', ccflags ='-fno-strict-aliasing -pipe -fstack-protector -I/usr/pkg/include',
optimize='-O',
cppflags='-fno-strict-aliasing -pipe -fstack-protector -I/usr/pkg/include'
ccversion='', gccversion='4.5.3', gccosandvers=''
intsize=4, longsize=4, ptrsize=4, doublesize=8, byteorder=1234
d_longlong=define, longlongsize=8, d_longdbl=define, longdblsize=12
ivtype='long', ivsize=4, nvtype='double', nvsize=8, Off_t='off_t', lseeksize=8
alignbytes=4, prototype=define
Linker and Libraries:
ld='cc', ldflags =' -Wl,-rpath,/usr/pkg/lib -Wl,-rpath,/usr/local/lib -fstack-protector -L/usr/pkg/lib'
libpth=/usr/pkg/lib /lib /usr/lib
libs=-lm -lcrypt -lutil -lc -lposix
perllibs=-lm -lcrypt -lutil -lc -lposix
libc=/lib/libc.so, so=so, useshrplib=false, libperl=libperl.a
gnulibc_version=''
Dynamic Linking:
dlsrc=dl_dlopen.xs, dlext=so, d_dlsymun=undef, ccdlflags='-Wl,-E '
cccdlflags='-DPIC -fPIC ', lddlflags='--whole-archive -shared -L/usr/pkg/lib -fstack-protector'
Characteristics of this binary (from libperl):
Compile-time options: PERL_DONT_CREATE_GVSV PERL_MALLOC_WRAP
PERL_PRESERVE_IVUV USE_LARGE_FILES USE_PERLIO
USE_PERL_ATOF
Built under netbsd
Compiled at Feb 1 2013 00:11:44
%ENV:
PERL5LIB=""
PERL5OPT=""
PERL5_CPANPLUS_IS_RUNNING="8377"
PERL5_CPAN_IS_RUNNING="8377"
PERL5_CPAN_IS_RUNNING_IN_RECURSION="2346,8377"
PERLBREW_BASHRC_VERSION="0.41"
PERLBREW_HOME="/home/smoke/.perlbrew"
PERLBREW_MANPATH="/home/smoke/perl5/perlbrew/perls/perl-5.14.2/man"
PERLBREW_PATH="/home/smoke/perl5/perlbrew/bin:/home/smoke/perl5/perlbrew/perls/perl-5.14.2/bin"
PERLBREW_PERL="perl-5.14.2"
PERLBREW_ROOT="/home/smoke/perl5/perlbrew"
PERLBREW_VERSION="0.41"
PERL_CR_SMOKER_CURRENT="DBIx-Table-TestDataGenerator-0.005"
PERL_EXTUTILS_AUTOINSTALL="--defaultdeps"
PERL_MM_USE_DEFAULT="1"
@INC:
/home/smoke/perl5/perlbrew/perls/perl-5.14.2/lib/site_perl/5.14.2/i386-netbsd
/home/smoke/perl5/perlbrew/perls/perl-5.14.2/lib/site_perl/5.14.2
/home/smoke/perl5/perlbrew/perls/perl-5.14.2/lib/5.14.2/i386-netbsd
/home/smoke/perl5/perlbrew/perls/perl-5.14.2/lib/5.14.2
.