Object-Util v0.010 Perl 5 v5.39.8 amd64-netbsd-thread-multi
- Status
- Pass
- From
- Carlos Guevara
- Dist
-
Object-Util v0.010
- Platform
- Perl 5 v5.39.8 amd64-netbsd-thread-multi
- Date
- 2024-02-22 23:35:16
- ID
- 084a6208-d1db-11ee-9ff5-fe1e4769c5ac
This distribution has been tested as part of the CPAN Testers
project, supporting the Perl programming language. See
http://wiki.cpantesters.org/ for more information or email
questions to cpan-testers-discuss@perl.org
--
Dear Toby Inkster,
This is a computer-generated report for Object-Util-0.010
on perl 5.39.8, created by CPAN-Reporter-1.2019.
Thank you for uploading your work to CPAN. Congratulations!
All tests were successful.
Sections of this report:
* Tester comments
* Program output
* Prerequisites
* Environment and other context
------------------------------
TESTER COMMENTS
------------------------------
Additional comments from tester:
this report is from an automated smoke testing program
and was not reviewed by a human for accuracy
------------------------------
PROGRAM OUTPUT
------------------------------
Output from '/usr/bin/make test':
PERL_DL_NONLAZY=1 "/home/cpan/bin/perl/bin/perl5.39.8" "-MExtUtils::Command::MM" "-MTest::Harness" "-e" "undef *Test::Harness::Switches; test_harness(0, 'blib/lib', 'blib/arch')" t/*.t
t/01basic.t ................. ok
t/02noparser.t .............. ok
t/call_if_object.t .......... ok
t/can.t ..................... ok
t/clone-moose.t ............. ok
t/clone-mouse.t ............. skipped: Test requires module 'Mouse' but it's not found
t/clone.t ................... ok
t/does.t .................... ok
t/dump.t .................... ok
t/extend-moo.t .............. ok
t/extend-moose.t ............ ok
t/extend-mouse.t ............ skipped: Test requires module 'Mouse' but it's not found
t/extend.t .................. ok
t/isa.t ..................... ok
t/murder.t .................. ok
t/new.t ..................... skipped: Test requires module 'curry' but it's not found
t/tap.t ..................... ok
t/try.t ..................... ok
t/UNIVERSAL_DOES.t .......... ok
t/with_traits-moose.t ....... ok
t/with_traits-mouse.t ....... skipped: Test requires module 'Mouse' but it's not found
t/with_traits.t ............. ok
t/zz_combined_traits_new.t .. ok
All tests successful.
Files=23, Tests=144, 2 wallclock secs ( 0.08 usr 0.01 sys + 1.58 cusr 0.45 csys = 2.12 CPU)
Result: PASS
------------------------------
PREREQUISITES
------------------------------
Prerequisite modules loaded:
requires:
Module Need Have
--------------------- -------- --------
! B::Hooks::Parser 0.10 n/a
List::Util 1.29 1.63
Module::Runtime 0 0.016
MooX::Traits::Util 0 0.005
perl 5.006000 5.039008
Role::Tiny 0 2.002004
Scalar::Util 1.23 1.63
build_requires:
Module Need Have
--------------------- -------- --------
Test::Fatal 0 0.017
Test::More 0.96 1.302198
Test::Requires 0 0.11
Test::Warnings 0 0.033
Test::Without::Module 0 0.21
configure_requires:
Module Need Have
--------------------- -------- --------
ExtUtils::MakeMaker 6.17 7.70
------------------------------
ENVIRONMENT AND OTHER CONTEXT
------------------------------
Environment variables:
AUTOMATED_TESTING = 1
DATE_MANIP_TEST_DM5 = 1
LC_ALL = C
NONINTERACTIVE_TESTING = 1
NO_NETWORK_TESTING = 1
PATH = /home/cpan/bin/perl/bin:/home/cpan/bin:/home/cpan/bin:/bin:/sbin:/usr/bin:/usr/sbin:/usr/X11R7/bin:/usr/pkg/bin:/usr/pkg/sbin:/usr/games:/usr/local/bin:/usr/local/sbin
PERL5LIB =
PERL5OPT =
PERL5_CPANPLUS_IS_RUNNING = 20130
PERL5_CPAN_IS_RUNNING = 20130
PERL_MM_USE_DEFAULT = 1
PERL_USE_UNSAFE_INC = 1
SHELL = /usr/pkg/bin/bash
TERM = screen
TMPDIR = /home/cpan/tmp
Perl special variables (and OS-specific diagnostics, for MSWin32):
$^X = /home/cpan/bin/perl/bin/perl5.39.8
$UID/$EUID = 1001 / 1001
$GID = 100 100
$EGID = 100 100
Perl module toolchain versions installed:
Module Have
------------------- --------
CPAN 2.36
CPAN::Meta 2.150010
Cwd 3.90
ExtUtils::CBuilder 0.280240
ExtUtils::Command 7.70
ExtUtils::Install 2.22
ExtUtils::MakeMaker 7.70
ExtUtils::Manifest 1.75
ExtUtils::ParseXS 3.51
File::Spec 3.90
JSON 4.10
JSON::PP 4.16
Module::Build 0.4234
Module::Signature n/a
Parse::CPAN::Meta 2.150010
Test2 1.302198
Test::Harness 3.48
Test::More 1.302198
YAML 1.31
YAML::Syck 1.34
version 0.9930
--
Summary of my perl5 (revision 5 version 39 subversion 8) configuration:
Commit id: 2bb889fc6c12b192e0fcde37af5e638d5cb8e181
Platform:
osname=netbsd
osvers=9.3
archname=amd64-netbsd-thread-multi
uname='netbsd cjg-netbsd9 9.3 netbsd 9.3 (generic) #0: thu aug 4 15:30:37 utc 2022 mkrepro@mkrepro.netbsd.org:usrsrcsysarchamd64compilegeneric amd64 '
config_args='-des -Dprefix=/home/cpan/bin/perl -Dscriptdir=/home/cpan/bin/perl/bin -Dusedevel -Duse64bitall -Duseithreads'
hint=recommended
useposix=true
d_sigaction=define
useithreads=define
usemultiplicity=define
use64bitint=define
use64bitall=define
uselongdouble=undef
usemymalloc=n
default_inc_excludes_dot=define
Compiler:
cc='cc'
ccflags ='-fwrapv -fno-strict-aliasing -pipe -fstack-protector-strong -I/usr/pkg/include -D_FORTIFY_SOURCE=2'
optimize='-O'
cppflags='-fwrapv -fno-strict-aliasing -pipe -fstack-protector-strong -I/usr/pkg/include'
ccversion=''
gccversion='7.5.0'
gccosandvers=''
intsize=4
longsize=8
ptrsize=8
doublesize=8
byteorder=12345678
doublekind=3
d_longlong=define
longlongsize=8
d_longdbl=define
longdblsize=16
longdblkind=3
ivtype='long'
ivsize=8
nvtype='double'
nvsize=8
Off_t='off_t'
lseeksize=8
alignbytes=8
prototype=define
Linker and Libraries:
ld='cc'
ldflags =' -Wl,-rpath,/usr/pkg/lib -Wl,-rpath,/usr/local/lib -fstack-protector-strong -L/usr/pkg/lib'
libpth=/usr/lib /usr/pkg/lib /lib
libs=-lpthread -lm -lcrypt -lutil -lc -lposix
perllibs=-lpthread -lm -lcrypt -lutil -lc -lposix
libc=/lib/libc.so
so=so
useshrplib=false
libperl=libperl.a
gnulibc_version=''
Dynamic Linking:
dlsrc=dl_dlopen.xs
dlext=so
d_dlsymun=undef
ccdlflags='-Wl,-E '
cccdlflags='-DPIC -fPIC '
lddlflags='-shared -L/usr/pkg/lib -fstack-protector-strong'
Characteristics of this binary (from libperl):
Compile-time options:
HAS_LONG_DOUBLE
HAS_STRTOLD
HAS_TIMES
MULTIPLICITY
PERLIO_LAYERS
PERL_COPY_ON_WRITE
PERL_DONT_CREATE_GVSV
PERL_HASH_FUNC_SIPHASH13
PERL_HASH_USE_SBOX32
PERL_MALLOC_WRAP
PERL_OP_PARENT
PERL_PRESERVE_IVUV
PERL_USE_DEVEL
PERL_USE_SAFE_PUTENV
USE_64_BIT_ALL
USE_64_BIT_INT
USE_ITHREADS
USE_LARGE_FILES
USE_LOCALE
USE_LOCALE_COLLATE
USE_LOCALE_CTYPE
USE_LOCALE_NUMERIC
USE_LOCALE_TIME
USE_PERLIO
USE_PERL_ATOF
USE_REENTRANT_API
Built under netbsd
Compiled at Feb 22 2024 10:20:45
%ENV:
PERL5LIB=""
PERL5OPT=""
PERL5_CPANPLUS_IS_RUNNING="20130"
PERL5_CPAN_IS_RUNNING="20130"
PERL_MM_USE_DEFAULT="1"
PERL_USE_UNSAFE_INC="1"
@INC:
/home/cpan/bin/perl/lib/site_perl/5.39.8/amd64-netbsd-thread-multi
/home/cpan/bin/perl/lib/site_perl/5.39.8
/home/cpan/bin/perl/lib/5.39.8/amd64-netbsd-thread-multi
/home/cpan/bin/perl/lib/5.39.8
.