Path-Dispatcher v1.08 Perl 5 v5.34.1 x86_64-linux
- Status
- Pass
- From
- David Solimano
- Dist
-
Path-Dispatcher v1.08
- Platform
- Perl 5 v5.34.1 x86_64-linux
- Date
- 2023-04-01 02:08:02
- ID
- 0844605c-d032-11ed-bf47-91a9d7451a7d
This distribution has been tested as part of the CPAN Testers
project, supporting the Perl programming language. See
http://wiki.cpantesters.org/ for more information or email
questions to cpan-testers-discuss@perl.org
--
Dear Karen Etheridge,
This is a computer-generated report for Path-Dispatcher-1.08
on perl 5.34.1, created by CPAN-Reporter-1.2018.
Thank you for uploading your work to CPAN. Congratulations!
All tests were successful.
Sections of this report:
* Tester comments
* Program output
* Prerequisites
* Environment and other context
------------------------------
TESTER COMMENTS
------------------------------
Additional comments from tester:
this report is from an automated smoke testing program
and was not reviewed by a human for accuracy
------------------------------
PROGRAM OUTPUT
------------------------------
Output from './Build test':
#
# Versions for all modules listed in MYMETA.json (including optional ones):
#
# === Configure Requires ===
#
# Module Want Have
# ------------------- ----- -----
# ExtUtils::MakeMaker any 7.66
# Module::Build::Tiny 0.034 0.039
#
# === Test Requires ===
#
# Module Want Have
# ---------------- ---- --------
# File::Spec any 3.80
# Module::Metadata any 1.000037
# Test::Fatal any 0.016
# Test::More any 1.302192
# strict any 1.12
# warnings any 1.51
#
# === Test Recommends ===
#
# Module Want Have
# ---------- -------- --------
# CPAN::Meta 2.120900 2.150010
#
# === Runtime Requires ===
#
# Module Want Have
# --------------- ---- --------
# Carp any 1.52
# Moo any 2.005005
# Moo::Role any 2.005005
# MooX::TypeTiny any 0.002003
# Scalar::Util any 1.63
# Try::Tiny any 0.31
# Type::Tiny any 2.002001
# Type::Utils any 2.002001
# Types::Standard any 2.002001
# constant any 1.33
# overload any 1.33
#
# === Other Modules ===
#
# Module Have
# --------------- -------
# Encode 3.19
# File::Temp 0.2311
# JSON::PP 4.12
# Module::Runtime 0.016
# Sub::Name 0.26
# YAML missing
# autodie 2.34
#
t/00-report-prereqs.t .......... ok
t/000-compile.t ................ ok
t/001-api.t .................... ok
t/002-rule.t ................... ok
t/003-404.t .................... ok
t/004-run.t .................... ok
t/005-multi-rule.t ............. ok
t/006-abort.t .................. ok
t/007-coderef-matcher.t ........ ok
t/009-args.t ................... ok
t/010-return.t ................. ok
t/011-next-rule.t .............. ok
t/012-under.t .................. ok
t/013-tokens.t ................. ok
t/014-tokens-prefix.t .......... ok
t/015-regex-prefix.t ........... ok
t/017-intersection.t ........... ok
t/018-metadata.t ............... ok
t/019-intersection-metadata.t .. ok
t/022-numbers-undef.t .......... ok
t/023-alternation.t ............ ok
t/024-sequence.t ............... ok
t/025-sequence-custom-rule.t ... ok
t/026-named-captures.t ......... ok
t/027-custom-named-captures.t .. ok
t/030-exceptions.t ............. ok
t/031-structured-match.t ....... ok
t/032-multiple-delimiter.t ..... ok
t/033-chain.t .................. ok
t/100-match-object.t ........... ok
t/200-payload.t ................ ok
t/901-return-values.t .......... ok
t/902-coderef.t ................ ok
All tests successful.
Files=33, Tests=216, 12 wallclock secs ( 0.15 usr 0.23 sys + 8.61 cusr 2.11 csys = 11.10 CPU)
Result: PASS
------------------------------
PREREQUISITES
------------------------------
Prerequisite modules loaded:
requires:
Module Need Have
------------------- -------- --------
Carp 0 1.52
constant 0 1.33
Moo 0 2.005005
Moo::Role 0 2.005005
MooX::TypeTiny 0 0.002003
overload 0 1.33
perl 5.008001 5.034001
Scalar::Util 0 1.63
Try::Tiny 0 0.31
Type::Tiny 0 2.002001
Type::Utils 0 2.002001
Types::Standard 0 2.002001
build_requires:
Module Need Have
------------------- -------- --------
File::Spec 0 3.80
Module::Metadata 0 1.000037
perl 5.008001 5.034001
strict 0 1.12
Test::Fatal 0 0.016
Test::More 0 1.302192
warnings 0 1.51
configure_requires:
Module Need Have
------------------- -------- --------
ExtUtils::MakeMaker 0 7.66
Module::Build::Tiny 0.034 0.039
perl 5.008001 5.034001
opt_build_requires:
Module Need Have
------------------- -------- --------
CPAN::Meta 2.120900 2.150010
------------------------------
ENVIRONMENT AND OTHER CONTEXT
------------------------------
Environment variables:
AUTOMATED_TESTING = 1
LANG = en_US.UTF-8
PATH = /home/perluser/perl5/perlbrew/bin:/home/perluser/perl5/perlbrew/perls/perl-5.34.1/bin:/usr/local/bin:/usr/bin:/bin:/usr/local/games:/usr/games
PERL5LIB = /home/perluser/.cpan/build/MooX-TypeTiny-0.002003-1/blib/arch:/home/perluser/.cpan/build/MooX-TypeTiny-0.002003-1/blib/lib:/home/perluser/.cpan/build/Regexp-Util-0.005-3/blib/arch:/home/perluser/.cpan/build/Regexp-Util-0.005-3/blib/lib:/home/perluser/.cpan/build/Type-Tiny-XS-0.025-3/blib/arch:/home/perluser/.cpan/build/Type-Tiny-XS-0.025-3/blib/lib:/home/perluser/.cpan/build/Type-Tiny-2.002001-3/blib/arch:/home/perluser/.cpan/build/Type-Tiny-2.002001-3/blib/lib
PERL5OPT =
PERL5_CPANPLUS_IS_RUNNING = 29113
PERL5_CPAN_IS_RUNNING = 29113
PERL5_CPAN_IS_RUNNING_IN_RECURSION = 22241,29113
PERLBREW_HOME = /home/perluser/.perlbrew
PERLBREW_MANPATH = /home/perluser/perl5/perlbrew/perls/perl-5.34.1/man
PERLBREW_PATH = /home/perluser/perl5/perlbrew/bin:/home/perluser/perl5/perlbrew/perls/perl-5.34.1/bin
PERLBREW_PERL = perl-5.34.1
PERLBREW_ROOT = /home/perluser/perl5/perlbrew
PERLBREW_SHELLRC_VERSION = 0.96
PERLBREW_VERSION = 0.96
PERL_CR_SMOKER_CURRENT = Path-Dispatcher-1.08
PERL_EXTUTILS_AUTOINSTALL = --defaultdeps
PERL_MM_USE_DEFAULT = 1
PERL_USE_UNSAFE_INC = 1
SHELL = /bin/bash
TERM = screen
Perl special variables (and OS-specific diagnostics, for MSWin32):
$^X = /home/perluser/perl5/perlbrew/perls/perl-5.34.1/bin/perl
$UID/$EUID = 1001 / 1001
$GID = 1001 1001
$EGID = 1001 1001
Perl module toolchain versions installed:
Module Have
------------------- --------
CPAN 2.34
CPAN::Meta 2.150010
Cwd 3.80
ExtUtils::CBuilder 0.280236
ExtUtils::Command 7.66
ExtUtils::Install 2.20
ExtUtils::MakeMaker 7.66
ExtUtils::Manifest 1.73
ExtUtils::ParseXS 3.44
File::Spec 3.80
JSON n/a
JSON::PP 4.12
Module::Build 0.4232
Module::Signature n/a
Parse::CPAN::Meta 2.150010
Test::Harness 3.44
Test::More 1.302192
YAML n/a
YAML::Syck n/a
version 0.9929
--
Summary of my perl5 (revision 5 version 34 subversion 1) configuration:
Platform:
osname=linux
osvers=4.19.0-12-amd64
archname=x86_64-linux
uname='linux csi-nyp-lensrv 4.19.0-12-amd64 #1 smp debian 4.19.152-1 (2020-10-18) x86_64 gnulinux '
config_args='-de -Dprefix=/home/perluser/perl5/perlbrew/perls/perl-5.34.1 -Aeval:scriptdir=/home/perluser/perl5/perlbrew/perls/perl-5.34.1/bin'
hint=recommended
useposix=true
d_sigaction=define
useithreads=undef
usemultiplicity=undef
use64bitint=define
use64bitall=define
uselongdouble=undef
usemymalloc=n
default_inc_excludes_dot=define
Compiler:
cc='cc'
ccflags ='-fwrapv -fno-strict-aliasing -pipe -fstack-protector-strong -I/usr/local/include -D_LARGEFILE_SOURCE -D_FILE_OFFSET_BITS=64 -D_FORTIFY_SOURCE=2'
optimize='-O2'
cppflags='-fwrapv -fno-strict-aliasing -pipe -fstack-protector-strong -I/usr/local/include'
ccversion=''
gccversion='8.3.0'
gccosandvers=''
intsize=4
longsize=8
ptrsize=8
doublesize=8
byteorder=12345678
doublekind=3
d_longlong=define
longlongsize=8
d_longdbl=define
longdblsize=16
longdblkind=3
ivtype='long'
ivsize=8
nvtype='double'
nvsize=8
Off_t='off_t'
lseeksize=8
alignbytes=8
prototype=define
Linker and Libraries:
ld='cc'
ldflags =' -fstack-protector-strong -L/usr/local/lib'
libpth=/usr/local/lib /usr/lib/x86_64-linux-gnu /usr/lib /lib/x86_64-linux-gnu /lib
libs=-lpthread -lnsl -ldl -lm -lcrypt -lutil -lc
perllibs=-lpthread -lnsl -ldl -lm -lcrypt -lutil -lc
libc=libc-2.28.so
so=so
useshrplib=false
libperl=libperl.a
gnulibc_version='2.28'
Dynamic Linking:
dlsrc=dl_dlopen.xs
dlext=so
d_dlsymun=undef
ccdlflags='-Wl,-E'
cccdlflags='-fPIC'
lddlflags='-shared -O2 -L/usr/local/lib -fstack-protector-strong'
Characteristics of this binary (from libperl):
Compile-time options:
HAS_TIMES
PERLIO_LAYERS
PERL_COPY_ON_WRITE
PERL_DONT_CREATE_GVSV
PERL_MALLOC_WRAP
PERL_OP_PARENT
PERL_PRESERVE_IVUV
USE_64_BIT_ALL
USE_64_BIT_INT
USE_LARGE_FILES
USE_LOCALE
USE_LOCALE_COLLATE
USE_LOCALE_CTYPE
USE_LOCALE_NUMERIC
USE_LOCALE_TIME
USE_PERLIO
USE_PERL_ATOF
Built under linux
Compiled at Dec 20 2022 22:02:38
%ENV:
PERL5LIB="/home/perluser/.cpan/build/MooX-TypeTiny-0.002003-1/blib/arch:/home/perluser/.cpan/build/MooX-TypeTiny-0.002003-1/blib/lib:/home/perluser/.cpan/build/Regexp-Util-0.005-3/blib/arch:/home/perluser/.cpan/build/Regexp-Util-0.005-3/blib/lib:/home/perluser/.cpan/build/Type-Tiny-XS-0.025-3/blib/arch:/home/perluser/.cpan/build/Type-Tiny-XS-0.025-3/blib/lib:/home/perluser/.cpan/build/Type-Tiny-2.002001-3/blib/arch:/home/perluser/.cpan/build/Type-Tiny-2.002001-3/blib/lib"
PERL5OPT=""
PERL5_CPANPLUS_IS_RUNNING="29113"
PERL5_CPAN_IS_RUNNING="29113"
PERL5_CPAN_IS_RUNNING_IN_RECURSION="22241,29113"
PERLBREW_HOME="/home/perluser/.perlbrew"
PERLBREW_MANPATH="/home/perluser/perl5/perlbrew/perls/perl-5.34.1/man"
PERLBREW_PATH="/home/perluser/perl5/perlbrew/bin:/home/perluser/perl5/perlbrew/perls/perl-5.34.1/bin"
PERLBREW_PERL="perl-5.34.1"
PERLBREW_ROOT="/home/perluser/perl5/perlbrew"
PERLBREW_SHELLRC_VERSION="0.96"
PERLBREW_VERSION="0.96"
PERL_CR_SMOKER_CURRENT="Path-Dispatcher-1.08"
PERL_EXTUTILS_AUTOINSTALL="--defaultdeps"
PERL_MM_USE_DEFAULT="1"
PERL_USE_UNSAFE_INC="1"
@INC:
/home/perluser/.cpan/build/MooX-TypeTiny-0.002003-1/blib/arch
/home/perluser/.cpan/build/MooX-TypeTiny-0.002003-1/blib/lib
/home/perluser/.cpan/build/Regexp-Util-0.005-3/blib/arch
/home/perluser/.cpan/build/Regexp-Util-0.005-3/blib/lib
/home/perluser/.cpan/build/Type-Tiny-XS-0.025-3/blib/arch
/home/perluser/.cpan/build/Type-Tiny-XS-0.025-3/blib/lib
/home/perluser/.cpan/build/Type-Tiny-2.002001-3/blib/arch
/home/perluser/.cpan/build/Type-Tiny-2.002001-3/blib/lib
/home/perluser/perl5/perlbrew/perls/perl-5.34.1/lib/site_perl/5.34.1/x86_64-linux
/home/perluser/perl5/perlbrew/perls/perl-5.34.1/lib/site_perl/5.34.1
/home/perluser/perl5/perlbrew/perls/perl-5.34.1/lib/5.34.1/x86_64-linux
/home/perluser/perl5/perlbrew/perls/perl-5.34.1/lib/5.34.1
.