IO-Socket-SSL v2.085 Perl 5 v5.32.0 darwin-ld-2level

Status
Pass
From
Ed
Dist
IO-Socket-SSL v2.085
Platform
Perl 5 v5.32.0 darwin-ld-2level
Date
2024-04-28 22:09:49
ID
08089d6e-05ac-11ef-ae1c-b94c61efe099
This distribution has been tested as part of the CPAN Testers
project, supporting the Perl programming language.  See
http://wiki.cpantesters.org/ for more information or email
questions to cpan-testers-discuss@perl.org


--
Dear SULLR,

This is a computer-generated report for IO-Socket-SSL-2.085
on perl 5.32.0, created by App::cpanminus::reporter 0.21 (1.7047).

Thank you for uploading your work to CPAN.  Congratulations!
All tests were successful.

Sections of this report:

    * Tester comments
    * Program output
    * Prerequisites
    * Environment and other context

------------------------------
TESTER COMMENTS
------------------------------

Additional comments from tester:

none provided

------------------------------
PROGRAM OUTPUT
------------------------------

Output from '':

Building and testing IO-Socket-SSL-2.085
cp lib/IO/Socket/SSL.pm blib/lib/IO/Socket/SSL.pm
cp lib/IO/Socket/SSL/Utils.pm blib/lib/IO/Socket/SSL/Utils.pm
cp lib/IO/Socket/SSL.pod blib/lib/IO/Socket/SSL.pod
cp lib/IO/Socket/SSL/Intercept.pm blib/lib/IO/Socket/SSL/Intercept.pm
cp lib/IO/Socket/SSL/PublicSuffix.pm blib/lib/IO/Socket/SSL/PublicSuffix.pm
PERL_DL_NONLAZY=1 "/Users/user/perl5/perlbrew/perls/perl-5.32.0-uselongdouble/bin/perl" "-MExtUtils::Command::MM" "-MTest::Harness" "-e" "undef *Test::Harness::Switches; test_harness(0, 'blib/lib', 'blib/arch')" t/*.t t/external/*.t
# openssl version compiled=0x30300000 linked=0x30300000 -- OpenSSL 3.3.0 9 Apr 2024
# Net::SSLeay version=1.94
# parent IO::Socket::IP version=0.39
t/01loadmodule.t .................. ok
t/alpn.t .......................... ok
t/dhe.t ........................... ok
t/ecdhe.t ......................... ok
t/compatibility.t ................. ok
t/io-socket-inet6.t ............... skipped: no IO::Socket::INET6 available
t/core.t .......................... ok
t/auto_verify_hostname.t .......... ok
# found 147 CA certs
# have root CA for www.bild.de in store
# 5 connections to www.bild.de ok
t/cert_no_file.t .................. ok
# have root CA for www.yahoo.com in store
# 5 connections to www.yahoo.com ok
# tcp connect to www.chksum.de:443 ok
# fingerprint matches
# validation with default CA w/o OCSP ok
# got stapled response as expected
# validation with default CA with OCSP defaults ok
# validation with default CA with OCSP full chain ok
t/cert_formats.t .................. ok
t/memleak_bad_handshake.t ......... ok
t/npn.t ........................... ok
t/io-socket-ip.t .................. ok
# tcp connect to www.bild.de:443 ok
# fingerprint matches
# validation with default CA w/o OCSP ok
# validation with default CA with OCSP defaults ok
# validation with default CA with OCSP full chain ok
t/multiple-cert-rsa-ecc.t ......... ok
t/mitm.t .......................... ok
# -- test: newINET start_SSL stop_SSL start_SSL
# server accepted new client
# wait for initial data from client
# got 0x666f6f from client
# server: got plain data at start of connection
# server: TLS upgrade
# server: TLS downgrade
# server: TLS upgrade#2
# -- test: newSSL stop_SSL connect_SSL
# server accepted new client
# wait for initial data from client
# got 0x160301 from client
# server: TLS upgrade
# server: TLS downgrade
# server: TLS upgrade#2
# -- test: newSSL:0 connect_SSL stop_SSL connect_SSL
# server accepted new client
# wait for initial data from client
# got 0x666f6f from client
# server: got plain data at start of connection
# server: TLS upgrade
# server: TLS downgrade
# server: TLS upgrade#2
# -- test: newSSL:0 start_SSL stop_SSL connect_SSL
# server accepted new client
# wait for initial data from client
# got 0x666f6f from client
# server: got plain data at start of connection
# server: TLS upgrade
# server: TLS downgrade
# server: TLS upgrade#2
# server accepted new client
# wait for initial data from client
# got 0x656e64 from client
# client requested end of tests
t/plain_upgrade_downgrade.t ....... ok
# looks like OpenSSL was compiled without SSLv3 support
t/protocol_version.t .............. ok
# have root CA for www.comdirect.de in store
# 5 connections to www.comdirect.de ok
# fingerprint www.comdirect.de matches
# have root CA for meine.deutsche-bank.de in store
# 5 connections to meine.deutsche-bank.de ok
# fingerprint meine.deutsche-bank.de matches
# have root CA for www.twitter.com in store
# 5 connections to www.twitter.com ok
# have root CA for www.facebook.com in store
# 5 connections to www.facebook.com ok
# have root CA for www.live.com in store
# 5 connections to www.live.com ok
t/external/usable_ca.t ............ ok
t/public_suffix_lib_libidn.t ...... ok
t/public_suffix_lib_uri.t ......... ok
t/public_suffix_lib_encode_idn.t .. ok
t/session_cache.t ................. ok
# tcp connect to revoked.grc.com:443 ok
t/acceptSSL-timeout.t ............. ok
t/connectSSL-timeout.t ............ ok
t/external/ocsp.t ................. ok
t/set_curves.t .................... ok
t/sessions.t ...................... ok
t/sni_verify.t .................... ok
t/sni.t ........................... ok
# listen at 127.0.0.1:54696
# listen at 127.0.0.1:54697
# connect to 0: success reuse=0 version=TLSv1_3
# connect to 0: success reuse=1 version=TLSv1_3
# connect to 1: success reuse=1 version=TLSv1_3
# connect to 1: success reuse=0 version=TLSv1_3
# connect to 0: success reuse=0 version=TLSv1_3
# connect to 0: success reuse=1 version=TLSv1_3
t/session_ticket.t ................ ok
t/public_suffix_ssl.t ............. ok
t/startssl-failed.t ............... ok
t/sysread_write.t ................. ok
t/startssl.t ...................... ok
t/verify_partial_chain.t .......... ok
t/verify_hostname.t ............... ok
t/verify_hostname_standalone.t .... ok
t/verify_fingerprint.t ............ ok
t/readline.t ...................... ok
t/signal-readline.t ............... ok
t/start-stopssl.t ................. ok
t/nonblock.t ...................... ok
All tests successful.
Files=42, Tests=815, 21 wallclock secs ( 0.15 usr  0.07 sys +  7.35 cusr  1.83 csys =  9.40 CPU)
Result: PASS

------------------------------
PREREQUISITES
------------------------------

Prerequisite modules loaded:

runtime:

    Module              Need Have    
    ------------------- ---- --------
    Mozilla::CA         0    20211001
    Net::SSLeay         1.46 1.94    
    Scalar::Util        0    1.55    

build:

    Module              Need Have    
    ------------------- ---- --------
    ExtUtils::MakeMaker 0    7.44    

configure:

    Module              Need Have    
    ------------------- ---- --------
    ExtUtils::MakeMaker 0    7.44    
    Net::SSLeay         1.46 1.94    


------------------------------
ENVIRONMENT AND OTHER CONTEXT
------------------------------

Environment variables:

    HARNESS_OPTIONS = j12
    LANG = en_GB.UTF-8
    PATH = /Users/user/.perlbrew/libs/perl-5.32.0-uselongdouble@normal/bin:/Users/user/perl5/perlbrew/bin:/Users/user/perl5/perlbrew/perls/perl-5.32.0-uselongdouble/bin:/Users/user/perl5/bin:/usr/local/bin:/System/Cryptexes/App/usr/bin:/usr/bin:/bin:/usr/sbin:/sbin:/var/run/com.apple.security.cryptexd/codex.system/bootstrap/usr/local/bin:/var/run/com.apple.security.cryptexd/codex.system/bootstrap/usr/bin:/var/run/com.apple.security.cryptexd/codex.system/bootstrap/usr/appleinternal/bin:/opt/X11/bin:/usr/local/share/dotnet:/Users/user/.dotnet/tools:/usr/local/sbin
    PERL5LIB = /Users/user/.perlbrew/libs/perl-5.32.0-uselongdouble@normal/lib/perl5:/Users/user/perl5/lib/perl5
    PERLBREW_HOME = /Users/user/.perlbrew
    PERLBREW_LIB = normal
    PERLBREW_MANPATH = /Users/user/.perlbrew/libs/perl-5.32.0-uselongdouble@normal/man:/Users/user/perl5/perlbrew/perls/perl-5.32.0-uselongdouble/man
    PERLBREW_PATH = /Users/user/.perlbrew/libs/perl-5.32.0-uselongdouble@normal/bin:/Users/user/perl5/perlbrew/bin:/Users/user/perl5/perlbrew/perls/perl-5.32.0-uselongdouble/bin
    PERLBREW_PERL = perl-5.32.0-uselongdouble
    PERLBREW_ROOT = /Users/user/perl5/perlbrew
    PERLBREW_SHELLRC_VERSION = 0.98
    PERLBREW_VERSION = 0.98
    PERL_LOCAL_LIB_ROOT = /Users/user/.perlbrew/libs/perl-5.32.0-uselongdouble@normal:/Users/user/perl5
    PERL_MB_OPT = --install_base /Users/user/.perlbrew/libs/perl-5.32.0-uselongdouble@normal
    PERL_MM_OPT = INSTALL_BASE=/Users/user/.perlbrew/libs/perl-5.32.0-uselongdouble@normal
    SHELL = /bin/bash
    TERM = xterm-256color
    TMPDIR = /var/folders/mf/kx0n4dc11qz_r84rb4qpkmhh0000gn/T/

Perl special variables (and OS-specific diagnostics, for MSWin32):

    EGID = 20 20 12 61 79 80 81 98 701 33 100 204 250 395 398 399 400
    EUID = 501
    EXECUTABLE_NAME = /Users/user/perl5/perlbrew/perls/perl-5.32.0-uselongdouble/bin/perl
    GID = 20 20 12 61 79 80 81 98 701 33 100 204 250 395 398 399 400
    UID = 501

Perl module toolchain versions installed:

    Module              Have    
    ------------------- --------
    CPAN                2.27    
    CPAN::Meta          2.150010
    Cwd                 3.78    
    ExtUtils::CBuilder  0.280234
    ExtUtils::Command   7.44    
    ExtUtils::Install   2.14    
    ExtUtils::MakeMaker 7.44    
    ExtUtils::Manifest  1.72    
    ExtUtils::ParseXS   3.40    
    File::Spec          3.78    
    JSON                n/a     
    JSON::PP            4.04    
    Module::Build       0.4231  
    Module::Signature   n/a     
    Parse::CPAN::Meta   2.150010
    Test::Harness       3.42    
    Test::More          1.302198
    YAML                1.30    
    YAML::Syck          n/a     
    version             0.9924  


--

Summary of my perl5 (revision 5 version 32 subversion 0) configuration:
   
  Platform:
    osname=darwin
    osvers=23.2.0
    archname=darwin-ld-2level
    uname='darwin users-macbook-pro.local 23.2.0 darwin kernel version 23.2.0: wed nov 15 21:54:10 pst 2023; root:xnu-10002.61.3~2release_x86_64 x86_64 '
    config_args='-de -Dprefix=/Users/user/perl5/perlbrew/perls/perl-5.32.0-uselongdouble -Duselongdouble -Aeval:scriptdir=/Users/user/perl5/perlbrew/perls/perl-5.32.0-uselongdouble/bin'
    hint=recommended
    useposix=true
    d_sigaction=define
    useithreads=undef
    usemultiplicity=undef
    use64bitint=define
    use64bitall=define
    uselongdouble=define
    usemymalloc=n
    default_inc_excludes_dot=define
    bincompat5005=undef
  Compiler:
    cc='cc'
    ccflags ='-fno-common -DPERL_DARWIN -mmacosx-version-min=14.2 -fno-strict-aliasing -pipe -fstack-protector-strong -I/usr/local/include -DPERL_USE_SAFE_PUTENV'
    optimize='-O3'
    cppflags='-fno-common -DPERL_DARWIN -mmacosx-version-min=14.2 -fno-strict-aliasing -pipe -fstack-protector-strong -I/usr/local/include'
    ccversion=''
    gccversion='Apple LLVM 15.0.0 (clang-1500.1.0.2.5)'
    gccosandvers=''
    intsize=4
    longsize=8
    ptrsize=8
    doublesize=8
    byteorder=12345678
    doublekind=3
    d_longlong=define
    longlongsize=8
    d_longdbl=define
    longdblsize=16
    longdblkind=3
    ivtype='long'
    ivsize=8
    nvtype='long double'
    nvsize=16
    Off_t='off_t'
    lseeksize=8
    alignbytes=16
    prototype=define
  Linker and Libraries:
    ld='cc'
    ldflags =' -mmacosx-version-min=14.2 -fstack-protector-strong -L/usr/local/lib'
    libpth=/usr/local/lib /Library/Developer/CommandLineTools/usr/lib/clang/15.0.0/lib /Library/Developer/CommandLineTools/SDKs/MacOSX.sdk/usr/lib /Library/Developer/CommandLineTools/usr/lib /usr/lib
    libs=-lgdbm -ldb
    perllibs=
    libc=
    so=dylib
    useshrplib=false
    libperl=libperl.a
    gnulibc_version=''
  Dynamic Linking:
    dlsrc=dl_dlopen.xs
    dlext=bundle
    d_dlsymun=undef
    ccdlflags=' '
    cccdlflags=' '
    lddlflags=' -mmacosx-version-min=14.2 -bundle -undefined dynamic_lookup -L/usr/local/lib -fstack-protector-strong'


Characteristics of this binary (from libperl): 
  Compile-time options:
    HAS_TIMES
    PERLIO_LAYERS
    PERL_COPY_ON_WRITE
    PERL_DONT_CREATE_GVSV
    PERL_MALLOC_WRAP
    PERL_OP_PARENT
    PERL_PRESERVE_IVUV
    PERL_USE_SAFE_PUTENV
    USE_64_BIT_ALL
    USE_64_BIT_INT
    USE_LARGE_FILES
    USE_LOCALE
    USE_LOCALE_COLLATE
    USE_LOCALE_CTYPE
    USE_LOCALE_NUMERIC
    USE_LOCALE_TIME
    USE_LONG_DOUBLE
    USE_PERLIO
    USE_PERL_ATOF
  Locally applied patches:
    Devel::PatchPerl 2.08
  Built under darwin
  Compiled at Apr  5 2024 21:30:58
  %ENV:
    PERL5LIB="/Users/user/.perlbrew/libs/perl-5.32.0-uselongdouble@normal/lib/perl5:/Users/user/perl5/lib/perl5"
    PERLBREW_HOME="/Users/user/.perlbrew"
    PERLBREW_LIB="normal"
    PERLBREW_MANPATH="/Users/user/.perlbrew/libs/perl-5.32.0-uselongdouble@normal/man:/Users/user/perl5/perlbrew/perls/perl-5.32.0-uselongdouble/man"
    PERLBREW_PATH="/Users/user/.perlbrew/libs/perl-5.32.0-uselongdouble@normal/bin:/Users/user/perl5/perlbrew/bin:/Users/user/perl5/perlbrew/perls/perl-5.32.0-uselongdouble/bin"
    PERLBREW_PERL="perl-5.32.0-uselongdouble"
    PERLBREW_ROOT="/Users/user/perl5/perlbrew"
    PERLBREW_SHELLRC_VERSION="0.98"
    PERLBREW_VERSION="0.98"
    PERL_LOCAL_LIB_ROOT="/Users/user/.perlbrew/libs/perl-5.32.0-uselongdouble@normal:/Users/user/perl5"
    PERL_MB_OPT="--install_base /Users/user/.perlbrew/libs/perl-5.32.0-uselongdouble@normal"
    PERL_MM_OPT="INSTALL_BASE=/Users/user/.perlbrew/libs/perl-5.32.0-uselongdouble@normal"
  @INC:
    /Users/user/.perlbrew/libs/perl-5.32.0-uselongdouble@normal/lib/perl5/darwin-ld-2level
    /Users/user/.perlbrew/libs/perl-5.32.0-uselongdouble@normal/lib/perl5
    /Users/user/perl5/lib/perl5/5.32.0/darwin-ld-2level
    /Users/user/perl5/lib/perl5/5.32.0
    /Users/user/perl5/lib/perl5/darwin-ld-2level
    /Users/user/perl5/lib/perl5
    /Users/user/perl5/perlbrew/perls/perl-5.32.0-uselongdouble/lib/site_perl/5.32.0/darwin-ld-2level
    /Users/user/perl5/perlbrew/perls/perl-5.32.0-uselongdouble/lib/site_perl/5.32.0
    /Users/user/perl5/perlbrew/perls/perl-5.32.0-uselongdouble/lib/5.32.0/darwin-ld-2level
    /Users/user/perl5/perlbrew/perls/perl-5.32.0-uselongdouble/lib/5.32.0