Back
From: metabase:user:30977d10-2aae-11df-837a-5e0a49663a4f
Subject: PASS MooseX-ConfigFromFile-0.14 v5.16.3 SunOS/Solaris
Date: 2017-01-02T02:13:20Z
This distribution has been tested as part of the CPAN Testers
project, supporting the Perl programming language. See
http://wiki.cpantesters.org/ for more information or email
questions to cpan-testers-discuss@perl.org
--
Dear Karen Etheridge,
This is a computer-generated report for MooseX-ConfigFromFile-0.14
on perl 5.16.3, created by CPAN-Reporter-1.2018.
Thank you for uploading your work to CPAN. Congratulations!
All tests were successful.
Sections of this report:
* Tester comments
* Program output
* Prerequisites
* Environment and other context
------------------------------
TESTER COMMENTS
------------------------------
Additional comments from tester:
this report is from an automated smoke testing program
and was not reviewed by a human for accuracy
------------------------------
PROGRAM OUTPUT
------------------------------
Output from '/usr/bin/make test':
PERL_DL_NONLAZY=1 "/home/stro/perl/5.16.3t/bin/perl" "-MExtUtils::Command::MM" "-MTest::Harness" "-e" "undef *Test::Harness::Switches; test_harness(0, 'blib/lib', 'blib/arch')" t/*.t
#
# Versions for all modules listed in MYMETA.json (including optional ones):
#
# === Configure Requires ===
#
# Module Want Have
# ------------------- ----- -----
# Module::Build::Tiny 0.007 0.039
#
# === Build Requires ===
#
# Module Want Have
# ------------------- ---- ----
# ExtUtils::MakeMaker any 7.24
#
# === Test Requires ===
#
# Module Want Have
# --------------------- ---- --------
# ExtUtils::MakeMaker any 7.24
# File::Spec any 3.62
# Moose any 2.1807
# Scalar::Util any 1.47
# Test::Deep any 1.124
# Test::Fatal any 0.014
# Test::More 0.88 1.302073
# Test::Requires any 0.10
# Test::Without::Module any 0.18
# if any 0.0602
# strict any 1.07
#
# === Test Recommends ===
#
# Module Want Have
# -------------- -------- --------
# CPAN::Meta 2.120900 2.143240
# MooseX::Getopt any 0.71
#
# === Runtime Requires ===
#
# Module Want Have
# ------------------------- ----- ------
# Carp any 1.26
# Moose::Role any 2.1807
# MooseX::Types::Moose any 0.49
# MooseX::Types::Path::Tiny 0.005 0.011
# namespace::autoclean any 0.28
# warnings any 1.13
#
# === Other Modules ===
#
# Module Have
# ------------- ----
# Pod::Coverage 0.23
#
t/00-report-prereqs.t .... ok
t/01use.t ................ ok
t/02subclass.t ........... ok
t/03configfile_method.t .. ok
t/04a_getopt.t ........... ok
t/04b_getopt.t ........... ok
t/05_default_sub.t ....... ok
t/zzz-check-breaks.t ..... ok
All tests successful.
Files=8, Tests=63, 4 wallclock secs ( 0.05 usr 0.01 sys + 3.49 cusr 0.28 csys = 3.83 CPU)
Result: PASS
------------------------------
PREREQUISITES
------------------------------
Prerequisite modules loaded:
requires:
Module Need Have
------------------------- -------- --------
Carp 0 1.26
Moose::Role 0 2.1807
MooseX::Types::Moose 0 0.49
MooseX::Types::Path::Tiny 0.005 0.011
namespace::autoclean 0 0.28
perl 5.006 5.016003
warnings 0 1.13
build_requires:
Module Need Have
------------------------- -------- --------
ExtUtils::MakeMaker 0 7.24
File::Spec 0 3.62
if 0 0.0602
Moose 0 2.1807
Scalar::Util 0 1.47
strict 0 1.07
Test::Deep 0 1.124
Test::Fatal 0 0.014
Test::More 0.88 1.302073
Test::Requires 0 0.10
Test::Without::Module 0 0.18
configure_requires:
Module Need Have
------------------------- -------- --------
Module::Build::Tiny 0.007 0.039
perl 5.006 5.016003
opt_build_requires:
Module Need Have
------------------------- -------- --------
CPAN::Meta 2.120900 2.143240
MooseX::Getopt 0 0.71
------------------------------
ENVIRONMENT AND OTHER CONTEXT
------------------------------
Environment variables:
AUTOMATED_TESTING = 1
LANG = en_US.UTF-8
PATH = /usr/gnu/bin:/usr/bin:/usr/sbin:/sbin:/usr/sfw/bin:
PERL5LIB =
PERL5OPT =
PERL5_CPANPLUS_IS_RUNNING = 13227
PERL5_CPAN_IS_RUNNING = 13227
PERL5_CPAN_IS_RUNNING_IN_RECURSION = 10379,13227
PERL_CR_SMOKER_CURRENT = Catalyst-View-Base-JSON-0.001
PERL_EXTUTILS_AUTOINSTALL = --defaultdeps
PERL_MM_USE_DEFAULT = 1
SHELL = /bin/bash
TERM = xterm
Perl special variables (and OS-specific diagnostics, for MSWin32):
$^X = /home/stro/perl/5.16.3t/bin/perl
$UID/$EUID = 101 / 101
$GID = 10 10
$EGID = 10 10
Perl module toolchain versions installed:
Module Have
------------------- --------
CPAN 2.14
CPAN::Meta 2.143240
Cwd 3.62
ExtUtils::CBuilder 0.280206
ExtUtils::Command 7.24
ExtUtils::Install 1.58
ExtUtils::MakeMaker 7.24
ExtUtils::Manifest 1.70
ExtUtils::ParseXS 3.30
File::Spec 3.62
JSON 2.90
JSON::PP 2.27400
Module::Build 0.4220
Module::Signature n/a
Parse::CPAN::Meta 1.4414
Test::Harness 3.36
Test::More 1.302073
YAML 1.21
YAML::Syck 1.29
version 0.9917
--
Summary of my perl5 (revision 5 version 16 subversion 3) configuration:
Platform:
osname=solaris, osvers=2.11, archname=i86pc-solaris-thread-multi
uname='sunos vm-openindiana-001 5.11 illumos-2816291 i86pc i386 i86pc '
config_args='-Dcc=gcc'
hint=recommended, useposix=true, d_sigaction=define
useithreads=define, usemultiplicity=define
useperlio=define, d_sfio=undef, uselargefiles=define, usesocks=undef
use64bitint=undef, use64bitall=undef, uselongdouble=undef
usemymalloc=n, bincompat5005=undef
Compiler:
cc='gcc', ccflags ='-D_REENTRANT -fno-strict-aliasing -pipe -I/usr/gnu/include -D_LARGEFILE_SOURCE -D_FILE_OFFSET_BITS=64 -DPERL_USE_SAFE_PUTENV',
optimize='-O',
cppflags='-D_REENTRANT -fno-strict-aliasing -pipe -I/usr/gnu/include'
ccversion='', gccversion='3.4.3 (csl-sol210-3_4-20050802)', gccosandvers='solaris2.11'
intsize=4, longsize=4, ptrsize=4, doublesize=8, byteorder=1234
d_longlong=define, longlongsize=8, d_longdbl=define, longdblsize=12
ivtype='long', ivsize=4, nvtype='double', nvsize=8, Off_t='off_t', lseeksize=8
alignbytes=4, prototype=define
Linker and Libraries:
ld='gcc', ldflags =' -L/usr/gnu/lib '
libpth=/usr/gnu/lib /usr/lib /usr/ccs/lib
libs=-lsocket -lnsl -lgdbm -ldb -ldl -lm -lpthread -lc
perllibs=-lsocket -lnsl -ldl -lm -lpthread -lc
libc=/lib/libc.so, so=so, useshrplib=false, libperl=libperl.a
gnulibc_version=''
Dynamic Linking:
dlsrc=dl_dlopen.xs, dlext=so, d_dlsymun=undef, ccdlflags=' '
cccdlflags='-fPIC', lddlflags='-G -L/usr/gnu/lib'
Characteristics of this binary (from libperl):
Compile-time options: HAS_TIMES MULTIPLICITY PERLIO_LAYERS
PERL_DONT_CREATE_GVSV PERL_IMPLICIT_CONTEXT
PERL_MALLOC_WRAP PERL_PRESERVE_IVUV
PERL_USE_SAFE_PUTENV USE_ITHREADS USE_LARGE_FILES
USE_LOCALE USE_LOCALE_COLLATE USE_LOCALE_CTYPE
USE_LOCALE_NUMERIC USE_PERLIO USE_PERL_ATOF
USE_REENTRANT_API
Built under solaris
Compiled at Dec 27 2016 21:26:21
%ENV:
PERL5LIB=""
PERL5OPT=""
PERL5_CPANPLUS_IS_RUNNING="13227"
PERL5_CPAN_IS_RUNNING="13227"
PERL5_CPAN_IS_RUNNING_IN_RECURSION="10379,13227"
PERL_CR_SMOKER_CURRENT="Catalyst-View-Base-JSON-0.001"
PERL_EXTUTILS_AUTOINSTALL="--defaultdeps"
PERL_MM_USE_DEFAULT="1"
@INC:
/home/stro/perl/5.16.3t/lib/site_perl/5.16.3/i86pc-solaris-thread-multi
/home/stro/perl/5.16.3t/lib/site_perl/5.16.3
/home/stro/perl/5.16.3t/lib/5.16.3/i86pc-solaris-thread-multi
/home/stro/perl/5.16.3t/lib/5.16.3
.