Module-Build v0.42_35 Perl 5 v5.18.4 x86_64-linux
- Status
- Pass
- From
- Slaven Rezić
- Dist
-
Module-Build v0.42_35
- Platform
- Perl 5 v5.18.4 x86_64-linux
- Date
- 2023-04-30 18:22:56
- ID
- 07b67008-e784-11ed-a769-65f96d8775ea
This distribution has been tested as part of the CPAN Testers
project, supporting the Perl programming language. See
http://wiki.cpantesters.org/ for more information or email
questions to cpan-testers-discuss@perl.org
--
Dear Leon Timmermans,
This is a computer-generated report for Module-Build-0.42_35
on perl 5.18.4, created by CPAN-Reporter-1.2018.
Thank you for uploading your work to CPAN. Congratulations!
All tests were successful.
Sections of this report:
* Tester comments
* Program output
* Prerequisites
* Environment and other context
------------------------------
TESTER COMMENTS
------------------------------
Additional comments from tester:
none provided
------------------------------
PROGRAM OUTPUT
------------------------------
Output from './Build test':
t/00-compile.t ................. ok
t/PL_files.t ................... ok
t/actions/installdeps.t ........ ok
t/actions/manifest_skip.t ...... ok
t/add_property.t ............... ok
t/add_property_array.t ......... ok
t/add_property_hash.t .......... ok
t/basic.t ...................... ok
t/bundle_inc.t ................. skipped: $ENV{MB_TEST_EXPERIMENTAL} is not set
t/compat.t ..................... ok
t/compat/exit.t ................ ok
t/debug.t ...................... ok
t/destinations.t ............... ok
t/ext.t ........................ ok
t/extend.t ..................... ok
t/files.t ...................... ok
t/help.t ....................... ok
t/install.t .................... ok
t/install_extra_target.t ....... ok
t/manifypods.t ................. ok
t/manifypods_with_utf8.t ....... ok
t/metadata.t ................... ok
t/metadata2.t .................. ok
t/mymeta.t ..................... ok
t/new_from_context.t ........... ok
t/notes.t ...................... ok
t/par.t ........................ skipped: PAR::Dist 0.17 or up not installed to check .par's.
t/parents.t .................... ok
t/perl_mb_opt.t ................ ok
t/pod_parser.t ................. ok
t/ppm.t ........................ ok
t/properties/dist_suffix.t ..... ok
t/properties/license.t ......... ok
t/properties/module_name.t ..... ok
t/properties/needs_compiler.t .. ok
t/properties/release_status.t .. ok
t/properties/requires.t ........ ok
t/properties/share_dir.t ....... ok
t/resume.t ..................... ok
t/runthrough.t ................. ok
t/sample.t ..................... ok
t/script_dist.t ................ ok
t/signature.t .................. ok
t/test_file_exts.t ............. ok
t/test_reqs.t .................. ok
t/test_type.t .................. ok
t/test_types.t ................. ok
t/tilde.t ...................... ok
t/unit_run_test_harness.t ...... ok
t/use_tap_harness.t ............ ok
t/versions.t ................... ok
t/write_default_maniskip.t ..... ok
t/xs.t ......................... ok
All tests successful.
Files=53, Tests=1189, 37 wallclock secs ( 0.27 usr 0.07 sys + 30.08 cusr 7.20 csys = 37.62 CPU)
Result: PASS
------------------------------
PREREQUISITES
------------------------------
Prerequisite modules loaded:
requires:
Module Need Have
---------------------- -------- --------
CPAN::Meta 2.142060 2.150010
Cwd 0 3.75
Data::Dumper 0 2.183
ExtUtils::CBuilder 0.27 0.280236
ExtUtils::Install 0 2.06
ExtUtils::InstallPaths 0.003 0.012
ExtUtils::Manifest 0 1.70
ExtUtils::Mkbootstrap 0 7.68
ExtUtils::ParseXS 2.21 3.44
File::Basename 0 2.84
File::Compare 0 1.1006
File::Copy 0 2.26
File::Find 0 1.23
File::Path 0 2.18
File::Spec 0.82 3.75
Getopt::Long 0 2.54
Module::Metadata 1.000002 1.000037
perl 5.006001 5.018004
Perl::OSType 1 1.003
TAP::Harness 3.29 3.44
Text::Abbrev 0 1.02
Text::ParseWords 0 3.28
version 0.87 0.9929
build_requires:
Module Need Have
---------------------- -------- --------
CPAN::Meta::YAML 0.003 0.011
File::Temp 0.15 0.2311
Parse::CPAN::Meta 1.4401 2.150010
TAP::Harness 3.29 3.44
Test::More 0.49 1.302194
configure_requires:
Module Need Have
---------------------- -------- --------
CPAN::Meta 2.142060 2.150010
File::Basename 0 2.84
File::Copy 0 2.26
File::Path 0 2.18
File::Spec 0.82 3.75
Module::Metadata 1.000002 1.000037
Perl::OSType 1 1.003
version 0.87 0.9929
------------------------------
ENVIRONMENT AND OTHER CONTEXT
------------------------------
Environment variables:
LANG = en_US.UTF-8
PATH = /usr/local/bin:/usr/bin:/bin:/usr/local/sbin:/usr/sbin:/sbin:/home/cpansand/bin/linux-gnu:/home/cpansand/bin/sh:/home/cpansand/bin:/usr/games:/home/cpansand/devel:/home/eserte/src/srezic-misc/scripts
PERL5LIB =
PERL5OPT =
PERL5_CPANPLUS_IS_RUNNING = 2476
PERL5_CPAN_IS_RUNNING = 2476
PERL5_CPAN_IS_RUNNING_IN_RECURSION = 29356,2476
PERLDOC = -MPod::Perldoc::ToTextOverstrike
PERL_BATCH = yes
PERL_CANARY_STABILITY_NOPROMPT = 1
PERL_CPAN_REPORTER_CONFIG = /var/tmp/cpansmoker-1023/2023043015/cpanreporter_000_config.ini
PERL_EXTUTILS_AUTOINSTALL = --defaultdeps
PERL_USE_UNSAFE_INC = 1
SHELL = /usr/bin/zsh
TERM = screen
TMPDIR = /var/tmp/cpansmoker-1023/2023043015
Perl special variables (and OS-specific diagnostics, for MSWin32):
$^X = /opt/perl-5.18.4/bin/perl
$UID/$EUID = 1023 / 1023
$GID = 1023 1023
$EGID = 1023 1023
Perl module toolchain versions installed:
Module Have
------------------- --------
CPAN 2.34
CPAN::Meta 2.150010
Cwd 3.75
ExtUtils::CBuilder 0.280236
ExtUtils::Command 7.68
ExtUtils::Install 2.06
ExtUtils::MakeMaker 7.68
ExtUtils::Manifest 1.70
ExtUtils::ParseXS 3.44
File::Spec 3.75
JSON 4.10
JSON::PP 4.15
Module::Build 0.4232
Module::Signature n/a
Parse::CPAN::Meta 2.150010
Test::Harness 3.44
Test::More 1.302194
YAML 1.30
YAML::Syck 1.34
version 0.9929
--
Summary of my perl5 (revision 5 version 18 subversion 4) configuration:
Platform:
osname=linux, osvers=3.10.0-1160.81.1.el7.x86_64, archname=x86_64-linux
uname='linux cloud3.bbbike.org 3.10.0-1160.81.1.el7.x86_64 #1 smp fri dec 16 17:29:43 utc 2022 x86_64 x86_64 x86_64 gnulinux '
config_args='-ds -e -Dprefix=/opt/perl-5.18.4 -Dcf_email=srezic@cpan.org'
hint=recommended, useposix=true, d_sigaction=define
useithreads=undef, usemultiplicity=undef
useperlio=define, d_sfio=undef, uselargefiles=define, usesocks=undef
use64bitint=define, use64bitall=define, uselongdouble=undef
usemymalloc=n, bincompat5005=undef
Compiler:
cc='cc', ccflags ='-fwrapv -fno-strict-aliasing -pipe -fstack-protector -I/usr/local/include -D_LARGEFILE_SOURCE -D_FILE_OFFSET_BITS=64',
optimize='-O2',
cppflags='-fwrapv -fno-strict-aliasing -pipe -fstack-protector -I/usr/local/include'
ccversion='', gccversion='4.8.5 20150623 (Red Hat 4.8.5-44)', gccosandvers=''
intsize=4, longsize=8, ptrsize=8, doublesize=8, byteorder=12345678
d_longlong=define, longlongsize=8, d_longdbl=define, longdblsize=16
ivtype='long', ivsize=8, nvtype='double', nvsize=8, Off_t='off_t', lseeksize=8
alignbytes=8, prototype=define
Linker and Libraries:
ld='cc', ldflags =' -fstack-protector -L/usr/local/lib'
libpth=/usr/local/lib /lib/../lib64 /usr/lib/../lib64 /lib /usr/lib /lib64 /usr/lib64 /usr/local/lib64
libs=-lnsl -lgdbm -ldb -ldl -lm -lcrypt -lutil -lc -lgdbm_compat
perllibs=-lnsl -ldl -lm -lcrypt -lutil -lc
libc=libc-2.17.so, so=so, useshrplib=false, libperl=libperl.a
gnulibc_version='2.17'
Dynamic Linking:
dlsrc=dl_dlopen.xs, dlext=so, d_dlsymun=undef, ccdlflags='-Wl,-E'
cccdlflags='-fPIC', lddlflags='-shared -O2 -L/usr/local/lib -fstack-protector'
Characteristics of this binary (from libperl):
Compile-time options: HAS_TIMES PERLIO_LAYERS PERL_DONT_CREATE_GVSV
PERL_HASH_FUNC_ONE_AT_A_TIME_HARD PERL_MALLOC_WRAP
PERL_PRESERVE_IVUV PERL_SAWAMPERSAND USE_64_BIT_ALL
USE_64_BIT_INT USE_LARGE_FILES USE_LOCALE
USE_LOCALE_COLLATE USE_LOCALE_CTYPE
USE_LOCALE_NUMERIC USE_PERLIO USE_PERL_ATOF
Locally applied patches:
Devel::PatchPerl 2.08
Built under linux
Compiled at Dec 26 2022 19:19:09
%ENV:
PERL5LIB=""
PERL5OPT=""
PERL5_CPANPLUS_IS_RUNNING="2476"
PERL5_CPAN_IS_RUNNING="2476"
PERL5_CPAN_IS_RUNNING_IN_RECURSION="29356,2476"
PERLDOC="-MPod::Perldoc::ToTextOverstrike"
PERL_BATCH="yes"
PERL_CANARY_STABILITY_NOPROMPT="1"
PERL_CPAN_REPORTER_CONFIG="/var/tmp/cpansmoker-1023/2023043015/cpanreporter_000_config.ini"
PERL_EXTUTILS_AUTOINSTALL="--defaultdeps"
PERL_USE_UNSAFE_INC="1"
@INC:
/opt/perl-5.18.4/lib/site_perl/5.18.4/x86_64-linux
/opt/perl-5.18.4/lib/site_perl/5.18.4
/opt/perl-5.18.4/lib/5.18.4/x86_64-linux
/opt/perl-5.18.4/lib/5.18.4
.