Apache2-SSI vv0.2.12 Perl 5 v5.43.1 x86_64-linux

Status
Pass
From
Carlos Guevara
Dist
Apache2-SSI vv0.2.12
Platform
Perl 5 v5.43.1 x86_64-linux
Date
2025-07-14 10:55:18
ID
07b414dc-60a1-11f0-aaf7-df4a21498acb
This distribution has been tested as part of the CPAN Testers
project, supporting the Perl programming language.  See
http://wiki.cpantesters.org/ for more information or email
questions to cpan-testers-discuss@perl.org


--
Dear Jacques Deguest,

This is a computer-generated report for Apache2-SSI-v0.2.12
on perl 5.43.1, created by CPAN-Reporter-1.2020.

Thank you for uploading your work to CPAN.  Congratulations!
All tests were successful.

Sections of this report:

    * Tester comments
    * Program output
    * Prerequisites
    * Environment and other context

------------------------------
TESTER COMMENTS
------------------------------

Additional comments from tester:

this report is from an automated smoke testing program
and was not reviewed by a human for accuracy

------------------------------
PROGRAM OUTPUT
------------------------------

Output from '/usr/bin/make test':

PERL_DL_NONLAZY=1 "/home/cpan/bin/perl/bin/perl5.43.1" "-MExtUtils::Command::MM" "-MTest::Harness" "-e" "undef *Test::Harness::Switches; test_harness(0, 'blib/lib', 'blib/arch')" t/*.t
Accessing Module::Generic::File::ERROR is deprecated; use Module::Generic::File->error instead at /home/cpan/bin/perl/lib/site_perl/5.43.1/Module/Generic.pm line 1388.
Accessing Module::Generic::File::ERROR is deprecated; use Module::Generic::File->error instead at /home/cpan/bin/perl/lib/site_perl/5.43.1/Module/Generic.pm line 1388.
Accessing Module::Generic::File::ERROR is deprecated; use Module::Generic::File->error instead at /home/cpan/bin/perl/lib/site_perl/5.43.1/Module/Generic.pm line 1388.
Accessing Module::Generic::File::ERROR is deprecated; use Module::Generic::File->error instead at /home/cpan/bin/perl/lib/site_perl/5.43.1/Module/Generic.pm line 1388.
Accessing Module::Generic::File::ERROR is deprecated; use Module::Generic::File->error instead at /home/cpan/bin/perl/lib/site_perl/5.43.1/Module/Generic.pm line 1388.
Accessing Module::Generic::File::ERROR is deprecated; use Module::Generic::File->error instead at /home/cpan/bin/perl/lib/site_perl/5.43.1/Module/Generic.pm line 1388.
Accessing Module::Generic::File::ERROR is deprecated; use Module::Generic::File->error instead at /home/cpan/bin/perl/lib/site_perl/5.43.1/Module/Generic.pm line 1388.
Accessing Module::Generic::File::ERROR is deprecated; use Module::Generic::File->error instead at /home/cpan/bin/perl/lib/site_perl/5.43.1/Module/Generic.pm line 1388.
Accessing Module::Generic::File::ERROR is deprecated; use Module::Generic::File->error instead at /home/cpan/bin/perl/lib/site_perl/5.43.1/Module/Generic.pm line 1388.
Accessing Module::Generic::File::ERROR is deprecated; use Module::Generic::File->error instead at /home/cpan/bin/perl/lib/site_perl/5.43.1/Module/Generic.pm line 1388.
Accessing Module::Generic::File::ERROR is deprecated; use Module::Generic::File->error instead at /home/cpan/bin/perl/lib/site_perl/5.43.1/Module/Generic.pm line 1388.
Accessing Module::Generic::File::ERROR is deprecated; use Module::Generic::File->error instead at /home/cpan/bin/perl/lib/site_perl/5.43.1/Module/Generic.pm line 1388.
Accessing Module::Generic::File::ERROR is deprecated; use Module::Generic::File->error instead at /home/cpan/bin/perl/lib/site_perl/5.43.1/Module/Generic.pm line 1388.
Accessing Module::Generic::File::ERROR is deprecated; use Module::Generic::File->error instead at /home/cpan/bin/perl/lib/site_perl/5.43.1/Module/Generic.pm line 1388.
Accessing Module::Generic::File::ERROR is deprecated; use Module::Generic::File->error instead at /home/cpan/bin/perl/lib/site_perl/5.43.1/Module/Generic.pm line 1388.
Accessing Module::Generic::File::ERROR is deprecated; use Module::Generic::File->error instead at /home/cpan/bin/perl/lib/site_perl/5.43.1/Module/Generic.pm line 1388.
Accessing Module::Generic::File::ERROR is deprecated; use Module::Generic::File->error instead at /home/cpan/bin/perl/lib/site_perl/5.43.1/Module/Generic.pm line 1388.
Accessing Module::Generic::File::ERROR is deprecated; use Module::Generic::File->error instead at /home/cpan/bin/perl/lib/site_perl/5.43.1/Module/Generic.pm line 1388.
Accessing Module::Generic::File::ERROR is deprecated; use Module::Generic::File->error instead at /home/cpan/bin/perl/lib/site_perl/5.43.1/Module/Generic.pm line 1388.
Accessing Module::Generic::File::ERROR is deprecated; use Module::Generic::File->error instead at /home/cpan/bin/perl/lib/site_perl/5.43.1/Module/Generic.pm line 1388.
Accessing Module::Generic::File::ERROR is deprecated; use Module::Generic::File->error instead at /home/cpan/bin/perl/lib/site_perl/5.43.1/Module/Generic.pm line 1388.
Accessing Module::Generic::File::ERROR is deprecated; use Module::Generic::File->error instead at /home/cpan/bin/perl/lib/site_perl/5.43.1/Module/Generic.pm line 1388.
Accessing Module::Generic::File::ERROR is deprecated; use Module::Generic::File->error instead at /home/cpan/bin/perl/lib/site_perl/5.43.1/Module/Generic.pm line 1388.
Accessing Module::Generic::File::ERROR is deprecated; use Module::Generic::File->error instead at /home/cpan/bin/perl/lib/site_perl/5.43.1/Module/Generic.pm line 1388.
Accessing Module::Generic::File::ERROR is deprecated; use Module::Generic::File->error instead at /home/cpan/bin/perl/lib/site_perl/5.43.1/Module/Generic.pm line 1388.
Accessing Module::Generic::File::ERROR is deprecated; use Module::Generic::File->error instead at /home/cpan/bin/perl/lib/site_perl/5.43.1/Module/Generic.pm line 1388.
Accessing Module::Generic::File::ERROR is deprecated; use Module::Generic::File->error instead at /home/cpan/bin/perl/lib/site_perl/5.43.1/Module/Generic.pm line 1388.
Accessing Module::Generic::File::ERROR is deprecated; use Module::Generic::File->error instead at /home/cpan/bin/perl/lib/site_perl/5.43.1/Module/Generic.pm line 1388.
Accessing Module::Generic::File::ERROR is deprecated; use Module::Generic::File->error instead at /home/cpan/bin/perl/lib/site_perl/5.43.1/Module/Generic.pm line 1388.
Accessing Module::Generic::File::ERROR is deprecated; use Module::Generic::File->error instead at /home/cpan/bin/perl/lib/site_perl/5.43.1/Module/Generic.pm line 1388.
Accessing Module::Generic::File::ERROR is deprecated; use Module::Generic::File->error instead at /home/cpan/bin/perl/lib/site_perl/5.43.1/Module/Generic.pm line 1388.
Accessing Module::Generic::File::ERROR is deprecated; use Module::Generic::File->error instead at /home/cpan/bin/perl/lib/site_perl/5.43.1/Module/Generic.pm line 1388.
Accessing Module::Generic::File::ERROR is deprecated; use Module::Generic::File->error instead at /home/cpan/bin/perl/lib/site_perl/5.43.1/Module/Generic.pm line 1388.
Accessing Module::Generic::File::ERROR is deprecated; use Module::Generic::File->error instead at /home/cpan/bin/perl/lib/site_perl/5.43.1/Module/Generic.pm line 1388.
Accessing Module::Generic::File::ERROR is deprecated; use Module::Generic::File->error instead at /home/cpan/bin/perl/lib/site_perl/5.43.1/Module/Generic.pm line 1388.
Accessing Module::Generic::File::ERROR is deprecated; use Module::Generic::File->error instead at /home/cpan/bin/perl/lib/site_perl/5.43.1/Module/Generic.pm line 1388.
t/00.load.t ........... ok
t/02.pod.t ............ ok
t/20.collapse-dots.t .. ok
t/30.bare.t ........... ok
t/31.file.t ........... ok
t/32.virtual.t ........ ok
t/33.if.t ............. ok
t/34.set_var.t ........ ok
t/35.exec.t ........... ok
t/36.escape.t ......... ok
t/37.flastmod.t ....... ok
t/38.fsize.t .......... ok
t/39.functions.t ...... ok
t/40.misc.t ........... ok
t/41.ap2perl.t ........ ok
t/42.expression.t ..... ok
t/50.finfo.t .......... ok
t/60.uri.t ............ ok
t/70.file.t ........... ok
t/71.file_type.t ...... ok
Accessing Apache2::SSI::SharedMem::ERROR is deprecated; use Apache2::SSI::SharedMem->error instead at /home/cpan/bin/perl/lib/site_perl/5.43.1/Module/Generic.pm line 1388.
t/80.notes.t .......... ok
t/90.coverage.t ....... skipped: These tests are for author or release candidate testing
t/90.manifest.t ....... skipped: Author tests not required for installation
t/91.signature.t ...... skipped: Set the environment variable AUTHOR_TESTING to enable this test.
t/99.kwalitee.t ....... skipped: These tests are for author or release candidate testing
All tests successful.
Files=25, Tests=290, 22 wallclock secs ( 0.07 usr  0.02 sys + 20.69 cusr  0.94 csys = 21.72 CPU)
Result: PASS

------------------------------
PREREQUISITES
------------------------------

Prerequisite modules loaded:

requires:

    Module                     Need     Have      
    -------------------------- -------- ----------
    Config                     0        5.043001  
    Cwd                        0        3.94      
    DateTime                   0        1.66      
    DateTime::Format::Strptime 0        1.79      
    Digest::MD5                0        2.59      
    Digest::SHA                0        6.04      
    Encode                     0        3.21      
    File::Basename             0        2.86      
    File::Spec                 3.26     3.94      
    File::Which                0        1.27      
    HTML::Entities             0        3.83      
    IO::File                   0        1.55      
    JSON                       0        4.10      
    MIME::Base64               0        3.16_01   
    Module::Generic            v0.40.0  v1.0.1    
    Net::Subnet                1.03     1.03      
    parent                     0        0.244     
    perl                       5.022001 5.043001  
    PPI                        1.270    1.283     
    Regexp::Common::Apache2    v0.2.1   v0.2.1    
    Regexp::Common::net        0        2024080801
    Scalar::Util               1.50     1.68_01   
    strict                     0        1.14      
    URI                        5.05     5.32      
    URI::Escape::XS            0        0.14      
    URI::file                  5.05     5.32      
    URL::Encode::XS            0        0.03      
    vars                       0        1.05      
    version                    0        0.9933    
    warnings                   0        1.74      

build_requires:

    Module                     Need     Have      
    -------------------------- -------- ----------
    Cwd                        0        3.94      
    ExtUtils::MakeMaker        0        7.76      
    lib                        0        0.65      
    Test::More                 1.302162 1.302214  
    Test::Pod                  1.52     1.52      
    utf8                       0        1.27      

configure_requires:

    Module                     Need     Have      
    -------------------------- -------- ----------
    ExtUtils::MakeMaker        0        7.76      


------------------------------
ENVIRONMENT AND OTHER CONTEXT
------------------------------

Environment variables:

    AUTOMATED_TESTING = 1
    DATE_MANIP_TEST_DM5 = 1
    LANG = en_US.UTF-8
    LC_ALL = C
    NONINTERACTIVE_TESTING = 1
    NO_NETWORK_TESTING = 1
    PATH = /home/cpan/bin/perl/bin:/home/cpan/bin:/home/cpan/bin:/usr/local/bin:/usr/bin:/usr/local/sbin:/usr/sbin
    PERL5LIB = 
    PERL5OPT = 
    PERL5_CPANPLUS_IS_RUNNING = 739209
    PERL5_CPAN_IS_RUNNING = 739209
    PERL_MM_USE_DEFAULT = 1
    PERL_USE_UNSAFE_INC = 1
    SHELL = /bin/bash
    TERM = screen
    TMPDIR = /home/cpan/tmp

Perl special variables (and OS-specific diagnostics, for MSWin32):

    $^X = /home/cpan/bin/perl/bin/perl5.43.1
    $UID/$EUID = 1001 / 1001
    $GID = 1001 1001
    $EGID = 1001 1001

Perl module toolchain versions installed:

    Module              Have    
    ------------------- --------
    CPAN                2.38    
    CPAN::Meta          2.150010
    Cwd                 3.94    
    ExtUtils::CBuilder  0.280242
    ExtUtils::Command   7.76    
    ExtUtils::Install   2.22    
    ExtUtils::MakeMaker 7.76    
    ExtUtils::Manifest  1.75    
    ExtUtils::ParseXS   3.58    
    File::Spec          3.94    
    JSON                4.10    
    JSON::PP            4.16    
    Module::Build       0.4234  
    Module::Signature   0.93    
    Parse::CPAN::Meta   2.150010
    Test2               1.302214
    Test::Harness       3.52    
    Test::More          1.302214
    YAML                1.31    
    YAML::Syck          1.34    
    version             0.9933  


--

Summary of my perl5 (revision 5 version 43 subversion 1) configuration:
  Commit id: 9ef5300f9a0c33a7b865a307d84e06ada598c612
  Platform:
    osname=linux
    osvers=6.12.0-55.20.1.el10_0.x86_64
    archname=x86_64-linux
    uname='linux cjg-rhel10 6.12.0-55.20.1.el10_0.x86_64 #1 smp preempt_dynamic mon jun 30 02:11:57 edt 2025 x86_64 gnulinux '
    config_args='-des -Dprefix=/home/cpan/bin/perl -Dscriptdir=/home/cpan/bin/perl/bin -Dusedevel -Duse64bitall'
    hint=recommended
    useposix=true
    d_sigaction=define
    useithreads=undef
    usemultiplicity=undef
    use64bitint=define
    use64bitall=define
    uselongdouble=undef
    usemymalloc=n
    default_inc_excludes_dot=define
  Compiler:
    cc='cc'
    ccflags ='-fwrapv -fno-strict-aliasing -pipe -fstack-protector-strong -I/usr/local/include -D_LARGEFILE_SOURCE -D_FILE_OFFSET_BITS=64 -D_FORTIFY_SOURCE=2'
    optimize='-O2'
    cppflags='-fwrapv -fno-strict-aliasing -pipe -fstack-protector-strong -I/usr/local/include'
    ccversion=''
    gccversion='14.2.1 20250110 (Red Hat 14.2.1-7)'
    gccosandvers=''
    intsize=4
    longsize=8
    ptrsize=8
    doublesize=8
    byteorder=12345678
    doublekind=3
    d_longlong=define
    longlongsize=8
    d_longdbl=define
    longdblsize=16
    longdblkind=3
    ivtype='long'
    ivsize=8
    nvtype='double'
    nvsize=8
    Off_t='off_t'
    lseeksize=8
    alignbytes=8
    prototype=define
  Linker and Libraries:
    ld='cc'
    ldflags =' -fstack-protector-strong -L/usr/local/lib'
    libpth=/usr/local/lib /usr/lib /usr/lib64 /usr/local/lib64
    libs=-lpthread -ldb -ldl -lm -lcrypt -lutil -lc
    perllibs=-lpthread -ldl -lm -lcrypt -lutil -lc
    libc=/lib/../lib64/libc.so.6
    so=so
    useshrplib=false
    libperl=libperl.a
    gnulibc_version='2.39'
  Dynamic Linking:
    dlsrc=dl_dlopen.xs
    dlext=so
    d_dlsymun=undef
    ccdlflags='-Wl,-E'
    cccdlflags='-fPIC'
    lddlflags='-shared -O2 -L/usr/local/lib -fstack-protector-strong'


Characteristics of this binary (from libperl): 
  Compile-time options:
    HAS_LONG_DOUBLE
    HAS_STRTOLD
    HAS_TIMES
    PERLIO_LAYERS
    PERL_COPY_ON_WRITE
    PERL_DONT_CREATE_GVSV
    PERL_HASH_FUNC_SIPHASH13
    PERL_HASH_USE_SBOX32
    PERL_MALLOC_WRAP
    PERL_OP_PARENT
    PERL_PRESERVE_IVUV
    PERL_USE_DEVEL
    PERL_USE_SAFE_PUTENV
    USE_64_BIT_ALL
    USE_64_BIT_INT
    USE_LARGE_FILES
    USE_LOCALE
    USE_LOCALE_COLLATE
    USE_LOCALE_CTYPE
    USE_LOCALE_NUMERIC
    USE_LOCALE_TIME
    USE_PERLIO
    USE_PERL_ATOF
  Built under linux
  Compiled at Jul 13 2025 23:48:23
  %ENV:
    PERL5LIB=""
    PERL5OPT=""
    PERL5_CPANPLUS_IS_RUNNING="739209"
    PERL5_CPAN_IS_RUNNING="739209"
    PERL_MM_USE_DEFAULT="1"
    PERL_USE_UNSAFE_INC="1"
  @INC:
    /home/cpan/bin/perl/lib/site_perl/5.43.1/x86_64-linux
    /home/cpan/bin/perl/lib/site_perl/5.43.1
    /home/cpan/bin/perl/lib/5.43.1/x86_64-linux
    /home/cpan/bin/perl/lib/5.43.1
    .