WWW-Mechanize-PhantomJS v0.25 Perl 5 v5.24.0 MSWin32-x86-multi-thread-64int

Status
Pass
From
NONAME
Dist
WWW-Mechanize-PhantomJS v0.25
Platform
Perl 5 v5.24.0 MSWin32-x86-multi-thread-64int
Date
2024-09-29 05:36:29
ID
079d037d-6fcb-1014-8f12-b9c807c19ce6
This distribution has been tested as part of the CPAN Testers
project, supporting the Perl programming language.  See
http://wiki.cpantesters.org/ for more information or email
questions to cpan-testers-discuss@perl.org


--
Dear Max Maischein,

This is a computer-generated report for WWW-Mechanize-PhantomJS-0.25
on perl 5.24.0, created by CPAN-Reporter-1.2020.

Thank you for uploading your work to CPAN.  Congratulations!
All tests were successful.

Sections of this report:

    * Tester comments
    * Program output
    * Prerequisites
    * Environment and other context

------------------------------
TESTER COMMENTS
------------------------------

Additional comments from tester:

none provided

------------------------------
PROGRAM OUTPUT
------------------------------

Output from 'C:\Strawberry\c\bin\dmake.exe test':

C:\"Strawberry\perl\bin\perl.exe" "-MExtUtils::Command::MM" "-MTest::Harness" "-e" "undef *Test::Harness::Switches; test_harness(0, 'blib\lib', 'blib\arch')" t/00-load.t t/49-mech-get-file.t t/49-mech-nav.t t/49-port-twice.t t/49-port.t t/50-click.t t/50-follow-link.t t/50-form-with-fields.t t/50-form2.t t/50-highlight-nodes.t t/50-load-and-load.t t/50-mech-content.t t/50-mech-ct.t t/50-mech-encoding.t t/50-mech-error.t t/50-mech-find-link.t t/50-mech-forms.t t/50-mech-get-nocache.t t/50-mech-get.t t/50-mech-new-dsl.t t/50-mech-post.t t/50-mech-status.t t/50-popup.t t/51-mech-form-with-fields.t t/51-mech-links.t t/51-mech-set-content.t t/51-mech-submit.t t/53-mech-capture-js-error.t t/56-render-content.t t/57-parallel.t t/58-alert.t t/59-confirm.t t/60-mech-custom-headers.t t/70-real-status.t
# Testing WWW::Mechanize::PhantomJS 0.25, Perl 5.024000
# Archive::Zip 1.68
# Archive::Zip::Archive 1.68
# Archive::Zip::DirectoryMember 1.68
# Archive::Zip::FileMember 1.68
# Archive::Zip::Member 1.68
# Archive::Zip::NewFileMember 1.68
# Archive::Zip::StringMember 1.68
# Archive::Zip::ZipFileMember 1.68
# AutoLoader 5.74
# B::Hooks::EndOfScope 0.28
# B::Hooks::EndOfScope::XS 0.28
# Carp 1.50
# Carp::Heavy 1.50
# Class::Method::Modifiers 2.15
# Class::XSAccessor 1.19
# Class::XSAccessor::Heavy 1.19
# Clone 0.47
# Compress::Raw::Zlib 2.213
# Config 5.024000
# Cwd 3.75
# Data::Dumper 2.183
# DynaLoader 1.38
# Encode 3.21
# Encode::Alias 2.25
# Encode::Config 2.05
# Encode::Encoding 2.08
# Encode::MIME::Name 1.03
# Errno 1.25
# Exporter 5.78
# Exporter::Heavy 5.78
# Fcntl 1.13
# File::Basename 2.85
# File::Copy 2.31
# File::Find 1.34
# File::Path 2.18
# File::Spec 3.75
# File::Spec::Functions 3.75
# File::Spec::Unix 3.75
# File::Spec::Win32 3.75
# File::Temp 0.2311
# FileHandle 2.02
# Filter::Simple 0.92
# Filter::Util::Call 1.64
# Filter::signatures 0.19
# HTML::Selector::XPath 0.28
# HTTP::Date 6.06
# HTTP::Headers 6.46
# HTTP::Message 6.46
# HTTP::Request 6.46
# HTTP::Response 6.46
# HTTP::Status 6.46
# IO 1.55
# IO::File 1.55
# IO::Handle 1.55
# IO::Seekable 1.55
# IO::Socket 1.55
# IO::Socket::INET 1.55
# IO::Socket::UNIX 1.55
# IO::String 1.08
# JSON 4.10
# JSON::XS 4.03
# LWP 6.77
# LWP::MemberMixin 6.77
# LWP::Protocol 6.77
# LWP::UserAgent 6.77
# List::Util 1.66
# MIME::Base64 3.16
# Method::Generate::Accessor <unknown>
# Method::Generate::Constructor <unknown>
# Module::Implementation 0.09
# Module::Load 0.36
# Module::Runtime 0.016
# Moo 2.005005
# Moo::HandleMoose::_TypeMap <unknown>
# Moo::Object <unknown>
# Moo::Role 2.005005
# Moo::_Utils <unknown>
# Moo::sification <unknown>
# POSIX 1.65
# Package::Stash 0.40
# Package::Stash::XS 0.30
# PerlIO 1.09
# Role::Tiny 2.002004
# Scalar::Util 1.66
# SelectSaver 1.02
# Selenium::Remote::Commands 1.48
# Selenium::Remote::Driver 1.48
# Selenium::Remote::Driver::CanSetWebdriverContext 1.48
# Selenium::Remote::ErrorHandler 1.48
# Selenium::Remote::Finders 1.48
# Selenium::Remote::RemoteConnection 1.48
# Selenium::Remote::Spec 1.48
# Selenium::Remote::WDKeys 1.48
# Selenium::Remote::WebElement 1.48
# Socket 2.038
# Storable 3.25
# Sub::Defer 2.006008
# Sub::Exporter::Progressive 0.001011
# Sub::Install 0.929
# Sub::Quote 2.006008
# Sub::Util 1.66
# Symbol 1.07
# Test::Builder 1.302204
# Test::Builder::Formatter 1.302204
# Test::Builder::Module 1.302204
# Test::Builder::TodoDiag 1.302204
# Test::More 1.302204
# Test2::API 1.302204
# Test2::API::Context 1.302204
# Test2::API::Instance 1.302204
# Test2::API::Stack 1.302204
# Test2::Event 1.302204
# Test2::Event::Bail 1.302204
# Test2::Event::Diag 1.302204
# Test2::Event::Exception 1.302204
# Test2::Event::Fail 1.302204
# Test2::Event::Note 1.302204
# Test2::Event::Ok 1.302204
# Test2::Event::Pass 1.302204
# Test2::Event::Plan 1.302204
# Test2::Event::Skip 1.302204
# Test2::Event::Subtest 1.302204
# Test2::Event::V2 1.302204
# Test2::Event::Waiting 1.302204
# Test2::EventFacet 1.302204
# Test2::EventFacet::About 1.302204
# Test2::EventFacet::Amnesty 1.302204
# Test2::EventFacet::Assert 1.302204
# Test2::EventFacet::Control 1.302204
# Test2::EventFacet::Error 1.302204
# Test2::EventFacet::Hub 1.302204
# Test2::EventFacet::Info 1.302204
# Test2::EventFacet::Meta 1.302204
# Test2::EventFacet::Parent 1.302204
# Test2::EventFacet::Plan 1.302204
# Test2::EventFacet::Trace 1.302204
# Test2::Formatter 1.302204
# Test2::Formatter::TAP 1.302204
# Test2::Hub 1.302204
# Test2::Hub::Interceptor 1.302204
# Test2::Hub::Interceptor::Terminator 1.302204
# Test2::Hub::Subtest 1.302204
# Test2::Util 1.302204
# Test2::Util::ExternalMeta 1.302204
# Test2::Util::Facets2Legacy 1.302204
# Test2::Util::HashBase 1.302204
# Test2::Util::Trace 1.302204
# Text::Balanced 2.06
# Tie::Hash 1.05
# Time::HiRes 1.976402
# Time::Local 1.33
# Try::Tiny 0.32
# Types::Serialiser 1.0
# URI 5.29
# URI::Escape 5.29
# Variable::Magic 0.62
# WWW::Mechanize::Link 2.19
# WWW::Mechanize::PhantomJS 0.25
# WWW::Mechanize::Plugin::Selector 0.25
# Win32 0.59
# XSLoader 0.24
# XString 0.005
# attributes 0.27
# base 2.23
# bytes 1.05
# common::sense 3.74
# constant 1.33
# feature 1.42
# integer 1.01
# mro 1.18
# namespace::clean 0.27
# namespace::clean::_Util <unknown>
# overload 1.26
# overloading 0.02
# parent 0.242
# re 0.32
# strict 1.11
# vars 1.03
# warnings 1.36
# warnings::register 1.04
t/00-load.t ................... ok
# Loading C:\strawberry\cpan\build\WWW-Mechanize-PhantomJS-0.25-0\t\49-mech-get-file.html
# Loading C:\strawberry\cpan\build\WWW-Mechanize-PhantomJS-0.25-0\t\49-mech-get-file.html
t/49-mech-get-file.t .......... ok
# Going back
# Going forward
t/49-mech-nav.t ............... ok
t/49-port-twice.t ............. ok
t/49-port.t ................... ok
t/50-click.t .................. ok
t/50-follow-link.t ............ ok
t/50-form-with-fields.t ....... ok
t/50-form2.t .................. ok
t/50-highlight-nodes.t ........ ok
t/50-load-and-load.t .......... ok
t/50-mech-content.t ........... ok
t/50-mech-ct.t ................ ok
# 8035
# 11025
t/50-mech-encoding.t .......... ok
t/50-mech-error.t ............. ok
t/50-mech-find-link.t ......... ok
t/50-mech-forms.t ............. ok
t/50-mech-get-nocache.t ....... ok
t/50-mech-get.t ............... ok
# file:///C:/strawberry/cpan/build/WWW-Mechanize-PhantomJS-0.25-0/t/49-mech-get-file.html
t/50-mech-new-dsl.t ........... ok
t/50-mech-post.t .............. skipped: POST requests via Selenium/ghostdriver/PhantomJS are currently unsupported :-/
t/50-mech-status.t ............ ok
t/50-popup.t .................. skipped: Opening windows are not yet tracked
t/51-mech-form-with-fields.t .. ok
t/51-mech-links.t ............. ok
t/51-mech-set-content.t ....... ok
t/51-mech-submit.t ............ ok
# File loaded
t/53-mech-capture-js-error.t .. ok
t/56-render-content.t ......... ok
t/57-parallel.t ............... ok
t/58-alert.t .................. ok
t/59-confirm.t ................ ok
t/60-mech-custom-headers.t .... ok
# http://[::1]:49267/
t/70-real-status.t ............ ok
All tests successful.
Files=34, Tests=237, 197 wallclock secs ( 0.44 usr +  0.11 sys =  0.55 CPU)
Result: PASS

------------------------------
PREREQUISITES
------------------------------

Prerequisite modules loaded:

requires:

    Module                   Need  Have     
    ------------------------ ----- ---------
    Carp                     0     1.50     
    Filter::signatures       0.16  0.19     
    HTML::Selector::XPath    0     0.28     
    HTTP::Response           0     6.46     
    IO::Socket::INET         0     1.55     
    Object::Import           0     1.006    
    perl                     5.010 5.024000 
    Scalar::Util             0     1.66     
    Selenium::Remote::Driver 0.18  1.48     
    WWW::Mechanize::Link     0     2.19     

build_requires:

    Module                   Need  Have     
    ------------------------ ----- ---------
    ExtUtils::MakeMaker      0     7.71_01  
    File::Basename           0     2.85     
    File::Copy               0     2.31     
    File::Find               0     1.34     
    File::Path               0     2.18     
    File::Temp               0     0.2311   
    HTTP::Daemon             0     6.16     
    LWP::Simple              0     6.77     
    Test::HTTP::LocalServer  0     0.76     
    Test::More               0     1.302204 
    Time::HiRes              0     1.9764_02
    URI                      0     5.29     
    URI::file                0     5.29     

configure_requires:

    Module                   Need  Have     
    ------------------------ ----- ---------
    ExtUtils::MakeMaker      0     7.71_01  


------------------------------
ENVIRONMENT AND OTHER CONTEXT
------------------------------

Environment variables:

    COMSPEC = C:\windows\system32\cmd.exe
    NONINTERACTIVE_TESTING = 1
    NUMBER_OF_PROCESSORS = 4
    PATH = C:\phantomjs-2.1.1\bin;C:\home\west\perl5\bin;C:\windows\system32;C:\windows;C:\windows\System32\Wbem;C:\windows\System32\WindowsPowerShell\v1.0\;C:\Strawberry\c\bin;C:\Strawberry\perl\site\bin;C:\Strawberry\perl\bin
    PERL5LIB = C:\home\west\perl5\lib\perl5
    PERL5OPT = 
    PERL5_CPANPLUS_IS_RUNNING = 3688
    PERL5_CPAN_IS_RUNNING = 3688
    PERL_LOCAL_LIB_ROOT = C:\home\west\perl5
    PERL_MB_OPT = --install_base "C:\\home\\west\\perl5"
    PERL_MM_OPT = INSTALL_BASE=C:\\home\\west\\perl5
    PERL_MM_USE_DEFAULT = 1
    PERL_USE_UNSAFE_INC = 1
    PROCESSOR_IDENTIFIER = x86 Family 6 Model 37 Stepping 5, GenuineIntel
    TEMP = C:\Users\user\AppData\Local\Temp
    TERM = dumb

Perl special variables (and OS-specific diagnostics, for MSWin32):

    $^X = C:\Strawberry\perl\bin\perl.exe
    $UID/$EUID = 0 / 0
    $GID = 0
    $EGID = 0
    Win32::GetOSName = Win7
    Win32::GetOSVersion = Service Pack 1, 6, 1, 7601, 2, 1, 0, 256, 1
    Win32::FsType = NTFS
    Win32::IsAdminUser = 0

Perl module toolchain versions installed:

    Module              Have    
    ------------------- --------
    CPAN                2.34    
    CPAN::Meta          2.150010
    Cwd                 3.75    
    ExtUtils::CBuilder  0.280236
    ExtUtils::Command   7.71_01 
    ExtUtils::Install   2.22    
    ExtUtils::MakeMaker 7.71_01 
    ExtUtils::Manifest  1.75    
    ExtUtils::ParseXS   3.51    
    File::Spec          3.75    
    JSON                4.10    
    JSON::PP            4.17_01 
    Module::Build       0.4234  
    Module::Signature   0.89    
    Parse::CPAN::Meta   2.150010
    Test2               1.302204
    Test::Harness       3.50    
    Test::More          1.302204
    YAML                1.31    
    YAML::Syck          1.34    
    version             0.9933  


--

Summary of my perl5 (revision 5 version 24 subversion 0) configuration:
   
  Platform:
    osname=MSWin32, osvers=6.3, archname=MSWin32-x86-multi-thread-64int
    uname='Win32 strawberry-perl 5.24.0.1 #1 Tue May 10 17:10:11 2016 i386'
    config_args='undef'
    hint=recommended, useposix=true, d_sigaction=undef
    useithreads=define, usemultiplicity=define
    use64bitint=define, use64bitall=undef, uselongdouble=undef
    usemymalloc=n, bincompat5005=undef
  Compiler:
    cc='gcc', ccflags =' -s -O2 -DWIN32  -DPERL_TEXTMODE_SCRIPTS -DPERL_IMPLICIT_CONTEXT -DPERL_IMPLICIT_SYS -fwrapv -fno-strict-aliasing -mms-bitfields',
    optimize='-s -O2',
    cppflags='-DWIN32'
    ccversion='', gccversion='4.9.2', gccosandvers=''
    intsize=4, longsize=4, ptrsize=4, doublesize=8, byteorder=12345678, doublekind=3
    d_longlong=define, longlongsize=8, d_longdbl=define, longdblsize=12, longdblkind=3
    ivtype='long long', ivsize=8, nvtype='double', nvsize=8, Off_t='long long', lseeksize=8
    alignbytes=8, prototype=define
  Linker and Libraries:
    ld='g++', ldflags ='-s -L"C:\Strawberry\perl\lib\CORE" -L"C:\Strawberry\c\lib"'
    libpth=C:\Strawberry\c\lib C:\Strawberry\c\i686-w64-mingw32\lib C:\Strawberry\c\lib\gcc\i686-w64-mingw32\4.9.2
    libs=-lmoldname -lkernel32 -luser32 -lgdi32 -lwinspool -lcomdlg32 -ladvapi32 -lshell32 -lole32 -loleaut32 -lnetapi32 -luuid -lws2_32 -lmpr -lwinmm -lversion -lodbc32 -lodbccp32 -lcomctl32
    perllibs=-lmoldname -lkernel32 -luser32 -lgdi32 -lwinspool -lcomdlg32 -ladvapi32 -lshell32 -lole32 -loleaut32 -lnetapi32 -luuid -lws2_32 -lmpr -lwinmm -lversion -lodbc32 -lodbccp32 -lcomctl32
    libc=, so=dll, useshrplib=true, libperl=libperl524.a
    gnulibc_version=''
  Dynamic Linking:
    dlsrc=dl_win32.xs, dlext=xs.dll, d_dlsymun=undef, ccdlflags=' '
    cccdlflags=' ', lddlflags='-mdll -s -L"C:\Strawberry\perl\lib\CORE" -L"C:\Strawberry\c\lib"'


Characteristics of this binary (from libperl): 
  Compile-time options: HAS_TIMES HAVE_INTERP_INTERN MULTIPLICITY
                        PERLIO_LAYERS PERL_COPY_ON_WRITE
                        PERL_DONT_CREATE_GVSV
                        PERL_HASH_FUNC_ONE_AT_A_TIME_HARD
                        PERL_IMPLICIT_CONTEXT PERL_IMPLICIT_SYS
                        PERL_MALLOC_WRAP PERL_PRESERVE_IVUV USE_64_BIT_INT
                        USE_ITHREADS USE_LARGE_FILES USE_LOCALE
                        USE_LOCALE_COLLATE USE_LOCALE_CTYPE
                        USE_LOCALE_NUMERIC USE_LOCALE_TIME USE_PERLIO
                        USE_PERL_ATOF
  Built under MSWin32
  Compiled at May 10 2016 17:20:50
  %ENV:
    PERL5LIB="C:\home\west\perl5\lib\perl5"
    PERL5_CPANPLUS_IS_RUNNING="3688"
    PERL5_CPAN_IS_RUNNING="3688"
    PERL_LOCAL_LIB_ROOT="C:\home\west\perl5"
    PERL_MB_OPT="--install_base "C:\\home\\west\\perl5""
    PERL_MM_OPT="INSTALL_BASE=C:\\home\\west\\perl5"
    PERL_MM_USE_DEFAULT="1"
    PERL_USE_UNSAFE_INC="1"
  @INC:
    C:\home\west\perl5\lib\perl5/MSWin32-x86-multi-thread-64int
    C:\home\west\perl5\lib\perl5
    C:/Strawberry/perl/site/lib
    C:/Strawberry/perl/vendor/lib
    C:/Strawberry/perl/lib
    .