Log-Handler v0.90 Perl 5 v5.30.1 i86pc-solaris-ld
- Status
- Pass
- From
- Nigel Horne
- Dist
-
Log-Handler v0.90
- Platform
- Perl 5 v5.30.1 i86pc-solaris-ld
- Date
- 2020-07-12 21:59:59
- ID
- 0796e1f8-c48b-11ea-94db-e8d5c181c852
This distribution has been tested as part of the CPAN Testers
project, supporting the Perl programming language. See
http://wiki.cpantesters.org/ for more information or email
questions to cpan-testers-discuss@perl.org
--
Dear Jonny Schulz,
This is a computer-generated report for Log-Handler-0.90
on perl 5.30.1, created by CPAN-Reporter-1.2018.
Thank you for uploading your work to CPAN. Congratulations!
All tests were successful.
Sections of this report:
* Tester comments
* Program output
* Prerequisites
* Environment and other context
------------------------------
TESTER COMMENTS
------------------------------
Additional comments from tester:
this report is from an automated smoke testing program
and was not reviewed by a human for accuracy
------------------------------
PROGRAM OUTPUT
------------------------------
Output from './Build test':
t/000-use.t ...................... ok
t/001-pod.t ...................... ok
t/002-pod-coverage.t ............. ok
t/010-handler.t .................. ok
t/011-handler-set-pattern.t ...... ok
t/012-handler-message-pattern.t .. ok
t/013-handler-priority.t ......... ok
t/014-handler-reload.t ........... ok
t/015-handler-filter-caller.t .... ok
t/015-handler-filter-message.t ... ok
t/016-handler-alias.t ............ ok
t/017-handler-special-levels.t ... ok
t/018-handler-logger.t ........... ok
t/019-handler-setlevel.t ......... ok
t/020-output-forward.t ........... ok
t/030-output-file.t .............. ok
t/040-output-email.t ............. skipped: No Email::Date installed
t/045-output-sendmail.t .......... ok
t/050-output-dbi.t ............... ok
t/060-output-socket.t ............ skipped: Set $ENV{LOG_HANDLER_SOCK_TEST} to 1 to enable this test
t/090-test-undef.t ............... ok
t/100-config.t ................... ok
All tests successful.
Files=22, Tests=195, 4 wallclock secs ( 0.09 usr 0.06 sys + 2.31 cusr 0.63 csys = 3.09 CPU)
Result: PASS
------------------------------
PREREQUISITES
------------------------------
Prerequisite modules loaded:
requires:
Module Need Have
---------------- ---- --------
Carp 0 1.50
Data::Dumper 0 2.174
Fcntl 0 1.13
File::Spec 0 3.78
Params::Validate 0 1.29
POSIX 0 1.88
Sys::Hostname 0 1.22
Test::More 0 1.302169
Time::HiRes 0 1.9760
UNIVERSAL 0 1.13
configure_requires:
Module Need Have
---------------- ---- --------
Module::Build 0.42 0.4229
------------------------------
ENVIRONMENT AND OTHER CONTEXT
------------------------------
Environment variables:
AUTOMATED_TESTING = 1
NONINTERACTIVE_TESTING = 1
PATH = /export/home/njh/perl5/perlbrew/bin:/export/home/njh/perl5/perlbrew/perls/perl-5.30.1-ld/bin:/export/home/njh/src/njh/smoker/bin:/usr/bin
PERL5LIB = /export/home/njh/.cpan/build/CLI-Osprey-0.08-0/blib/arch:/export/home/njh/.cpan/build/CLI-Osprey-0.08-0/blib/lib:/export/home/njh/.cpan/build/Test-Lib-0.002-0/blib/arch:/export/home/njh/.cpan/build/Test-Lib-0.002-0/blib/lib:/export/home/njh/.cpan/build/Getopt-Long-Descriptive-0.105-0/blib/arch:/export/home/njh/.cpan/build/Getopt-Long-Descriptive-0.105-0/blib/lib:/export/home/njh/.cpan/build/Params-Validate-1.29-0/blib/arch:/export/home/njh/.cpan/build/Params-Validate-1.29-0/blib/lib
PERL5OPT =
PERL5_CPANPLUS_IS_RUNNING = 2789
PERL5_CPAN_IS_RUNNING = 2789
PERL5_CPAN_IS_RUNNING_IN_RECURSION = 2770,2789
PERLBREW_HOME = /export/home/njh/.perlbrew
PERLBREW_MANPATH = /export/home/njh/perl5/perlbrew/perls/perl-5.30.1-ld/man
PERLBREW_PATH = /export/home/njh/perl5/perlbrew/bin:/export/home/njh/perl5/perlbrew/perls/perl-5.30.1-ld/bin
PERLBREW_PERL = perl-5.30.1-ld
PERLBREW_ROOT = /export/home/njh/perl5/perlbrew
PERLBREW_SHELLRC_VERSION = 0.88
PERLBREW_VERSION = 0.88
PERL_MM_USE_DEFAULT = 1
PERL_USE_UNSAFE_INC = 1
SHELL = /usr/bin/bash
TERM = dumb
TMPDIR = /tmp/testwrapper.2773
Perl special variables (and OS-specific diagnostics, for MSWin32):
$^X = /export/home/njh/perl5/perlbrew/perls/perl-5.30.1-ld/bin/perl5.30.1
$UID/$EUID = 101 / 101
$GID = 10 10
$EGID = 10 10
Perl module toolchain versions installed:
Module Have
------------------- --------
CPAN 2.27
CPAN::Meta 2.150010
Cwd 3.78
ExtUtils::CBuilder 0.280231
ExtUtils::Command 7.46
ExtUtils::Install 2.14
ExtUtils::MakeMaker 7.46
ExtUtils::Manifest 1.72
ExtUtils::ParseXS 3.40
File::Spec 3.78
JSON 4.02
JSON::PP 4.04
Module::Build 0.4229
Module::Signature n/a
Parse::CPAN::Meta 2.150010
Test::Harness 3.42
Test::More 1.302169
YAML 1.30
YAML::Syck 1.32
version 0.9924
--
Summary of my perl5 (revision 5 version 30 subversion 1) configuration:
Platform:
osname=solaris
osvers=2.11
archname=i86pc-solaris-ld
uname='sunos vultr1.bandsman.co.uk 5.11 illumos-7d1eae8c55 i86pc i386 i86pc '
config_args='-de -Dprefix=/export/home/njh/perl5/perlbrew/perls/perl-5.30.1-ld -Dusedevel -Duselongdouble -Accflags=-O2 -xstrconst -D__EXTENSIONS__ -Aeval:scriptdir=/export/home/njh/perl5/perlbrew/perls/perl-5.30.1-ld/bin'
hint=recommended
useposix=true
d_sigaction=define
useithreads=undef
usemultiplicity=undef
use64bitint=undef
use64bitall=undef
uselongdouble=define
usemymalloc=n
default_inc_excludes_dot=define
bincompat5005=undef
Compiler:
cc='/opt/SUNWspro/bin/cc'
ccflags ='-O2 -xstrconst -D__EXTENSIONS__ -I/usr/gnu/include -D_LARGEFILE_SOURCE -D_FILE_OFFSET_BITS=64 -DPERL_USE_SAFE_PUTENV'
optimize='-O'
cppflags='-O2 -xstrconst -D__EXTENSIONS__ -I/usr/gnu/include'
ccversion='Sun C 5.10 SunOS_i386 2009/06/03'
gccversion=''
gccosandvers=''
intsize=4
longsize=4
ptrsize=4
doublesize=8
byteorder=1234
doublekind=3
d_longlong=define
longlongsize=8
d_longdbl=define
longdblsize=12
longdblkind=3
ivtype='long'
ivsize=4
nvtype='long double'
nvsize=12
Off_t='off_t'
lseeksize=8
alignbytes=4
prototype=define
Linker and Libraries:
ld='/opt/SUNWspro/bin/cc'
ldflags =' -L/usr/lib -L/usr/ccs/lib -L/opt/sunstudio12.1/prod/lib -L/lib -L/usr/gnu/lib '
libpth=/usr/lib /usr/ccs/lib /opt/sunstudio12.1/prod/lib /lib /usr/gnu/lib
libs=-lpthread -lsocket -lnsl -lgdbm -ldb -ldl -lm -lc -lsunmath
perllibs=-lpthread -lsocket -lnsl -ldl -lm -lc -lsunmath
libc=/lib/libc.so
so=so
useshrplib=true
libperl=libperl.so
gnulibc_version=''
Dynamic Linking:
dlsrc=dl_dlopen.xs
dlext=so
d_dlsymun=undef
ccdlflags=' -R /export/home/njh/perl5/perlbrew/perls/perl-5.30.1-ld/lib/5.30.1/i86pc-solaris-ld/CORE'
cccdlflags='-KPIC'
lddlflags='-G -L/usr/lib -L/usr/ccs/lib -L/opt/sunstudio12.1/prod/lib -L/lib -L/usr/gnu/lib'
Characteristics of this binary (from libperl):
Compile-time options:
HAS_TIMES
PERLIO_LAYERS
PERL_COPY_ON_WRITE
PERL_DONT_CREATE_GVSV
PERL_MALLOC_WRAP
PERL_OP_PARENT
PERL_PRESERVE_IVUV
PERL_USE_DEVEL
PERL_USE_SAFE_PUTENV
USE_LARGE_FILES
USE_LOCALE
USE_LOCALE_COLLATE
USE_LOCALE_CTYPE
USE_LOCALE_NUMERIC
USE_LOCALE_TIME
USE_LONG_DOUBLE
USE_PERLIO
USE_PERL_ATOF
Locally applied patches:
Devel::PatchPerl 1.52
Built under solaris
Compiled at Nov 10 2019 18:11:14
%ENV:
PERL5LIB="/export/home/njh/.cpan/build/CLI-Osprey-0.08-0/blib/arch:/export/home/njh/.cpan/build/CLI-Osprey-0.08-0/blib/lib:/export/home/njh/.cpan/build/Test-Lib-0.002-0/blib/arch:/export/home/njh/.cpan/build/Test-Lib-0.002-0/blib/lib:/export/home/njh/.cpan/build/Getopt-Long-Descriptive-0.105-0/blib/arch:/export/home/njh/.cpan/build/Getopt-Long-Descriptive-0.105-0/blib/lib:/export/home/njh/.cpan/build/Params-Validate-1.29-0/blib/arch:/export/home/njh/.cpan/build/Params-Validate-1.29-0/blib/lib"
PERL5OPT=""
PERL5_CPANPLUS_IS_RUNNING="2789"
PERL5_CPAN_IS_RUNNING="2789"
PERL5_CPAN_IS_RUNNING_IN_RECURSION="2770,2789"
PERLBREW_HOME="/export/home/njh/.perlbrew"
PERLBREW_MANPATH="/export/home/njh/perl5/perlbrew/perls/perl-5.30.1-ld/man"
PERLBREW_PATH="/export/home/njh/perl5/perlbrew/bin:/export/home/njh/perl5/perlbrew/perls/perl-5.30.1-ld/bin"
PERLBREW_PERL="perl-5.30.1-ld"
PERLBREW_ROOT="/export/home/njh/perl5/perlbrew"
PERLBREW_SHELLRC_VERSION="0.88"
PERLBREW_VERSION="0.88"
PERL_MM_USE_DEFAULT="1"
PERL_USE_UNSAFE_INC="1"
@INC:
/export/home/njh/.cpan/build/CLI-Osprey-0.08-0/blib/arch
/export/home/njh/.cpan/build/CLI-Osprey-0.08-0/blib/lib
/export/home/njh/.cpan/build/Test-Lib-0.002-0/blib/arch
/export/home/njh/.cpan/build/Test-Lib-0.002-0/blib/lib
/export/home/njh/.cpan/build/Getopt-Long-Descriptive-0.105-0/blib/arch
/export/home/njh/.cpan/build/Getopt-Long-Descriptive-0.105-0/blib/lib
/export/home/njh/.cpan/build/Params-Validate-1.29-0/blib/arch
/export/home/njh/.cpan/build/Params-Validate-1.29-0/blib/lib
/export/home/njh/perl5/perlbrew/perls/perl-5.30.1-ld/lib/site_perl/5.30.1/i86pc-solaris-ld
/export/home/njh/perl5/perlbrew/perls/perl-5.30.1-ld/lib/site_perl/5.30.1
/export/home/njh/perl5/perlbrew/perls/perl-5.30.1-ld/lib/5.30.1/i86pc-solaris-ld
/export/home/njh/perl5/perlbrew/perls/perl-5.30.1-ld/lib/5.30.1
.