Report for MooseX-Meta-TypeConstraint-Mooish-0.001

Back
From: metabase:user:314402c4-2aae-11df-837a-5e0a49663a4f
Subject: PASS MooseX-Meta-TypeConstraint-Mooish-0.001 v5.24.0 GNU/Linux
Date: 2017-02-24T00:56:09Z

This distribution has been tested as part of the CPAN Testers
project, supporting the Perl programming language.  See
http://wiki.cpantesters.org/ for more information or email
questions to cpan-testers-discuss@perl.org


--
Dear Chris Weyl,

This is a computer-generated report for MooseX-Meta-TypeConstraint-Mooish-0.001
on perl 5.24.0, created by CPAN-Reporter-1.2018.

Thank you for uploading your work to CPAN.  Congratulations!
All tests were successful.

Sections of this report:

    * Tester comments
    * Program output
    * Prerequisites
    * Environment and other context

------------------------------
TESTER COMMENTS
------------------------------

Additional comments from tester:

none provided

------------------------------
PROGRAM OUTPUT
------------------------------

Output from '/usr/bin/make test':

PERL_DL_NONLAZY=1 "/opt/perl-5.24.0/bin/perl5.24.0" "-MExtUtils::Command::MM" "-MTest::Harness" "-e" "undef *Test::Harness::Switches; test_harness(0, 'blib/lib', 'blib/arch')" t/*.t
t/00-check-deps.t ............. ok
t/00-compile.t ................ ok
# 
# 
# Generated by Dist::Zilla::Plugin::ReportVersions::Tiny v1.10
# perl: 5.024000 (wanted 5.006) on linux from /opt/perl-5.24.0/bin/perl5.24.0
# 
# ExtUtils::MakeMaker                           => 7.24       (want any version)
# File::Spec                                    => 3.63       (want any version)
# IO::Handle                                    => 1.36       (want any version)
# IPC::Open3                                    => 1.20       (want any version)
# Moose                                         => 2.2004     (want any version)
# Moose::Meta::TypeConstraint                   => 2.2004     (want any version)
# Moose::Role                                   => 2.2004     (want any version)
# Test::CheckDeps                               => 0.010      (want 0.010)  
# Test::Fatal                                   => 0.014      (want any version)
# Test::Moose::More                             => 0.043      (want 0.028)  
# Test::More                                    => 1.302075   (want 0.94)   
# Try::Tiny                                     => 0.28       (want any version)
# aliased                                       => 0.34       (want any version)
# namespace::autoclean                          => 0.28       (want 0.24)   
# strict                                        => 1.11       (want any version)
# warnings                                      => 1.36       (want any version)
# 
# Thanks for using my code.  I hope it works for you.
# If not, please try and include this output in the bug report.
# That will help me reproduce the issue and solve your problem.
# 
t/000-report-versions-tiny.t .. ok
t/isa-mooish.t ................ ok
t/public-interface.t .......... ok
All tests successful.
Files=5, Tests=44,  2 wallclock secs ( 0.04 usr  0.01 sys +  1.78 cusr  0.14 csys =  1.97 CPU)
Result: PASS

------------------------------
PREREQUISITES
------------------------------

Prerequisite modules loaded:

requires:

    Module                      Need  Have    
    --------------------------- ----- --------
    Moose                       0     2.2004  
    Moose::Meta::TypeConstraint 0     2.2004  
    Moose::Role                 0     2.2004  
    namespace::autoclean        0.24  0.28    
    perl                        5.006 5.024000
    Try::Tiny                   0     0.28    

build_requires:

    Module                      Need  Have    
    --------------------------- ----- --------
    aliased                     0     0.34    
    ExtUtils::MakeMaker         0     7.24    
    File::Spec                  0     3.63    
    IO::Handle                  0     1.36    
    IPC::Open3                  0     1.20    
    strict                      0     1.11    
    Test::CheckDeps             0.010 0.010   
    Test::Fatal                 0     0.014   
    Test::Moose::More           0.028 0.043   
    Test::More                  0.94  1.302075
    warnings                    0     1.36    

configure_requires:

    Module                      Need  Have    
    --------------------------- ----- --------
    ExtUtils::MakeMaker         0     7.24    
    perl                        5.006 5.024000


------------------------------
ENVIRONMENT AND OTHER CONTEXT
------------------------------

Environment variables:

    LANG = en_US.UTF-8
    PATH = /usr/local/bin:/usr/bin:/bin:/usr/local/sbin:/usr/sbin:/sbin:/home/cpansand/bin/linux-gnu:/home/cpansand/bin/sh:/home/cpansand/bin:/usr/games:/home/cpansand/devel:/home/eserte/src/srezic-misc/scripts
    PERL5LIB = 
    PERL5OPT = 
    PERL5_CPANPLUS_IS_RUNNING = 9514
    PERL5_CPAN_IS_RUNNING = 9514
    PERL5_CPAN_IS_RUNNING_IN_RECURSION = 9856,9514
    PERLDOC = -MPod::Perldoc::ToTextOverstrike
    PERL_BATCH = yes
    PERL_CANARY_STABILITY_NOPROMPT = 1
    PERL_CPAN_REPORTER_CONFIG = /var/tmp/cpansmoker-1002/2017022318/cpanreporter_003_config.ini
    PERL_EXTUTILS_AUTOINSTALL = --defaultdeps
    SHELL = /bin/zsh
    TERM = screen
    TMPDIR = /var/tmp/cpansmoker-1002/2017022318

Perl special variables (and OS-specific diagnostics, for MSWin32):

    $^X = /opt/perl-5.24.0/bin/perl5.24.0
    $UID/$EUID = 1002 / 1002
    $GID = 1002 1002
    $EGID = 1002 1002

Perl module toolchain versions installed:

    Module              Have    
    ------------------- --------
    CPAN                2.16    
    CPAN::Meta          2.150005
    Cwd                 3.63    
    ExtUtils::CBuilder  0.280225
    ExtUtils::Command   7.24    
    ExtUtils::Install   2.04    
    ExtUtils::MakeMaker 7.24    
    ExtUtils::Manifest  1.70    
    ExtUtils::ParseXS   3.31    
    File::Spec          3.63    
    JSON                2.90    
    JSON::PP            2.27300 
    Module::Build       0.4220  
    Module::Signature   n/a     
    Parse::CPAN::Meta   1.4417  
    Test::Harness       3.36    
    Test::More          1.302075
    YAML                1.23    
    YAML::Syck          1.29    
    version             0.9916  


--

Summary of my perl5 (revision 5 version 24 subversion 0) configuration:
   
  Platform:
    osname=linux, osvers=3.10.0-514.6.2.el7.x86_64, archname=x86_64-linux
    uname='linux prod5 3.10.0-514.6.2.el7.x86_64 #1 smp thu feb 23 03:04:39 utc 2017 x86_64 x86_64 x86_64 gnulinux '
    config_args='-ds -e -Dprefix=/opt/perl-5.24.0 -Dcf_email=srezic@cpan.org'
    hint=recommended, useposix=true, d_sigaction=define
    useithreads=undef, usemultiplicity=undef
    use64bitint=define, use64bitall=define, uselongdouble=undef
    usemymalloc=n, bincompat5005=undef
  Compiler:
    cc='cc', ccflags ='-fwrapv -fno-strict-aliasing -pipe -fstack-protector-strong -I/usr/local/include -D_LARGEFILE_SOURCE -D_FILE_OFFSET_BITS=64 -D_FORTIFY_SOURCE=2',
    optimize='-O2',
    cppflags='-fwrapv -fno-strict-aliasing -pipe -fstack-protector-strong -I/usr/local/include'
    ccversion='', gccversion='4.8.5 20150623 (Red Hat 4.8.5-11)', gccosandvers=''
    intsize=4, longsize=8, ptrsize=8, doublesize=8, byteorder=12345678, doublekind=3
    d_longlong=define, longlongsize=8, d_longdbl=define, longdblsize=16, longdblkind=3
    ivtype='long', ivsize=8, nvtype='double', nvsize=8, Off_t='off_t', lseeksize=8
    alignbytes=8, prototype=define
  Linker and Libraries:
    ld='cc', ldflags =' -fstack-protector-strong -L/usr/local/lib'
    libpth=/usr/local/lib /usr/lib /lib/../lib64 /usr/lib/../lib64 /lib /lib64 /usr/lib64 /usr/local/lib64
    libs=-lpthread -lnsl -lgdbm -ldb -ldl -lm -lcrypt -lutil -lc -lgdbm_compat
    perllibs=-lpthread -lnsl -ldl -lm -lcrypt -lutil -lc
    libc=libc-2.17.so, so=so, useshrplib=false, libperl=libperl.a
    gnulibc_version='2.17'
  Dynamic Linking:
    dlsrc=dl_dlopen.xs, dlext=so, d_dlsymun=undef, ccdlflags='-Wl,-E'
    cccdlflags='-fPIC', lddlflags='-shared -O2 -L/usr/local/lib -fstack-protector-strong'


Characteristics of this binary (from libperl): 
  Compile-time options: HAS_TIMES PERLIO_LAYERS PERL_COPY_ON_WRITE
                        PERL_DONT_CREATE_GVSV
                        PERL_HASH_FUNC_ONE_AT_A_TIME_HARD PERL_MALLOC_WRAP
                        PERL_PRESERVE_IVUV USE_64_BIT_ALL USE_64_BIT_INT
                        USE_LARGE_FILES USE_LOCALE USE_LOCALE_COLLATE
                        USE_LOCALE_CTYPE USE_LOCALE_NUMERIC USE_LOCALE_TIME
                        USE_PERLIO USE_PERL_ATOF
  Built under linux
  Compiled at Feb 23 2017 19:17:45
  %ENV:
    PERL5LIB=""
    PERL5OPT=""
    PERL5_CPANPLUS_IS_RUNNING="9514"
    PERL5_CPAN_IS_RUNNING="9514"
    PERL5_CPAN_IS_RUNNING_IN_RECURSION="9856,9514"
    PERLDOC="-MPod::Perldoc::ToTextOverstrike"
    PERL_BATCH="yes"
    PERL_CANARY_STABILITY_NOPROMPT="1"
    PERL_CPAN_REPORTER_CONFIG="/var/tmp/cpansmoker-1002/2017022318/cpanreporter_003_config.ini"
    PERL_EXTUTILS_AUTOINSTALL="--defaultdeps"
  @INC:
    /opt/perl-5.24.0/lib/site_perl/5.24.0/x86_64-linux
    /opt/perl-5.24.0/lib/site_perl/5.24.0
    /opt/perl-5.24.0/lib/5.24.0/x86_64-linux
    /opt/perl-5.24.0/lib/5.24.0
    .