Spreadsheet-ReadSXC v0.35 Perl 5 v5.35.6 x86_64-linux

Status
Pass
From
Andreas J. König (ANDK)
Dist
Spreadsheet-ReadSXC v0.35
Platform
Perl 5 v5.35.6 x86_64-linux
Date
2021-10-30 23:06:35
ID
0750b00e-39d6-11ec-bc66-dfa8e44d19e5
This distribution has been tested as part of the CPAN Testers
project, supporting the Perl programming language.  See
http://wiki.cpantesters.org/ for more information or email
questions to cpan-testers-discuss@perl.org


--
Dear Max Maischein,

This is a computer-generated report for Spreadsheet-ReadSXC-0.35
on perl 5.35.6, created by CPAN-Reporter-1.2018.

Thank you for uploading your work to CPAN.  Congratulations!
All tests were successful.

Sections of this report:

    * Tester comments
    * Program output
    * Prerequisites
    * Environment and other context

------------------------------
TESTER COMMENTS
------------------------------

Additional comments from tester:

this report is from an automated smoke testing program
and was not reviewed by a human for accuracy

------------------------------
PROGRAM OUTPUT
------------------------------

Output from '/usr/bin/make test':

PERL_DL_NONLAZY=1 "/tmp/basesmoker-reloperl-xjZU/bin/perl" "-MExtUtils::Command::MM" "-MTest::Harness" "-e" "undef *Test::Harness::Switches; test_harness(0, 'blib/lib', 'blib/arch')" t/00-load.t t/01-parseods.t t/02-read-fh.t t/02-read-xml-file.t t/03-error-handling.t t/04-hidden-sheet.t t/04-text-outside-xml.t t/05-print-area.t t/06-cell-hyperlink.t t/07-hidden-cols.t t/07-hidden-rows.t t/07-print-headings.t t/08-color.t t/09-formula.t t/1.t t/10-wide-col2int.t t/11-date-formats.t t/12-active-sheet-name.t t/13-merged-areas.t t/14-no-settings.t t/15-gh3-warnings-with-empty-sheet-name.t t/16-gh5-custom-styles.t t/16-warnings-with-styles.t t/17-gh7-OrderBySheet.t t/regression-hidden-cols.t t/regression-hidden-rows.t t/regression-newapi.t t/regression-stockchart.t
# Testing Spreadsheet::ReadSXC 0.35, Perl 5.035006
# Archive::Zip 1.68
# Archive::Zip::Archive 1.68
# Archive::Zip::DirectoryMember 1.68
# Archive::Zip::FileMember 1.68
# Archive::Zip::Member 1.68
# Archive::Zip::NewFileMember 1.68
# Archive::Zip::StringMember 1.68
# Archive::Zip::ZipFileMember 1.68
# AutoLoader 5.74
# B 1.83
# Carp 1.52
# Carp::Heavy 1.52
# Class::XSAccessor 1.19
# Class::XSAccessor::Heavy 1.19
# Compress::Raw::Zlib 2.101
# Config 5.035006
# Cwd 3.82
# Encode 3.16
# Encode::Alias 2.24
# Encode::Config 2.05
# Encode::ConfigLocal 1635595363
# Encode::Encoding 2.08
# Encode::MIME::Name 1.03
# Errno 1.35
# Exporter 5.77
# Exporter::Heavy 5.77
# ExtUtils::Liblist 7.62
# ExtUtils::Liblist::Kid 7.62
# ExtUtils::MM 7.62
# ExtUtils::MM_Any 7.62
# ExtUtils::MM_Unix 7.62
# ExtUtils::MY 7.62
# ExtUtils::MakeMaker 7.62
# ExtUtils::MakeMaker::Config 7.62
# ExtUtils::MakeMaker::Locale 7.62
# ExtUtils::MakeMaker::version 7.62
# Fcntl 1.15
# File::Basename 2.85
# File::Copy 2.37
# File::Find 1.39_01
# File::Glob 1.36
# File::Path 2.18
# File::Spec 3.81
# File::Spec::Unix 3.82
# File::Temp 0.2311
# FileHandle 2.03
# Filter::Simple 0.96
# Filter::Util::Call 1.6
# Filter::signatures 0.17
# I18N::Langinfo 0.21
# IO 1.48
# IO::File 1.48
# IO::Handle 1.48
# IO::Seekable 1.48
# List::Util 1.60
# Log::Agent 1.005
# Log::Agent::Formatting <unknown>
# Log::Agent::Message <unknown>
# Log::Agent::Priorities <unknown>
# Method::Generate::Accessor <unknown>
# Method::Generate::Constructor <unknown>
# Moo 2.005004
# Moo::Object <unknown>
# Moo::_Utils <unknown>
# Moo::sification <unknown>
# POSIX 2.01
# PerlIO 1.12
# PerlX::Maybe 1.201
# PerlX::Maybe::XS 1.001
# Scalar::Util 1.60
# SelectSaver 1.02
# Spreadsheet::ParseODS 0.35
# Spreadsheet::ParseODS::Cell 0.35
# Spreadsheet::ParseODS::Settings 0.35
# Spreadsheet::ParseODS::Styles 0.35
# Spreadsheet::ParseODS::Workbook 0.35
# Spreadsheet::ParseODS::Worksheet 0.35
# Spreadsheet::ReadSXC 0.35
# Storable 3.25
# Sub::Defer 2.006006
# Sub::Quote 2.006006
# Sub::Util 1.60
# Symbol 1.09
# Test::Builder 1.302188
# Test::Builder::Formatter 1.302188
# Test::Builder::Module 1.302188
# Test::Builder::TodoDiag 1.302188
# Test::More 1.302188
# Test2::API 1.302188
# Test2::API::Context 1.302188
# Test2::API::Instance 1.302188
# Test2::API::Stack 1.302188
# Test2::Event 1.302188
# Test2::Event::Bail 1.302188
# Test2::Event::Diag 1.302188
# Test2::Event::Exception 1.302188
# Test2::Event::Fail 1.302188
# Test2::Event::Note 1.302188
# Test2::Event::Ok 1.302188
# Test2::Event::Pass 1.302188
# Test2::Event::Plan 1.302188
# Test2::Event::Skip 1.302188
# Test2::Event::Subtest 1.302188
# Test2::Event::V2 1.302188
# Test2::Event::Waiting 1.302188
# Test2::EventFacet 1.302188
# Test2::EventFacet::About 1.302188
# Test2::EventFacet::Amnesty 1.302188
# Test2::EventFacet::Assert 1.302188
# Test2::EventFacet::Control 1.302188
# Test2::EventFacet::Error 1.302188
# Test2::EventFacet::Hub 1.302188
# Test2::EventFacet::Info 1.302188
# Test2::EventFacet::Meta 1.302188
# Test2::EventFacet::Parent 1.302188
# Test2::EventFacet::Plan 1.302188
# Test2::EventFacet::Trace 1.302188
# Test2::Formatter 1.302188
# Test2::Formatter::TAP 1.302188
# Test2::Hub 1.302188
# Test2::Hub::Interceptor 1.302188
# Test2::Hub::Interceptor::Terminator 1.302188
# Test2::Hub::Subtest 1.302188
# Test2::Util 1.302188
# Test2::Util::ExternalMeta 1.302188
# Test2::Util::Facets2Legacy 1.302188
# Test2::Util::HashBase 1.302188
# Test2::Util::Trace 1.302188
# Text::Balanced 2.04
# Tie::Hash 1.06
# Time::HiRes 1.9769
# Time::Local 1.30
# UNIVERSAL 1.14
# XML::Parser 2.46
# XML::Parser::Expat 2.46
# XML::Twig 3.52
# XML::Twig::XPath 0.02
# XML::XPathEngine 0.14
# XML::XPathEngine::Boolean <unknown>
# XML::XPathEngine::Expr <unknown>
# XML::XPathEngine::Function <unknown>
# XML::XPathEngine::Literal <unknown>
# XML::XPathEngine::LocationPath <unknown>
# XML::XPathEngine::NodeSet <unknown>
# XML::XPathEngine::Number <unknown>
# XML::XPathEngine::Root <unknown>
# XML::XPathEngine::Step <unknown>
# XML::XPathEngine::Variable <unknown>
# XSLoader 0.31
# base 2.27
# bytes 1.08
# constant 1.33
# feature 1.68
# integer 1.01
# mro 1.26
# overload 1.33
# overloading 0.02
# parent 0.238
# strict 1.12
# utf8 1.24
# vars 1.05
# version 0.9929
# version::regex 0.9929
# warnings 1.55
# warnings::register 1.04
t/00-load.t ................................ ok
t/01-parseods.t ............................ ok
t/02-read-fh.t ............................. ok
t/02-read-xml-file.t ....................... ok
t/03-error-handling.t ...................... ok
t/04-hidden-sheet.t ........................ ok
t/04-text-outside-xml.t .................... ok
t/05-print-area.t .......................... ok
t/06-cell-hyperlink.t ...................... ok
t/07-hidden-cols.t ......................... ok
t/07-hidden-rows.t ......................... ok
t/07-print-headings.t ...................... ok
t/08-color.t ............................... ok
t/09-formula.t ............................. ok
t/1.t ...................................... ok
t/10-wide-col2int.t ........................ ok
t/11-date-formats.t ........................ ok
t/12-active-sheet-name.t ................... ok
t/13-merged-areas.t ........................ ok
t/14-no-settings.t ......................... ok
t/15-gh3-warnings-with-empty-sheet-name.t .. ok
t/16-gh5-custom-styles.t ................... ok
t/16-warnings-with-styles.t ................ ok
t/17-gh7-OrderBySheet.t .................... ok
t/regression-hidden-cols.t ................. ok
t/regression-hidden-rows.t ................. ok
t/regression-newapi.t ...................... ok
t/regression-stockchart.t .................. ok
All tests successful.
Files=28, Tests=276, 12 wallclock secs ( 0.07 usr  0.07 sys + 10.17 cusr  1.04 csys = 11.35 CPU)
Result: PASS

------------------------------
PREREQUISITES
------------------------------

Prerequisite modules loaded:

requires:

    Module              Need  Have    
    ------------------- ----- --------
    Archive::Zip        1.34  1.68    
    Carp                0     1.52    
    Filter::signatures  0.16  0.17    
    Moo                 2     2.005004
    perl                5.010 5.035006
    PerlIO::gzip        0     0.20    
    PerlX::Maybe        0     1.201   
    Scalar::Util        0     1.60    
    Storable            0     3.25    
    XML::Twig           0     3.52    
    XML::Twig::XPath    0     0.02    
    XML::XPath          0     1.44    
    XML::XPathEngine    0     0.14    

build_requires:

    Module              Need  Have    
    ------------------- ----- --------
    Data::Dumper        0     2.183   
    ExtUtils::MakeMaker 0     7.62    
    File::Basename      0     2.85    
    File::Temp          0     0.2311  
    Test::More          0     1.302188

configure_requires:

    Module              Need  Have    
    ------------------- ----- --------
    ExtUtils::MakeMaker 0     7.62    


------------------------------
ENVIRONMENT AND OTHER CONTEXT
------------------------------

Environment variables:

    AUTOMATED_TESTING = 1
    LANG = en_US.UTF-8
    PATH = /home/sand/bin:/usr/local/bin:/usr/bin:/bin:/usr/games:/usr/local/perl/bin:/usr/X11/bin:/sbin:/usr/sbin
    PERL5LIB = 
    PERL5OPT = 
    PERL5_CPANPLUS_IS_RUNNING = 1146093
    PERL5_CPAN_IS_RUNNING = 1146093
    PERL_CANARY_STABILITY_NOPROMPT = 1
    PERL_MM_USE_DEFAULT = 1
    PERL_USE_UNSAFE_INC = 1
    SHELL = /usr/bin/zsh
    TERM = screen

Perl special variables (and OS-specific diagnostics, for MSWin32):

    $^X = /tmp/basesmoker-reloperl-xjZU/bin/perl
    $UID/$EUID = 1005 / 1005
    $GID = 1005 1005
    $EGID = 1005 1005

Perl module toolchain versions installed:

    Module              Have    
    ------------------- --------
    CPAN                2.28    
    CPAN::Meta          2.150010
    Cwd                 3.82    
    ExtUtils::CBuilder  0.280236
    ExtUtils::Command   7.62    
    ExtUtils::Install   2.20    
    ExtUtils::MakeMaker 7.62    
    ExtUtils::Manifest  1.73    
    ExtUtils::ParseXS   3.44    
    File::Spec          3.81    
    JSON                4.03    
    JSON::PP            4.06    
    Module::Build       0.4231  
    Module::Signature   0.87    
    Parse::CPAN::Meta   2.150010
    Test::Harness       3.43    
    Test::More          1.302188
    YAML                1.30    
    YAML::Syck          1.34    
    version             0.9929  


--

Summary of my perl5 (revision 5 version 35 subversion 6) configuration:
  Commit id: 76829f42d6278f3b9862e88fcecb11eeaf70c3c1
  Platform:
    osname=linux
    osvers=5.14.0-3-amd64
    archname=x86_64-linux
    uname='linux k93msid 5.14.0-3-amd64 #1 smp debian 5.14.12-1 (2021-10-14) x86_64 gnulinux '
    config_args='-Dprefix=/home/sand/src/perl/repoperls/installed-perls/host/k93msid/v5.35.5-8-g76829f42d6/3c10 -Dmyhostname=k93msid -Dinstallusrbinperl=n -Uversiononly -Dusedevel -des -Ui_db -Dlibswanted=cl pthread socket inet nsl gdbm dbm malloc dl ld sun m crypt sec util c cposix posix ucb BSD gdbm_compat -Uuseithreads -Uuselongdouble -DEBUGGING=none'
    hint=recommended
    useposix=true
    d_sigaction=define
    useithreads=undef
    usemultiplicity=undef
    use64bitint=define
    use64bitall=define
    uselongdouble=undef
    usemymalloc=n
    default_inc_excludes_dot=define
  Compiler:
    cc='cc'
    ccflags ='-fwrapv -fno-strict-aliasing -pipe -fstack-protector-strong -I/usr/local/include -D_LARGEFILE_SOURCE -D_FILE_OFFSET_BITS=64 -D_FORTIFY_SOURCE=2'
    optimize='-O2'
    cppflags='-fwrapv -fno-strict-aliasing -pipe -fstack-protector-strong -I/usr/local/include'
    ccversion=''
    gccversion='11.2.0'
    gccosandvers=''
    intsize=4
    longsize=8
    ptrsize=8
    doublesize=8
    byteorder=12345678
    doublekind=3
    d_longlong=define
    longlongsize=8
    d_longdbl=define
    longdblsize=16
    longdblkind=3
    ivtype='long'
    ivsize=8
    nvtype='double'
    nvsize=8
    Off_t='off_t'
    lseeksize=8
    alignbytes=8
    prototype=define
  Linker and Libraries:
    ld='cc'
    ldflags =' -fstack-protector-strong -L/usr/local/lib'
    libpth=/usr/local/lib /usr/lib/x86_64-linux-gnu /usr/lib /lib/x86_64-linux-gnu /lib
    libs=-lpthread -lnsl -ldl -lm -lcrypt -lutil -lc
    perllibs=-lpthread -lnsl -ldl -lm -lcrypt -lutil -lc
    libc=libc-2.32.so
    so=so
    useshrplib=false
    libperl=libperl.a
    gnulibc_version='2.32'
  Dynamic Linking:
    dlsrc=dl_dlopen.xs
    dlext=so
    d_dlsymun=undef
    ccdlflags='-Wl,-E'
    cccdlflags='-fPIC'
    lddlflags='-shared -O2 -L/usr/local/lib -fstack-protector-strong'


Characteristics of this binary (from libperl): 
  Compile-time options:
    HAS_TIMES
    PERLIO_LAYERS
    PERL_COPY_ON_WRITE
    PERL_DONT_CREATE_GVSV
    PERL_MALLOC_WRAP
    PERL_OP_PARENT
    PERL_PRESERVE_IVUV
    PERL_USE_DEVEL
    USE_64_BIT_ALL
    USE_64_BIT_INT
    USE_LARGE_FILES
    USE_LOCALE
    USE_LOCALE_COLLATE
    USE_LOCALE_CTYPE
    USE_LOCALE_NUMERIC
    USE_LOCALE_TIME
    USE_PERLIO
    USE_PERL_ATOF
  Built under linux
  Compiled at Oct 29 2021 15:43:11
  %ENV:
    PERL5LIB=""
    PERL5OPT=""
    PERL5_CPANPLUS_IS_RUNNING="1146093"
    PERL5_CPAN_IS_RUNNING="1146093"
    PERL_CANARY_STABILITY_NOPROMPT="1"
    PERL_MM_USE_DEFAULT="1"
    PERL_USE_UNSAFE_INC="1"
  @INC:
    /home/sand/src/perl/repoperls/installed-perls/host/k93msid/v5.35.5-8-g76829f42d6/3c10/lib/site_perl/5.35.6/x86_64-linux
    /home/sand/src/perl/repoperls/installed-perls/host/k93msid/v5.35.5-8-g76829f42d6/3c10/lib/site_perl/5.35.6
    /home/sand/src/perl/repoperls/installed-perls/host/k93msid/v5.35.5-8-g76829f42d6/3c10/lib/5.35.6/x86_64-linux
    /home/sand/src/perl/repoperls/installed-perls/host/k93msid/v5.35.5-8-g76829f42d6/3c10/lib/5.35.6
    .