Back
From: metabase:user:320bfe00-2aae-11df-837a-5e0a49663a4f
Subject: PASS Parallel-Queue-3.6 v5.23.0 GNU/Linux
Date: 2015-06-07T13:35:14Z
This distribution has been tested as part of the CPAN Testers
project, supporting the Perl programming language. See
http://wiki.cpantesters.org/ for more information or email
questions to cpan-testers-discuss@perl.org
--
Dear Steven Lembark,
This is a computer-generated report for Parallel-Queue-3.6
on perl 5.23.0, created by CPAN-Reporter-1.2014.
Thank you for uploading your work to CPAN. Congratulations!
All tests were successful.
Sections of this report:
* Tester comments
* Program output
* Prerequisites
* Environment and other context
------------------------------
TESTER COMMENTS
------------------------------
Additional comments from tester:
this report is from an automated smoke testing program
and was not reviewed by a human for accuracy
------------------------------
PROGRAM OUTPUT
------------------------------
Output from '/usr/bin/make test':
PERL_DL_NONLAZY=1 "/tmp/basesmoker-reloperl-OcBZ/bin/perl" "-MExtUtils::Command::MM" "-MTest::Harness" "-e" "undef *Test::Harness::Switches; test_harness(0, 'blib/lib', 'blib/arch')" t/*.t
t/00-usable.t ................... ok
t/01-export-name.t .............. ok
Smartmatch is experimental at t/02-debug-mode.t line 70.
Non-forking queue
Next job: 'CODE(0x21f71f8)'
Complete: '0' ()
Next job: 'CODE(0x2204ee8)'
Complete: '0' ()
Next job: 'CODE(0x24394c8)'
Complete: '0' ()
Next job: 'CODE(0x2205098)'
Complete: '0' ()
Next job: 'CODE(0x247e810)'
Complete: '0' ()
Next job: 'CODE(0x24a4d28)'
Complete: '0' ()
Next job: 'CODE(0x24a52c8)'
Complete: '0' ()
Next job: 'CODE(0x24a5a78)'
Complete: '0' ()
Next job: 'CODE(0x24a5b20)'
Complete: '0' ()
Next job: 'CODE(0x24a5bc8)'
Complete: '0' ()
Next job: 'CODE(0x24a5c70)'
Complete: '0' ()
Next job: 'CODE(0x2489e00)'
Complete: '0' ()
Next job: 'CODE(0x2489ea8)'
Complete: '0' ()
Next job: 'CODE(0x2489f50)'
Complete: '0' ()
Next job: 'CODE(0x2489ff8)'
Complete: '0' ()
Next job: 'CODE(0x248a0a0)'
Complete: '0' ()
Next job: 'CODE(0x248a148)'
Complete: '0' ()
Next job: 'CODE(0x248a1f0)'
Complete: '0' ()
Next job: 'CODE(0x248a298)'
Complete: '0' ()
Next job: 'CODE(0x248a340)'
Complete: '0' ()
Next job: ''
Non-forking queue
Next job: 'CODE(0x2204cf0)'
Complete: '0' ()
Next job: 'CODE(0x2489dd0)'
Complete: '0' ()
Next job: 'CODE(0x248a5c8)'
Complete: '0' ()
Next job: 'CODE(0x248a6b8)'
Complete: '0' ()
Next job: 'CODE(0x248a7a8)'
Complete: '0' ()
Next job: 'CODE(0x248a898)'
Complete: '0' ()
Next job: 'CODE(0x248a988)'
Complete: '0' ()
Next job: 'CODE(0x248aa78)'
Complete: '0' ()
Next job: 'CODE(0x248ab68)'
Complete: '0' ()
Next job: 'CODE(0x248ac58)'
Complete: '0' ()
Next job: 'CODE(0x248ad48)'
Complete: '0' ()
Next job: 'CODE(0x24ae690)'
Complete: '0' ()
Next job: 'CODE(0x24ae780)'
Complete: '0' ()
Next job: 'CODE(0x24ae870)'
Complete: '0' ()
Next job: 'CODE(0x24ae960)'
Complete: '0' ()
Next job: 'CODE(0x24aea50)'
Complete: '0' ()
Next job: 'CODE(0x24aeb40)'
Complete: '0' ()
Next job: 'CODE(0x24aec30)'
Complete: '0' ()
Next job: 'CODE(0x24aed20)'
Complete: '0' ()
Next job: 'CODE(0x24aee10)'
Complete: '0' ()
Next job: ''
Non-forking queue
Next job: 'CODE(0x21f71f8)'
Complete: '0' ()
Next job: 'CODE(0x2204ee8)'
Complete: '0' ()
Next job: 'CODE(0x24394c8)'
Complete: '0' ()
Next job: 'CODE(0x2205098)'
Complete: '0' ()
Next job: 'CODE(0x247e810)'
Complete: '0' ()
Next job: 'CODE(0x24a4d28)'
Complete: '0' ()
Next job: 'CODE(0x24a52c8)'
Complete: '0' ()
Next job: 'CODE(0x24a5a78)'
Complete: '0' ()
Next job: 'CODE(0x24a5b20)'
Complete: '0' ()
Next job: 'CODE(0x24a5bc8)'
Complete: '0' ()
Next job: 'CODE(0x24a5c70)'
Complete: '0' ()
Next job: 'CODE(0x2489e00)'
Complete: '0' ()
Next job: 'CODE(0x2489ea8)'
Complete: '0' ()
Next job: 'CODE(0x2489f50)'
Complete: '0' ()
Next job: 'CODE(0x2489ff8)'
Complete: '0' ()
Next job: 'CODE(0x248a0a0)'
Complete: '0' ()
Next job: 'CODE(0x248a148)'
Complete: '0' ()
Next job: 'CODE(0x248a1f0)'
Complete: '0' ()
Next job: 'CODE(0x248a298)'
Complete: '0' ()
Next job: 'CODE(0x248a340)'
Complete: '0' ()
Next job: ''
Non-forking queue
Next job: 'CODE(0x2204cf0)'
Complete: '0' ()
Next job: 'CODE(0x2489dd0)'
Complete: '0' ()
Next job: 'CODE(0x248a5c8)'
Complete: '0' ()
Next job: 'CODE(0x248a6b8)'
Complete: '0' ()
Next job: 'CODE(0x248a7a8)'
Complete: '0' ()
Next job: 'CODE(0x248a898)'
Complete: '0' ()
Next job: 'CODE(0x248a988)'
Complete: '0' ()
Next job: 'CODE(0x248aa78)'
Complete: '0' ()
Next job: 'CODE(0x248ab68)'
Complete: '0' ()
Next job: 'CODE(0x248ac58)'
Complete: '0' ()
Next job: 'CODE(0x248ad48)'
Complete: '0' ()
Next job: 'CODE(0x24ae690)'
Complete: '0' ()
Next job: 'CODE(0x24ae780)'
Complete: '0' ()
Next job: 'CODE(0x24ae870)'
Complete: '0' ()
Next job: 'CODE(0x24ae960)'
Complete: '0' ()
Next job: 'CODE(0x24aea50)'
Complete: '0' ()
Next job: 'CODE(0x24aeb40)'
Complete: '0' ()
Next job: 'CODE(0x24aec30)'
Complete: '0' ()
Next job: 'CODE(0x24aed20)'
Complete: '0' ()
Next job: 'CODE(0x24aee10)'
Complete: '0' ()
Next job: ''
Non-forking queue
Next job: 'CODE(0x21f71f8)'
Complete: '0' ()
Next job: 'CODE(0x2204ee8)'
Complete: '0' ()
Next job: 'CODE(0x24394c8)'
Complete: '0' ()
Next job: 'CODE(0x2205098)'
Complete: '0' ()
Next job: 'CODE(0x247e810)'
Complete: '0' ()
Next job: 'CODE(0x24a4d28)'
Complete: '0' ()
Next job: 'CODE(0x24a52c8)'
Complete: '0' ()
Next job: 'CODE(0x24a5a78)'
Complete: '0' ()
Next job: 'CODE(0x24a5b20)'
Complete: '0' ()
Next job: 'CODE(0x24a5bc8)'
Complete: '0' ()
Next job: 'CODE(0x24a5c70)'
Complete: '0' ()
Next job: 'CODE(0x2489e00)'
Complete: '0' ()
Next job: 'CODE(0x2489ea8)'
Complete: '0' ()
Next job: 'CODE(0x2489f50)'
Complete: '0' ()
Next job: 'CODE(0x2489ff8)'
Complete: '0' ()
Next job: 'CODE(0x248a0a0)'
Complete: '0' ()
Next job: 'CODE(0x248a148)'
Complete: '0' ()
Next job: 'CODE(0x248a1f0)'
Complete: '0' ()
Next job: 'CODE(0x248a298)'
Complete: '0' ()
Next job: 'CODE(0x248a340)'
Complete: '0' ()
Next job: ''
Non-forking queue
Next job: 'CODE(0x2204cf0)'
Complete: '0' ()
Next job: 'CODE(0x2489dd0)'
Complete: '0' ()
Next job: 'CODE(0x248a5c8)'
Complete: '0' ()
Next job: 'CODE(0x248a6b8)'
Complete: '0' ()
Next job: 'CODE(0x248a7a8)'
Complete: '0' ()
Next job: 'CODE(0x248a898)'
Complete: '0' ()
Next job: 'CODE(0x248a988)'
Complete: '0' ()
Next job: 'CODE(0x248aa78)'
Complete: '0' ()
Next job: 'CODE(0x248ab68)'
Complete: '0' ()
Next job: 'CODE(0x248ac58)'
Complete: '0' ()
Next job: 'CODE(0x248ad48)'
Complete: '0' ()
Next job: 'CODE(0x24ae690)'
Complete: '0' ()
Next job: 'CODE(0x24ae780)'
Complete: '0' ()
Next job: 'CODE(0x24ae870)'
Complete: '0' ()
Next job: 'CODE(0x24ae960)'
Complete: '0' ()
Next job: 'CODE(0x24aea50)'
Complete: '0' ()
Next job: 'CODE(0x24aeb40)'
Complete: '0' ()
Next job: 'CODE(0x24aec30)'
Complete: '0' ()
Next job: 'CODE(0x24aed20)'
Complete: '0' ()
Next job: 'CODE(0x24aee10)'
Complete: '0' ()
Next job: ''
t/02-debug-mode.t ............... ok
Smartmatch is experimental at t/03-fork.t line 83.
t/03-fork.t ..................... ok
t/04-nonzero-exit.t ............. ok
exit( 1 ) by 4209 at /tmp/loop_over_bdir-14113-Vq4ys4/Parallel-Queue-3.6-NmENui/blib/lib/Parallel/Queue.pm line 227.
t/05-nonzero-with-finish.t ...... ok
Discarding non-queue 'PQ::Iterator::a'
Discarding non-queue 'PQ::Iterator::b'
Discarding non-queue 'PQ::Iterator::c'
t/06-iterator-package-nofork.t .. ok
Discarding non-queue 'PQ::Iterator::a'
Discarding non-queue 'PQ::Iterator::b'
Discarding non-queue 'PQ::Iterator::c'
t/07-iterator-package-fork.t .... ok
t/08-iterator-objects-nofork.t .. ok
t/09-iterator-objects-fork.t .... ok
All tests successful.
Files=10, Tests=87, 1 wallclock secs ( 0.02 usr 0.08 sys + 0.29 cusr 0.17 csys = 0.56 CPU)
Result: PASS
------------------------------
PREREQUISITES
------------------------------
Prerequisite modules loaded:
requires:
Module Need Have
------------------- ---- -------
Carp 0 1.36
Scalar::Util 0 1.42_01
strict 0 1.09
Symbol 0 1.07
build_requires:
Module Need Have
------------------- ---- -------
ExtUtils::MakeMaker 0 7.04_01
configure_requires:
Module Need Have
------------------- ---- -------
ExtUtils::MakeMaker 0 7.04_01
------------------------------
ENVIRONMENT AND OTHER CONTEXT
------------------------------
Environment variables:
AUTOMATED_TESTING = 1
LANG = en_US.UTF-8
LANGUAGE = en_US:en
PATH = /home/sand/bin:/usr/local/bin:/usr/bin:/bin:/usr/games:/usr/local/perl/bin:/usr/X11/bin:/sbin:/usr/sbin
PERL5LIB =
PERL5OPT =
PERL5_CPANPLUS_IS_RUNNING = 14192
PERL5_CPAN_IS_RUNNING = 14192
PERL_MM_USE_DEFAULT = 1
SHELL = /usr/bin/zsh
TERM = screen
Perl special variables (and OS-specific diagnostics, for MSWin32):
$^X = /tmp/basesmoker-reloperl-OcBZ/bin/perl
$UID/$EUID = 1005 / 1005
$GID = 1005 1005
$EGID = 1005 1005
Perl module toolchain versions installed:
Module Have
------------------- --------
CPAN 2.10
CPAN::Meta 2.150001
Cwd 3.56
ExtUtils::CBuilder 0.280223
ExtUtils::Command 1.20
ExtUtils::Install 2.04
ExtUtils::MakeMaker 7.04_01
ExtUtils::Manifest 1.70
ExtUtils::ParseXS 3.28
File::Spec 3.56
JSON 2.90
JSON::PP 2.27300
Module::Build 0.4212
Module::Signature 0.79
Parse::CPAN::Meta 1.4414
Test::Harness 3.35
Test::More 1.001014
YAML 1.15
YAML::Syck 1.29
version 0.9909
--
Summary of my perl5 (revision 5 version 23 subversion 0) configuration:
Commit id: 568793b67ae7b3c7362197be564525b48ddb2342
Platform:
osname=linux, osvers=4.0.0-1-amd64, archname=x86_64-linux
uname='linux k83 4.0.0-1-amd64 #1 smp debian 4.0.2-1 (2015-05-11) x86_64 gnulinux '
config_args='-Dprefix=/home/sand/src/perl/repoperls/installed-perls/perl/v5.22.0-64-g568793b/165a -Dmyhostname=k83 -Dinstallusrbinperl=n -Uversiononly -Dusedevel -des -Ui_db -Uuseithreads -Uuselongdouble -DDEBUGGING=-g'
hint=recommended, useposix=true, d_sigaction=define
useithreads=undef, usemultiplicity=undef
use64bitint=define, use64bitall=define, uselongdouble=undef
usemymalloc=n, bincompat5005=undef
Compiler:
cc='cc', ccflags ='-fwrapv -fno-strict-aliasing -pipe -fstack-protector-strong -I/usr/local/include -D_LARGEFILE_SOURCE -D_FILE_OFFSET_BITS=64 -D_FORTIFY_SOURCE=2',
optimize='-O2 -g',
cppflags='-fwrapv -fno-strict-aliasing -pipe -fstack-protector-strong -I/usr/local/include'
ccversion='', gccversion='4.9.2', gccosandvers=''
intsize=4, longsize=8, ptrsize=8, doublesize=8, byteorder=12345678, doublekind=3
d_longlong=define, longlongsize=8, d_longdbl=define, longdblsize=16, longdblkind=3
ivtype='long', ivsize=8, nvtype='double', nvsize=8, Off_t='off_t', lseeksize=8
alignbytes=8, prototype=define
Linker and Libraries:
ld='cc', ldflags =' -fstack-protector-strong -L/usr/local/lib'
libpth=/usr/local/lib /usr/lib/gcc/x86_64-linux-gnu/4.9/include-fixed /usr/include/x86_64-linux-gnu /usr/lib /lib/x86_64-linux-gnu /lib/../lib /usr/lib/x86_64-linux-gnu /usr/lib/../lib /lib
libs=-lpthread -lnsl -lgdbm -ldb -ldl -lm -lcrypt -lutil -lc -lgdbm_compat
perllibs=-lpthread -lnsl -ldl -lm -lcrypt -lutil -lc
libc=libc-2.19.so, so=so, useshrplib=false, libperl=libperl.a
gnulibc_version='2.19'
Dynamic Linking:
dlsrc=dl_dlopen.xs, dlext=so, d_dlsymun=undef, ccdlflags='-Wl,-E'
cccdlflags='-fPIC', lddlflags='-shared -O2 -g -L/usr/local/lib -fstack-protector-strong'
Characteristics of this binary (from libperl):
Compile-time options: HAS_TIMES PERLIO_LAYERS PERL_DONT_CREATE_GVSV
PERL_HASH_FUNC_ONE_AT_A_TIME_HARD PERL_MALLOC_WRAP
PERL_NEW_COPY_ON_WRITE PERL_PRESERVE_IVUV
PERL_USE_DEVEL USE_64_BIT_ALL USE_64_BIT_INT
USE_LARGE_FILES USE_LOCALE USE_LOCALE_COLLATE
USE_LOCALE_CTYPE USE_LOCALE_NUMERIC USE_LOCALE_TIME
USE_PERLIO USE_PERL_ATOF
Built under linux
Compiled at Jun 6 2015 15:34:48
%ENV:
PERL5LIB=""
PERL5OPT=""
PERL5_CPANPLUS_IS_RUNNING="14192"
PERL5_CPAN_IS_RUNNING="14192"
PERL_MM_USE_DEFAULT="1"
@INC:
/home/sand/src/perl/repoperls/installed-perls/perl/v5.22.0-64-g568793b/165a/lib/site_perl/5.23.0/x86_64-linux
/home/sand/src/perl/repoperls/installed-perls/perl/v5.22.0-64-g568793b/165a/lib/site_perl/5.23.0
/home/sand/src/perl/repoperls/installed-perls/perl/v5.22.0-64-g568793b/165a/lib/5.23.0/x86_64-linux
/home/sand/src/perl/repoperls/installed-perls/perl/v5.22.0-64-g568793b/165a/lib/5.23.0
.