WWW-CPAN-SQLite v1.001 Perl 5 v5.18.4 x86_64-linux

Status
Pass
From
Slaven Rezić (SREZIC)
Dist
WWW-CPAN-SQLite v1.001
Platform
Perl 5 v5.18.4 x86_64-linux
Date
2019-01-06 13:00:22
ID
0727629c-11b3-11e9-af6b-c659351a9d7c
This distribution has been tested as part of the CPAN Testers
project, supporting the Perl programming language.  See
http://wiki.cpantesters.org/ for more information or email
questions to cpan-testers-discuss@perl.org


--
Dear Serguei Trouchelle,

This is a computer-generated report for WWW-CPAN-SQLite-1.001
on perl 5.18.4, created by CPAN-Reporter-1.2018.

Thank you for uploading your work to CPAN.  Congratulations!
All tests were successful.

Sections of this report:

    * Tester comments
    * Program output
    * Prerequisites
    * Environment and other context

------------------------------
TESTER COMMENTS
------------------------------

Additional comments from tester:

none provided

------------------------------
PROGRAM OUTPUT
------------------------------

Output from '/usr/bin/make test':

PERL_DL_NONLAZY=1 "/opt/perl-5.18.4/bin/perl" "-MExtUtils::Command::MM" "-MTest::Harness" "-e" "undef *Test::Harness::Switches; test_harness(0, 'blib/lib', 'blib/arch')" t/*.t t/00-compile/*.t
t/00-all_prereqs.t ..................... ok
t/00-compile.t ......................... ok
t/00-compile/lib_WWW_CPAN_SQLite_pm.t .. ok
# 
# Versions for all modules listed in MYMETA.json (including optional ones):
# 
# === Configure Requires ===
# 
#     Module              Want Have
#     ------------------- ---- ----
#     ExtUtils::MakeMaker  any 7.34
# 
# === Build Requires ===
# 
#     Module              Want Have
#     ------------------- ---- ----
#     ExtUtils::MakeMaker  any 7.34
# 
# === Test Requires ===
# 
#     Module                Want     Have
#     --------------------- ---- --------
#     Carp                   any     1.50
#     ExtUtils::MakeMaker    any     7.34
#     File::Spec             any     3.40
#     HTTP::Request::Common  any     6.18
#     IO::Handle             any     1.34
#     IPC::Open3             any     1.13
#     Plack::Loader          any    undef
#     Plack::Test            any    undef
#     Plack::Util            any    undef
#     Scalar::Util           any     1.50
#     Test::More            0.94 1.302141
#     lib                    any     0.63
# 
# === Test Recommends ===
# 
#     Module         Want     Have
#     ---------- -------- --------
#     CPAN::Meta 2.120900 2.150010
# 
# === Runtime Requires ===
# 
#     Module                    Want  Have
#     ------------------------- ---- -----
#     File::Spec                 any  3.40
#     FindBin::Real              any  1.05
#     MIME::Types                any  2.17
#     Plack::MIME                any undef
#     Plack::Middleware::Static  any undef
#     strict                     any  1.07
#     warnings                   any  1.18
# 
t/00-report-prereqs.t .................. ok
# Testing with Perl 5.018004, /opt/perl-5.18.4/bin/perl
#     Carp version is 1.50
#     ExtUtils::MakeMaker version is 7.34
#     File::Spec version is 3.40
#     FindBin::Real version is 1.05
#     HTTP::Request::Common version is 6.18
#     IO::Handle version is 1.34
#     IPC::Open3 version is 1.13
#     MIME::Types version is 2.17
#     Plack::Loader version is undefined
#     Plack::MIME version is undefined
#     Plack::Middleware::Static version is undefined
#     Plack::Test version is undefined
#     Plack::Util version is undefined
#     Scalar::Util version is 1.5
#     Test::More version is 1.302141
#     lib version is 0.63
#     strict version is 1.07
#     warnings version is 1.18
t/000-report-versions.t ................ ok
t/01sanity.t ........................... ok
t/02request.t .......................... ok
t/author-critic.t ...................... skipped: these tests are for testing by the author
t/author-eol.t ......................... skipped: these tests are for testing by the author
t/author-minimum-version.t ............. skipped: these tests are for testing by the author
t/author-no-tabs.t ..................... skipped: these tests are for testing by the author
t/author-pod-syntax.t .................. skipped: these tests are for testing by the author
t/release-distmeta.t ................... skipped: these tests are for release candidate testing
t/release-fixme.t ...................... skipped: these tests are for release candidate testing
t/release-has-version.t ................ skipped: these tests are for release candidate testing
t/release-kwalitee.t ................... skipped: these tests are for release candidate testing
t/release-meta-json.t .................. skipped: these tests are for release candidate testing
t/release-pause-permissions.t .......... skipped: these tests are for release candidate testing
All tests successful.
Files=18, Tests=89,  0 wallclock secs ( 0.04 usr  0.09 sys +  0.38 cusr  0.12 csys =  0.63 CPU)
Result: PASS

------------------------------
PREREQUISITES
------------------------------

Prerequisite modules loaded:

requires:

    Module                    Need  Have    
    ------------------------- ----- --------
    File::Spec                0     3.40    
    FindBin::Real             0     1.05    
    MIME::Types               0     2.17    
    perl                      5.006 5.018004
    Plack::Middleware::Static 0     0       
    Plack::MIME               0     0       
    strict                    0     1.07    
    warnings                  0     1.18    

build_requires:

    Module                    Need  Have    
    ------------------------- ----- --------
    Carp                      0     1.50    
    ExtUtils::MakeMaker       0     7.34    
    File::Spec                0     3.40    
    HTTP::Request::Common     0     6.18    
    IO::Handle                0     1.34    
    IPC::Open3                0     1.13    
    lib                       0     0.63    
    Plack::Loader             0     0       
    Plack::Test               0     0       
    Plack::Util               0     0       
    Scalar::Util              0     1.50    
    Test::More                0.94  1.302141

configure_requires:

    Module                    Need  Have    
    ------------------------- ----- --------
    ExtUtils::MakeMaker       0     7.34    


------------------------------
ENVIRONMENT AND OTHER CONTEXT
------------------------------

Environment variables:

    LANG = C
    PATH = /usr/local/bin:/usr/bin:/bin:/usr/local/sbin:/usr/sbin:/sbin:/home/cpansand/bin/linux-gnu:/home/cpansand/bin/sh:/home/cpansand/bin:/usr/games:/home/cpansand/devel:/home/eserte/src/srezic-misc/scripts
    PERL5LIB = 
    PERL5OPT = 
    PERL5_CPANPLUS_IS_RUNNING = 16658
    PERL5_CPAN_IS_RUNNING = 16658
    PERL5_CPAN_IS_RUNNING_IN_RECURSION = 18778,16658
    PERLDOC = -MPod::Perldoc::ToTextOverstrike
    PERL_BATCH = yes
    PERL_CANARY_STABILITY_NOPROMPT = 1
    PERL_CPAN_REPORTER_CONFIG = /var/tmp/cpansmoker-1023/2019010609/cpanreporter_002_config.ini
    PERL_EXTUTILS_AUTOINSTALL = --defaultdeps
    PERL_USE_UNSAFE_INC = 1
    SHELL = /usr/bin/zsh
    TERM = screen
    TMPDIR = /var/tmp/cpansmoker-1023/2019010609

Perl special variables (and OS-specific diagnostics, for MSWin32):

    $^X = /opt/perl-5.18.4/bin/perl
    $UID/$EUID = 1023 / 1023
    $GID = 1023 1023
    $EGID = 1023 1023

Perl module toolchain versions installed:

    Module              Have    
    ------------------- --------
    CPAN                2.00    
    CPAN::Meta          2.150010
    Cwd                 3.40    
    ExtUtils::CBuilder  0.280210
    ExtUtils::Command   7.34    
    ExtUtils::Install   2.06    
    ExtUtils::MakeMaker 7.34    
    ExtUtils::Manifest  1.70    
    ExtUtils::ParseXS   3.35    
    File::Spec          3.40    
    JSON                4.00    
    JSON::PP            4.00    
    Module::Build       0.4224  
    Module::Signature   n/a     
    Parse::CPAN::Meta   2.150010
    Test::Harness       3.42    
    Test::More          1.302141
    YAML                1.27    
    YAML::Syck          1.31    
    version             0.9924  


--

Summary of my perl5 (revision 5 version 18 subversion 4) configuration:
   
  Platform:
    osname=linux, osvers=4.9.0-8-amd64, archname=x86_64-linux
    uname='linux eserte 4.9.0-8-amd64 #1 smp debian 4.9.130-2 (2018-10-27) x86_64 gnulinux '
    config_args='-ds -e -Dprefix=/opt/perl-5.18.4 -Dcf_email=srezic@cpan.org'
    hint=previous, useposix=true, d_sigaction=define
    useithreads=undef, usemultiplicity=undef
    useperlio=define, d_sfio=undef, uselargefiles=define, usesocks=undef
    use64bitint=define, use64bitall=define, uselongdouble=undef
    usemymalloc=n, bincompat5005=undef
  Compiler:
    cc='cc', ccflags ='-fno-strict-aliasing -pipe -fstack-protector -I/usr/local/include -D_LARGEFILE_SOURCE -D_FILE_OFFSET_BITS=64',
    optimize='-O2',
    cppflags='-fno-strict-aliasing -pipe -fstack-protector -I/usr/local/include -fno-strict-aliasing -pipe -fstack-protector -I/usr/local/include -D_LARGEFILE_SOURCE -D_FILE_OFFSET_BITS=64'
    ccversion='', gccversion='6.3.0 20170516', gccosandvers=''
    intsize=4, longsize=8, ptrsize=8, doublesize=8, byteorder=12345678
    d_longlong=define, longlongsize=8, d_longdbl=define, longdblsize=16
    ivtype='long', ivsize=8, nvtype='double', nvsize=8, Off_t='off_t', lseeksize=8
    alignbytes=8, prototype=define
  Linker and Libraries:
    ld='cc', ldflags =' -fstack-protector -L/usr/local/lib'
    libpth=/usr/local/lib /lib/x86_64-linux-gnu /lib/../lib /usr/lib/x86_64-linux-gnu /usr/lib/../lib /lib /usr/lib
    libs=-lnsl -ldb -ldl -lm -lcrypt -lutil -lc
    perllibs=-lnsl -ldl -lm -lcrypt -lutil -lc
    libc=libc-2.24.so, so=so, useshrplib=false, libperl=libperl.a
    gnulibc_version='2.24'
  Dynamic Linking:
    dlsrc=dl_dlopen.xs, dlext=so, d_dlsymun=undef, ccdlflags='-Wl,-E'
    cccdlflags='-fPIC', lddlflags='-shared -O2 -L/usr/local/lib -fstack-protector'


Characteristics of this binary (from libperl): 
  Compile-time options: HAS_TIMES PERLIO_LAYERS PERL_DONT_CREATE_GVSV
                        PERL_HASH_FUNC_ONE_AT_A_TIME_HARD PERL_MALLOC_WRAP
                        PERL_PRESERVE_IVUV PERL_SAWAMPERSAND USE_64_BIT_ALL
                        USE_64_BIT_INT USE_LARGE_FILES USE_LOCALE
                        USE_LOCALE_COLLATE USE_LOCALE_CTYPE
                        USE_LOCALE_NUMERIC USE_PERLIO USE_PERL_ATOF
  Locally applied patches:
	Devel::PatchPerl 1.46
  Built under linux
  Compiled at Jan  5 2019 17:47:21
  %ENV:
    PERL5LIB=""
    PERL5OPT=""
    PERL5_CPANPLUS_IS_RUNNING="16658"
    PERL5_CPAN_IS_RUNNING="16658"
    PERL5_CPAN_IS_RUNNING_IN_RECURSION="18778,16658"
    PERLDOC="-MPod::Perldoc::ToTextOverstrike"
    PERL_BATCH="yes"
    PERL_CANARY_STABILITY_NOPROMPT="1"
    PERL_CPAN_REPORTER_CONFIG="/var/tmp/cpansmoker-1023/2019010609/cpanreporter_002_config.ini"
    PERL_EXTUTILS_AUTOINSTALL="--defaultdeps"
    PERL_USE_UNSAFE_INC="1"
  @INC:
    /opt/perl-5.18.4/lib/site_perl/5.18.4/x86_64-linux
    /opt/perl-5.18.4/lib/site_perl/5.18.4
    /opt/perl-5.18.4/lib/5.18.4/x86_64-linux
    /opt/perl-5.18.4/lib/5.18.4
    .