Back
From: metabase:user:320bfe00-2aae-11df-837a-5e0a49663a4f
Subject: PASS Dist-Zilla-Plugin-Test-Perl-Critic-2.112410 v5.16.3 GNU/Linux
Date: 2013-05-20T03:11:56Z
This distribution has been tested as part of the CPAN Testers
project, supporting the Perl programming language. See
http://wiki.cpantesters.org/ for more information or email
questions to cpan-testers-discuss@perl.org
--
Dear Jerome Quelin,
This is a computer-generated report for Dist-Zilla-Plugin-Test-Perl-Critic-2.112410
on perl 5.16.3, created by CPAN-Reporter-1.2010.
Thank you for uploading your work to CPAN. Congratulations!
All tests were successful.
Sections of this report:
* Tester comments
* Program output
* Prerequisites
* Environment and other context
------------------------------
TESTER COMMENTS
------------------------------
Additional comments from tester:
this report is from an automated smoke testing program
and was not reviewed by a human for accuracy
------------------------------
PROGRAM OUTPUT
------------------------------
Output from './Build test':
t/00-compile.t ................ ok
#
#
# perl: v5.16.3 (wanted 5.008) on linux from /home/sand/src/perl/repoperls/installed-perls/perl/v5.16.3/165a/bin/perl
#
# Data::Section => 0.101621 (want 0.004)
# Dist::Zilla::File::InMemory => 4.300034 (want any version)
# Dist::Zilla::Role::FileGatherer => 4.300034 (want any version)
# Dist::Zilla::Role::TextTemplate => 4.300034 (want any version)
# File::Find => 1.20 (want any version)
# File::Path => 2.08_01 (want any version)
# File::Temp => 0.2301 (want any version)
# Module::Build => 0.4004 (want 0.3601)
# Moose => 2.0802 (want any version)
# Moose::Autobox => 0.13 (want any version)
# Moose::Util => 2.0802 (want any version)
# Test::DZil => 4.300034 (want any version)
# Test::More => 0.98 (want 0.94)
# autodie => 2.16 (want any version)
# namespace::autoclean => 0.13 (want any version)
# strict => 1.07 (want any version)
# warnings => 1.13 (want any version)
#
# Thanks for using my code. I hope it works for you.
# If not, please try and include this output in the bug report.
# That will help me reproduce the issue and solve you problem.
#
t/000-report-versions-tiny.t .. ok
t/manifest.t .................. ok
t/release-has-version.t ....... skipped: these tests are for release candidate testing
t/release-kwalitee.t .......... skipped: these tests are for release candidate testing
t/release-minimum-version.t ... skipped: these tests are for release candidate testing
t/release-pod-coverage.t ...... skipped: these tests are for release candidate testing
t/release-pod-syntax.t ........ skipped: these tests are for release candidate testing
All tests successful.
Files=8, Tests=7, 5 wallclock secs ( 0.03 usr 0.01 sys + 2.43 cusr 0.22 csys = 2.69 CPU)
Result: PASS
------------------------------
PREREQUISITES
------------------------------
Prerequisite modules loaded:
requires:
Module Need Have
------------------------------- ------ --------
Data::Section 0.004 0.101621
Dist::Zilla::File::InMemory 0 4.300034
Dist::Zilla::Role::FileGatherer 0 4.300034
Dist::Zilla::Role::TextTemplate 0 4.300034
Moose 0 2.0802
Moose::Util 0 2.0802
namespace::autoclean 0 0.13
perl 5.008 5.016003
strict 0 1.07
warnings 0 1.13
build_requires:
Module Need Have
------------------------------- ------ --------
autodie 0 2.16
File::Find 0 1.20
File::Path 0 2.08_01
File::Temp 0 0.2301
Module::Build 0.3601 0.4004
Moose::Autobox 0 0.13
Test::DZil 0 4.300034
Test::More 0.94 0.98
configure_requires:
Module Need Have
------------------------------- ------ --------
Module::Build 0.3601 0.4004
------------------------------
ENVIRONMENT AND OTHER CONTEXT
------------------------------
Environment variables:
AUTOMATED_TESTING = 1
LANG = en_US.UTF-8
LANGUAGE = en_US:en
PATH = /usr/lib/ccache:/home/sand/bin:/usr/local/bin:/usr/bin:/bin:/usr/bin/X11:/usr/games:/usr/local/perl/bin:/usr/X11/bin:/sbin:/usr/sbin
PERL5LIB =
PERL5OPT =
PERL5_CPANPLUS_IS_RUNNING = 21700
PERL5_CPAN_IS_RUNNING = 21700
PERL_MM_USE_DEFAULT = 1
SHELL = /usr/bin/zsh
TERM = screen
Perl special variables (and OS-specific diagnostics, for MSWin32):
$^X = /home/sand/src/perl/repoperls/installed-perls/perl/v5.16.3/165a/bin/perl
$UID/$EUID = 1005 / 1005
$GID = 1005 1005
$EGID = 1005 1005
Perl module toolchain versions installed:
Module Have
------------------- --------
CPAN 1.9800
CPAN::Meta 2.130880
Cwd 3.40
ExtUtils::CBuilder 0.280206
ExtUtils::Command 1.17
ExtUtils::Install 1.58
ExtUtils::MakeMaker 6.64
ExtUtils::Manifest 1.61
ExtUtils::ParseXS 3.18
File::Spec 3.40
JSON 2.53
JSON::PP 2.27200
Module::Build 0.4004
Module::Signature 0.70
Parse::CPAN::Meta 1.4404
Test::Harness 3.26
Test::More 0.98
YAML 0.84
YAML::Syck 1.25
version 0.9902
--
Summary of my perl5 (revision 5 version 16 subversion 3) configuration:
Commit id: fd04d42d38f4751b981eb6e9213ee1ab8ef11ea6
Platform:
osname=linux, osvers=3.2.0-4-amd64, archname=x86_64-linux
uname='linux k83 3.2.0-4-amd64 #1 smp debian 3.2.41-2 x86_64 gnulinux '
config_args='-Dprefix=/home/src/perl/repoperls/installed-perls/perl/v5.16.3/165a -Dmyhostname=k83 -Dinstallusrbinperl=n -Uversiononly -Dusedevel -des -Ui_db -Uuseithreads -Uuselongdouble -DDEBUGGING=-g'
hint=recommended, useposix=true, d_sigaction=define
useithreads=undef, usemultiplicity=undef
useperlio=define, d_sfio=undef, uselargefiles=define, usesocks=undef
use64bitint=define, use64bitall=define, uselongdouble=undef
usemymalloc=n, bincompat5005=undef
Compiler:
cc='cc', ccflags ='-fno-strict-aliasing -pipe -fstack-protector -I/usr/local/include -D_LARGEFILE_SOURCE -D_FILE_OFFSET_BITS=64',
optimize='-O2 -g',
cppflags='-fno-strict-aliasing -pipe -fstack-protector -I/usr/local/include'
ccversion='', gccversion='4.7.2', gccosandvers=''
intsize=4, longsize=8, ptrsize=8, doublesize=8, byteorder=12345678
d_longlong=define, longlongsize=8, d_longdbl=define, longdblsize=16
ivtype='long', ivsize=8, nvtype='double', nvsize=8, Off_t='off_t', lseeksize=8
alignbytes=8, prototype=define
Linker and Libraries:
ld='cc', ldflags =' -fstack-protector -L/usr/local/lib'
libpth=/usr/local/lib /lib/x86_64-linux-gnu /lib/../lib /usr/lib/x86_64-linux-gnu /usr/lib/../lib /lib /usr/lib
libs=-lnsl -lgdbm -ldb -ldl -lm -lcrypt -lutil -lc -lgdbm_compat
perllibs=-lnsl -ldl -lm -lcrypt -lutil -lc
libc=, so=so, useshrplib=false, libperl=libperl.a
gnulibc_version='2.13'
Dynamic Linking:
dlsrc=dl_dlopen.xs, dlext=so, d_dlsymun=undef, ccdlflags='-Wl,-E'
cccdlflags='-fPIC', lddlflags='-shared -O2 -g -L/usr/local/lib -fstack-protector'
Characteristics of this binary (from libperl):
Compile-time options: HAS_TIMES PERLIO_LAYERS PERL_DONT_CREATE_GVSV
PERL_MALLOC_WRAP PERL_PRESERVE_IVUV PERL_USE_DEVEL
USE_64_BIT_ALL USE_64_BIT_INT USE_LARGE_FILES
USE_LOCALE USE_LOCALE_COLLATE USE_LOCALE_CTYPE
USE_LOCALE_NUMERIC USE_PERLIO USE_PERL_ATOF
Built under linux
Compiled at Apr 2 2013 21:32:13
%ENV:
PERL5LIB=""
PERL5OPT=""
PERL5_CPANPLUS_IS_RUNNING="21700"
PERL5_CPAN_IS_RUNNING="21700"
PERL_MM_USE_DEFAULT="1"
@INC:
/home/src/perl/repoperls/installed-perls/perl/v5.16.3/165a/lib/site_perl/5.16.3/x86_64-linux
/home/src/perl/repoperls/installed-perls/perl/v5.16.3/165a/lib/site_perl/5.16.3
/home/src/perl/repoperls/installed-perls/perl/v5.16.3/165a/lib/5.16.3/x86_64-linux
/home/src/perl/repoperls/installed-perls/perl/v5.16.3/165a/lib/5.16.3
.