Module-Faker v0.022 Perl 5 v5.33.2 OpenBSD.amd64-openbsd-thread-multi

Status
Pass
From
Carlos Guevara
Dist
Module-Faker v0.022
Platform
Perl 5 v5.33.2 OpenBSD.amd64-openbsd-thread-multi
Date
2020-09-03 22:30:10
ID
0717bf08-ee35-11ea-8a7b-e4018ddac13c
This distribution has been tested as part of the CPAN Testers
project, supporting the Perl programming language.  See
http://wiki.cpantesters.org/ for more information or email
questions to cpan-testers-discuss@perl.org


--
Dear Ricardo SIGNES,

This is a computer-generated report for Module-Faker-0.022
on perl 5.33.2, created by CPAN-Reporter-1.2018.

Thank you for uploading your work to CPAN.  Congratulations!
All tests were successful.

Sections of this report:

    * Tester comments
    * Program output
    * Prerequisites
    * Environment and other context

------------------------------
TESTER COMMENTS
------------------------------

Additional comments from tester:

this report is from an automated smoke testing program
and was not reviewed by a human for accuracy

------------------------------
PROGRAM OUTPUT
------------------------------

Output from '/usr/bin/make test':

PERL_DL_NONLAZY=1 "/home/cpan/bin/perl-blead/bin/perl5.33.2" "-MExtUtils::Command::MM" "-MTest::Harness" "-e" "undef *Test::Harness::Switches; test_harness(0, 'blib/lib', 'blib/arch')" t/*.t
# 
# Versions for all modules listed in MYMETA.json (including optional ones):
# 
# === Configure Requires ===
# 
#     Module              Want Have
#     ------------------- ---- ----
#     ExtUtils::MakeMaker  any 7.44
# 
# === Build Requires ===
# 
#     Module              Want Have
#     ------------------- ---- ----
#     ExtUtils::MakeMaker  any 7.44
# 
# === Test Requires ===
# 
#     Module              Want     Have
#     ------------------- ---- --------
#     Cwd                  any     3.78
#     ExtUtils::MakeMaker  any     7.44
#     File::Spec           any     3.78
#     JSON::PP             any     4.05
#     Path::Class         0.06     0.37
#     Test::More          0.96 1.302177
# 
# === Test Recommends ===
# 
#     Module         Want     Have
#     ---------- -------- --------
#     CPAN::Meta 2.120900 2.150010
# 
# === Runtime Requires ===
# 
#     Module                           Want     Have
#     ---------------------------- -------- --------
#     Archive::Any::Create              any     0.03
#     CPAN::DistnameInfo                any     0.12
#     CPAN::Meta                   2.130880 2.150010
#     CPAN::Meta::Converter             any 2.150010
#     CPAN::Meta::Merge                 any 2.150010
#     CPAN::Meta::Requirements          any    2.140
#     Carp                              any     1.50
#     Data::OptList                     any    0.110
#     Encode                            any     3.06
#     File::Next                        any     1.18
#     File::Path                        any     2.17
#     File::Temp                        any   0.2309
#     Getopt::Long::Descriptive         any    0.105
#     Moose                            0.33   2.2013
#     Moose::Role                       any   2.2013
#     Moose::Util::TypeConstraints      any   2.2013
#     Parse::CPAN::Meta              1.4401 2.150010
#     Path::Class                      0.06     0.37
#     Storable                          any     3.22
#     Text::Template                    any     1.59
#     strict                            any     1.12
#     warnings                          any     1.48
# 
t/00-report-prereqs.t .. ok
t/append-utf8.t ........ ok
t/append.t ............. ok
t/basic.t .............. ok
t/makefile-pl.t ........ ok
t/meta-files.t ......... ok
t/omit-file.t .......... ok
t/provide-order.t ...... ok
t/requires.t ........... ok
All tests successful.
Files=9, Tests=33, 12 wallclock secs ( 0.08 usr  0.13 sys +  8.65 cusr  2.20 csys = 11.06 CPU)
Result: PASS

------------------------------
PREREQUISITES
------------------------------

Prerequisite modules loaded:

requires:

    Module                       Need     Have    
    ---------------------------- -------- --------
    Archive::Any::Create         0        0.03    
    Carp                         0        1.50    
    CPAN::DistnameInfo           0        0.12    
    CPAN::Meta                   2.130880 2.150010
    CPAN::Meta::Converter        0        2.150010
    CPAN::Meta::Merge            0        2.150010
    CPAN::Meta::Requirements     0        2.140   
    Data::OptList                0        0.110   
    Encode                       0        3.06    
    File::Next                   0        1.18    
    File::Path                   0        2.17    
    File::Temp                   0        0.2309  
    Getopt::Long::Descriptive    0        0.105   
    Moose                        0.33     2.2013  
    Moose::Role                  0        2.2013  
    Moose::Util::TypeConstraints 0        2.2013  
    Parse::CPAN::Meta            1.4401   2.150010
    Path::Class                  0.06     0.37    
    perl                         5.014000 5.033002
    Storable                     0        3.22    
    strict                       0        1.12    
    Text::Template               0        1.59    
    warnings                     0        1.48    

build_requires:

    Module                       Need     Have    
    ---------------------------- -------- --------
    Cwd                          0        3.78    
    ExtUtils::MakeMaker          0        7.44    
    File::Spec                   0        3.78    
    JSON::PP                     0        4.05    
    Path::Class                  0.06     0.37    
    Test::More                   0.96     1.302177

configure_requires:

    Module                       Need     Have    
    ---------------------------- -------- --------
    ExtUtils::MakeMaker          0        7.44    


------------------------------
ENVIRONMENT AND OTHER CONTEXT
------------------------------

Environment variables:

    AUTOMATED_TESTING = 1
    DATE_MANIP_TEST_DM5 = 1
    LC_ALL = C
    NONINTERACTIVE_TESTING = 1
    PATH = /home/cpan/bin/perl-blead/bin:/home/cpan/bin:/home/cpan/bin:/bin:/sbin:/usr/bin:/usr/sbin:/usr/X11R6/bin:/usr/local/bin:/usr/local/sbin:/usr/games
    PERL5LIB = 
    PERL5OPT = 
    PERL5_CPANPLUS_IS_RUNNING = 2261
    PERL5_CPAN_IS_RUNNING = 2261
    PERL_MM_USE_DEFAULT = 1
    PERL_USE_UNSAFE_INC = 1
    PERL_VERSION = blead
    SHELL = /usr/local/bin/bash
    TERM = screen.xterm-256color
    TMPDIR = /home/cpan/tmp

Perl special variables (and OS-specific diagnostics, for MSWin32):

    $^X = /home/cpan/bin/perl-blead/bin/perl5.33.2
    $UID/$EUID = 1001 / 1001
    $GID = 1001 1001
    $EGID = 1001 1001

Perl module toolchain versions installed:

    Module              Have    
    ------------------- --------
    CPAN                2.27    
    CPAN::Meta          2.150010
    Cwd                 3.78    
    ExtUtils::CBuilder  0.280234
    ExtUtils::Command   7.44    
    ExtUtils::Install   2.16    
    ExtUtils::MakeMaker 7.44    
    ExtUtils::Manifest  1.72    
    ExtUtils::ParseXS   3.41    
    File::Spec          3.78    
    JSON                4.02    
    JSON::PP            4.05    
    Module::Build       0.4231  
    Module::Signature   n/a     
    Parse::CPAN::Meta   2.150010
    Test::Harness       3.42    
    Test::More          1.302177
    YAML                1.30    
    YAML::Syck          n/a     
    version             0.9924  


--

Summary of my perl5 (revision 5 version 33 subversion 2) configuration:
  Commit id: bb05203f441fe4aeac7b5e8a6434bcde115333ca
  Platform:
    osname=openbsd
    osvers=6.7
    archname=OpenBSD.amd64-openbsd-thread-multi
    uname='openbsd cjg-openbsd6 6.7 generic#5 amd64 '
    config_args='-des -Dprefix=~/bin/perl-blead -Dscriptdir=~/bin/perl-blead/bin -Dusedevel -Duse64bitall -Duseithreads'
    hint=recommended
    useposix=true
    d_sigaction=define
    useithreads=define
    usemultiplicity=define
    use64bitint=define
    use64bitall=define
    uselongdouble=undef
    usemymalloc=n
    default_inc_excludes_dot=define
  Compiler:
    cc='cc'
    ccflags ='-pthread -fno-strict-aliasing -pipe -fstack-protector-strong -I/usr/local/include -D_FORTIFY_SOURCE=2'
    optimize='-O2'
    cppflags='-pthread -fno-strict-aliasing -pipe -fstack-protector-strong -I/usr/local/include'
    ccversion=''
    gccversion='4.2.1 Compatible OpenBSD Clang 8.0.1 (tags/RELEASE_801/final)'
    gccosandvers=''
    intsize=4
    longsize=8
    ptrsize=8
    doublesize=8
    byteorder=12345678
    doublekind=3
    d_longlong=define
    longlongsize=8
    d_longdbl=define
    longdblsize=16
    longdblkind=3
    ivtype='long'
    ivsize=8
    nvtype='double'
    nvsize=8
    Off_t='off_t'
    lseeksize=8
    alignbytes=8
    prototype=define
  Linker and Libraries:
    ld='cc'
    ldflags ='-pthread -Wl,-E  -fstack-protector-strong -L/usr/local/lib'
    libpth=/usr/lib /usr/local/lib
    libs=-lpthread -lm -lutil -lc
    perllibs=-lpthread -lm -lutil -lc
    libc=/usr/lib/libc.so.96.0
    so=so
    useshrplib=false
    libperl=libperl.a
    gnulibc_version=''
  Dynamic Linking:
    dlsrc=dl_dlopen.xs
    dlext=so
    d_dlsymun=undef
    ccdlflags=' '
    cccdlflags='-DPIC -fPIC '
    lddlflags='-shared -fPIC  -L/usr/local/lib -fstack-protector-strong'


Characteristics of this binary (from libperl): 
  Compile-time options:
    HAS_TIMES
    MULTIPLICITY
    PERLIO_LAYERS
    PERL_COPY_ON_WRITE
    PERL_DONT_CREATE_GVSV
    PERL_IMPLICIT_CONTEXT
    PERL_MALLOC_WRAP
    PERL_OP_PARENT
    PERL_PRESERVE_IVUV
    PERL_USE_DEVEL
    USE_64_BIT_ALL
    USE_64_BIT_INT
    USE_ITHREADS
    USE_LARGE_FILES
    USE_LOCALE
    USE_LOCALE_COLLATE
    USE_LOCALE_CTYPE
    USE_LOCALE_NUMERIC
    USE_LOCALE_TIME
    USE_PERLIO
    USE_PERL_ATOF
    USE_REENTRANT_API
  Built under openbsd
  Compiled at Sep  3 2020 13:13:37
  %ENV:
    PERL5LIB=""
    PERL5OPT=""
    PERL5_CPANPLUS_IS_RUNNING="2261"
    PERL5_CPAN_IS_RUNNING="2261"
    PERL_MM_USE_DEFAULT="1"
    PERL_USE_UNSAFE_INC="1"
    PERL_VERSION="blead"
  @INC:
    /home/cpan/bin/perl-blead/lib/site_perl/5.33.2/OpenBSD.amd64-openbsd-thread-multi
    /home/cpan/bin/perl-blead/lib/site_perl/5.33.2
    /home/cpan/bin/perl-blead/lib/5.33.2/OpenBSD.amd64-openbsd-thread-multi
    /home/cpan/bin/perl-blead/lib/5.33.2
    .