Back
From: metabase:user:8286d1fc-3d52-11e2-9ec4-cb9cdd236785
Subject: PASS HTML-StickyQuery-0.13 v5.19.9 GNU/Linux
Date: 2014-02-23T16:46:22Z
This distribution has been tested as part of the CPAN Testers
project, supporting the Perl programming language. See
http://wiki.cpantesters.org/ for more information or email
questions to cpan-testers-discuss@perl.org
--
Dear IKEBE Tomohiro,
This is a computer-generated report for HTML-StickyQuery-0.13
on perl 5.19.9, created by CPAN-Reporter-1.2010.
Thank you for uploading your work to CPAN. Congratulations!
All tests were successful.
Sections of this report:
* Tester comments
* Program output
* Prerequisites
* Environment and other context
------------------------------
TESTER COMMENTS
------------------------------
Additional comments from tester:
this report is from an automated smoke testing program
and was not reviewed by a human for accuracy
------------------------------
PROGRAM OUTPUT
------------------------------
Output from '/usr/local/bin/make test':
PERL_DL_NONLAZY=1 /opt/perl444-27-5.19.9/bin/perl "-MExtUtils::Command::MM" "-MTest::Harness" "-e" "undef *Test::Harness::Switches; test_harness(0, 'inc', 'blib/lib', 'blib/arch')" t/*.t
t/01load.t ........... ok
t/02file.t ........... ok
t/03scalarref.t ...... ok
t/04keep_original.t .. ok
t/05regexp.t ......... ok
t/06abs.t ............ ok
t/07arrayref.t ....... ok
t/08escape.t ......... ok
t/09comment.t ........ ok
t/10multiple.t ....... ok
t/11param.t .......... ok
t/12sticky_keys.t .... ok
t/13standalongtag.t .. ok
t/14xhtml.t .......... ok
All tests successful.
Files=14, Tests=25, 4 wallclock secs ( 0.18 usr 0.05 sys + 2.10 cusr 0.34 csys = 2.67 CPU)
Result: PASS
------------------------------
PREREQUISITES
------------------------------
Prerequisite modules loaded:
requires:
Module Need Have
------------------- ---- --------
HTML::Parser 3.00 3.71
parent 0 0.228
URI 0 1.60
build_requires:
Module Need Have
------------------- ---- --------
ExtUtils::MakeMaker 6.42 6.90
Test::More 0 1.001002
configure_requires:
Module Need Have
------------------- ---- --------
ExtUtils::MakeMaker 6.42 6.90
------------------------------
ENVIRONMENT AND OTHER CONTEXT
------------------------------
Environment variables:
AUTOMATED_TESTING = 1
LANG = en_US.UTF-8
LD_LIBRARY_PATH = /usr/local/lib
PATH = /usr/lib/qt-3.3/bin:/usr/kerberos/sbin:/usr/kerberos/bin:/usr/lib/ccache:/usr/local/sbin:/usr/local/bin:/sbin:/bin:/usr/sbin:/usr/bin:/usr/X11R6/bin:/usr/lib/alliance/bin:/opt/real/RealPlayer:/root/bin:/usr/lib/alliance/bin:/opt/real/RealPlayer
PERL5LIB =
PERL5OPT =
PERL5_CPANPLUS_IS_RUNNING = 31755
PERL5_CPAN_IS_RUNNING = 31755
PERL_MM_NONINTERACTIVE = 1
PERL_MM_USE_DEFAULT = 1
SHELL = /bin/bash
TERM = xterm
Perl special variables (and OS-specific diagnostics, for MSWin32):
$^X = /opt/perl444-27-5.19.9/bin/perl
$UID/$EUID = 0 / 0
$GID = 0 0 1 2 3 4 6 10
$EGID = 0 0 1 2 3 4 6 10
Perl module toolchain versions installed:
Module Have
------------------- --------
CPAN 2.03
CPAN::Meta 2.133380
Cwd 3.45
ExtUtils::CBuilder 0.280213
ExtUtils::Command 1.18
ExtUtils::Install 1.61
ExtUtils::MakeMaker 6.90
ExtUtils::Manifest 1.63
ExtUtils::ParseXS 3.23
File::Spec 3.45
JSON 2.90
JSON::PP 2.27203
Module::Build 0.4205
Module::Signature 0.73
Parse::CPAN::Meta 1.4413
Test::Harness 3.30
Test::More 1.001002
YAML 0.90
YAML::Syck 1.27
version 0.9908
--
Summary of my perl5 (revision 5 version 19 subversion 9) configuration:
Snapshot of: aab479824bd61711d2d2bd1afb28f9e02f41c218
Platform:
osname=linux, osvers=2.6.27-repin.1, archname=i686-linux-thread-multi-64int-ld
uname='linux localhost.localdomain 2.6.27-repin.1 #1 smp tue jan 25 20:07:21 msk 2011 i686 i686 i386 gnulinux '
config_args='-Dcc=/opt/444/bin/gcc -Doptimize=-O3 -Dmalloc=/usr/local/bin/dmalloc -Dprefix=/opt/perl444-27-5.19.9 -DDEBUGGING -Dusethreads'
hint=recommended, useposix=true, d_sigaction=define
useithreads=define, usemultiplicity=define
use64bitint=define, use64bitall=undef, uselongdouble=define
usemymalloc=n, bincompat5005=undef
Compiler:
cc='/opt/444/bin/gcc', ccflags ='-DDMALLOC -D_LARGEFILE_SOURCE -D_FILE_OFFSET_BITS=64',
optimize='-O3 -g',
cppflags='-DDMALLOC'
ccversion='', gccversion='4.4.4', gccosandvers=''
intsize=4, longsize=4, ptrsize=4, doublesize=8, byteorder=12345678
d_longlong=define, longlongsize=8, d_longdbl=define, longdblsize=12
ivtype='long long', ivsize=8, nvtype='long double', nvsize=12, Off_t='off_t', lseeksize=8
alignbytes=4, prototype=define
Linker and Libraries:
ld='/opt/444/bin/gcc', ldflags =' -L/usr/local/lib'
libpth=/usr/local/lib /opt/444/lib /opt/444/lib/gcc/i686-pc-linux-gnu/4.4.4/include-fixed /usr/lib /lib
libs=-lnsl -lgdbm -ldb -ldl -lm -lcrypt -lutil -lpthread -lc
perllibs=-lnsl -ldl -lm -lcrypt -lutil -lpthread -lc
libc=/lib/libc-2.5.so, so=so, useshrplib=true, libperl=libperl.so
gnulibc_version='2.5'
Dynamic Linking:
dlsrc=dl_dlopen.xs, dlext=so, d_dlsymun=undef, ccdlflags='-Wl,-E -Wl,-rpath,/opt/perl444-27-5.19.9/lib/5.19.9/i686-linux-thread-multi-64int-ld/CORE'
cccdlflags='-fPIC', lddlflags='-shared -O3 -g -L/usr/local/lib'
Characteristics of this binary (from libperl):
Compile-time options: HAS_TIMES MULTIPLICITY PERLIO_LAYERS
PERL_DONT_CREATE_GVSV
PERL_HASH_FUNC_ONE_AT_A_TIME_HARD
PERL_IMPLICIT_CONTEXT PERL_MAD PERL_MALLOC_WRAP
PERL_NEW_COPY_ON_WRITE PERL_PRESERVE_IVUV
USE_64_BIT_INT USE_FAST_STDIO USE_ITHREADS
USE_LARGE_FILES USE_LOCALE USE_LOCALE_COLLATE
USE_LOCALE_CTYPE USE_LOCALE_NUMERIC USE_LONG_DOUBLE
USE_PERLIO USE_PERL_ATOF USE_REENTRANT_API
Built under linux
Compiled at Jan 20 2014 21:35:40
%ENV:
PERL5LIB=""
PERL5OPT=""
PERL5_CPANPLUS_IS_RUNNING="31755"
PERL5_CPAN_IS_RUNNING="31755"
PERL_MM_NONINTERACTIVE="1"
PERL_MM_USE_DEFAULT="1"
@INC:
/opt/perl444-27-5.19.9/lib/site_perl/5.19.9/i686-linux-thread-multi-64int-ld
/opt/perl444-27-5.19.9/lib/site_perl/5.19.9
/opt/perl444-27-5.19.9/lib/5.19.9/i686-linux-thread-multi-64int-ld
/opt/perl444-27-5.19.9/lib/5.19.9
.