Report for Rose-HTML-Objects-0.620

Back
From: metabase:user:320bfe00-2aae-11df-837a-5e0a49663a4f
Subject: PASS Rose-HTML-Objects-0.620 v5.18.2 RC4 GNU/Linux
Date: 2013-12-29T21:27:32Z

This distribution has been tested as part of the CPAN Testers
project, supporting the Perl programming language.  See
http://wiki.cpantesters.org/ for more information or email
questions to cpan-testers-discuss@perl.org


--
Dear John Siracusa,

This is a computer-generated report for Rose-HTML-Objects-0.620
on perl 5.18.2, created by CPAN-Reporter-1.2010.

Thank you for uploading your work to CPAN.  Congratulations!
All tests were successful.

Sections of this report:

    * Tester comments
    * Program output
    * Prerequisites
    * Environment and other context

------------------------------
TESTER COMMENTS
------------------------------

Additional comments from tester:

this report is from an automated smoke testing program
and was not reviewed by a human for accuracy

------------------------------
PROGRAM OUTPUT
------------------------------

Output from '/usr/bin/make test':

PERL_DL_NONLAZY=1 /tmp/basesmoker-reloperl-CrTt/bin/perl "-MExtUtils::Command::MM" "-MTest::Harness" "-e" "undef *Test::Harness::Switches; test_harness(0, 'blib/lib', 'blib/arch')" t/*.t
t/anchor.t ........................ ok
t/attachments.t ................... skipped: disabled
t/form-field-checkbox-group.t ..... ok
t/form-field-checkbox.t ........... ok
t/form-field-compound.t ........... ok
t/form-field-datetime-split.t ..... ok
t/form-field-datetime.t ........... ok
t/form-field-email.t .............. ok
t/form-field-file.t ............... ok
t/form-field-hidden.t ............. ok
t/form-field-integer.t ............ ok
t/form-field-l10n.t ............... ok
t/form-field-numeric.t ............ ok
t/form-field-option.t ............. ok
t/form-field-optiongroup.t ........ ok
t/form-field-password.t ........... ok
t/form-field-phone.t .............. ok
t/form-field-popup-menu.t ......... ok
t/form-field-radio-group.t ........ ok
t/form-field-radiobutton.t ........ ok
t/form-field-reset.t .............. ok
t/form-field-selectbox.t .......... ok
t/form-field-set.t ................ ok
t/form-field-submit.t ............. ok
t/form-field-text.t ............... ok
t/form-field-textarea.t ........... ok
t/form-field-time-split.t ......... ok
t/form-field-time.t ............... ok
t/form-field.t .................... ok
t/form-l10n.t ..................... ok
t/form-nested.t ................... ok
t/form-repeatable.t ............... ok
t/form.t .......................... ok
t/image.t ......................... ok
t/l10n-errors-01.t ................ ok
t/l10n-message.t .................. ok
t/l10n-messages-01.t .............. ok
t/label.t ......................... ok
t/leaks.t ......................... ok
t/link.t .......................... ok
t/localizer-auto-load-messages.t .. ok
t/mro-c3.t ........................ ok
t/object-l10n.t ................... ok
t/object-localizer.t .............. ok
t/object-message.t ................ ok
t/object.t ........................ ok
t/pod.t ........................... ok
t/private-library.t ............... ok
t/script.t ........................ ok
t/text.t .......................... ok
All tests successful.
Files=50, Tests=2427,  9 wallclock secs ( 0.41 usr  0.04 sys +  7.55 cusr  0.61 csys =  8.61 CPU)
Result: PASS

------------------------------
PREREQUISITES
------------------------------

Prerequisite modules loaded:

requires:

    Module              Need     Have    
    ------------------- -------- --------
    base                2.18     2.18    
    Carp                0        1.32    
    Clone::PP           0        1.02    
    DateTime            0.20     1.04    
    Email::Valid        0        1.192   
    Encode              0        2.56    
    File::Basename      0        2.84    
    File::Path          0        2.09    
    File::Spec          0        3.40    
    HTML::Entities      0        3.69    
    Image::Size         0        3.232   
    IO::String          1.08     1.08    
    List::MoreUtils     0        0.33    
    perl                5.006000 5.018002
    Rose::DateTime      0.532    0.540   
    Rose::Object        0.854    0.860   
    Rose::URI           0.021    1.00    
    Scalar::Util        0        1.35    
    URI::Escape         0        3.31    

build_requires:

    Module              Need     Have    
    ------------------- -------- --------
    ExtUtils::MakeMaker 0        6.85_04 

configure_requires:

    Module              Need     Have    
    ------------------- -------- --------
    ExtUtils::MakeMaker 0        6.85_04 


------------------------------
ENVIRONMENT AND OTHER CONTEXT
------------------------------

Environment variables:

    AUTOMATED_TESTING = 1
    LANG = en_US.UTF-8
    LANGUAGE = en_US:en
    PATH = /usr/lib/ccache:/home/sand/bin:/usr/local/bin:/usr/lib/ccache:/usr/bin:/bin:/usr/bin/X11:/usr/games:/usr/local/perl/bin:/usr/X11/bin:/sbin:/usr/sbin
    PERL5LIB = 
    PERL5OPT = 
    PERL5_CPANPLUS_IS_RUNNING = 17529
    PERL5_CPAN_IS_RUNNING = 17529
    PERL_MM_USE_DEFAULT = 1
    SHELL = /usr/bin/zsh
    TERM = screen

Perl special variables (and OS-specific diagnostics, for MSWin32):

    $^X = /tmp/basesmoker-reloperl-CrTt/bin/perl
    $UID/$EUID = 1005 / 1005
    $GID = 1005 1005
    $EGID = 1005 1005

Perl module toolchain versions installed:

    Module              Have    
    ------------------- --------
    CPAN                2.00    
    CPAN::Meta          2.133380
    Cwd                 3.40    
    ExtUtils::CBuilder  0.280212
    ExtUtils::Command   1.17    
    ExtUtils::Install   1.59    
    ExtUtils::MakeMaker 6.85_04 
    ExtUtils::Manifest  1.63    
    ExtUtils::ParseXS   3.22    
    File::Spec          3.40    
    JSON                2.90    
    JSON::PP            2.27203 
    Module::Build       0.4203  
    Module::Signature   0.73    
    Parse::CPAN::Meta   1.4409  
    Test::Harness       3.30    
    Test::More          1.001002
    YAML                0.88    
    YAML::Syck          1.27    
    version             0.9904  


--

Summary of my perl5 (revision 5 version 18 subversion 2) configuration:
  Commit id: 4b39663ff1c51c68c6412a29ea57b000bf4e81af
  Platform:
    osname=linux, osvers=3.10-3-amd64, archname=x86_64-linux-ld
    uname='linux k83 3.10-3-amd64 #1 smp debian 3.10.11-1 (2013-09-10) x86_64 gnulinux '
    config_args='-Dprefix=/home/sand/src/perl/repoperls/installed-perls/perl/v5.18.2-RC4/127e -Dmyhostname=k83 -Dinstallusrbinperl=n -Uversiononly -Dusedevel -des -Ui_db -Uuseithreads -Duselongdouble -DDEBUGGING=-g'
    hint=recommended, useposix=true, d_sigaction=define
    useithreads=undef, usemultiplicity=undef
    useperlio=define, d_sfio=undef, uselargefiles=define, usesocks=undef
    use64bitint=define, use64bitall=define, uselongdouble=define
    usemymalloc=n, bincompat5005=undef
  Compiler:
    cc='cc', ccflags ='-fno-strict-aliasing -pipe -fstack-protector -I/usr/local/include -D_LARGEFILE_SOURCE -D_FILE_OFFSET_BITS=64',
    optimize='-O2 -g',
    cppflags='-fno-strict-aliasing -pipe -fstack-protector -I/usr/local/include'
    ccversion='', gccversion='4.8.2', gccosandvers=''
    intsize=4, longsize=8, ptrsize=8, doublesize=8, byteorder=12345678
    d_longlong=define, longlongsize=8, d_longdbl=define, longdblsize=16
    ivtype='long', ivsize=8, nvtype='long double', nvsize=16, Off_t='off_t', lseeksize=8
    alignbytes=16, prototype=define
  Linker and Libraries:
    ld='cc', ldflags =' -fstack-protector -L/usr/local/lib'
    libpth=/usr/local/lib /lib/x86_64-linux-gnu /lib/../lib /usr/lib/x86_64-linux-gnu /usr/lib/../lib /lib /usr/lib
    libs=-lnsl -lgdbm -ldb -ldl -lm -lcrypt -lutil -lc -lgdbm_compat
    perllibs=-lnsl -ldl -lm -lcrypt -lutil -lc
    libc=, so=so, useshrplib=false, libperl=libperl.a
    gnulibc_version='2.17'
  Dynamic Linking:
    dlsrc=dl_dlopen.xs, dlext=so, d_dlsymun=undef, ccdlflags='-Wl,-E'
    cccdlflags='-fPIC', lddlflags='-shared -O2 -g -L/usr/local/lib -fstack-protector'


Characteristics of this binary (from libperl): 
  Compile-time options: HAS_TIMES PERLIO_LAYERS PERL_DONT_CREATE_GVSV
                        PERL_HASH_FUNC_ONE_AT_A_TIME_HARD PERL_MALLOC_WRAP
                        PERL_PRESERVE_IVUV PERL_SAWAMPERSAND PERL_USE_DEVEL
                        USE_64_BIT_ALL USE_64_BIT_INT USE_LARGE_FILES
                        USE_LOCALE USE_LOCALE_COLLATE USE_LOCALE_CTYPE
                        USE_LOCALE_NUMERIC USE_LONG_DOUBLE USE_PERLIO
                        USE_PERL_ATOF
  Locally applied patches:
	RC4
  Built under linux
  Compiled at Dec 22 2013 08:26:53
  %ENV:
    PERL5LIB=""
    PERL5OPT=""
    PERL5_CPANPLUS_IS_RUNNING="17529"
    PERL5_CPAN_IS_RUNNING="17529"
    PERL_MM_USE_DEFAULT="1"
  @INC:
    /home/sand/src/perl/repoperls/installed-perls/perl/v5.18.2-RC4/127e/lib/site_perl/5.18.2/x86_64-linux-ld
    /home/sand/src/perl/repoperls/installed-perls/perl/v5.18.2-RC4/127e/lib/site_perl/5.18.2
    /home/sand/src/perl/repoperls/installed-perls/perl/v5.18.2-RC4/127e/lib/5.18.2/x86_64-linux-ld
    /home/sand/src/perl/repoperls/installed-perls/perl/v5.18.2-RC4/127e/lib/5.18.2
    .