Report for Apache2-ASP-2.46

Back
From: metabase:user:320bfe00-2aae-11df-837a-5e0a49663a4f
Subject: PASS Apache2-ASP-2.46 v5.19.9 GNU/Linux
Date: 2014-02-01T16:15:11Z

This distribution has been tested as part of the CPAN Testers
project, supporting the Perl programming language.  See
http://wiki.cpantesters.org/ for more information or email
questions to cpan-testers-discuss@perl.org


--
Dear John Drago,

This is a computer-generated report for Apache2-ASP-2.46
on perl 5.19.9, created by CPAN-Reporter-1.2010.

Thank you for uploading your work to CPAN.  Congratulations!
All tests were successful.

Sections of this report:

    * Tester comments
    * Program output
    * Prerequisites
    * Environment and other context

------------------------------
TESTER COMMENTS
------------------------------

Additional comments from tester:

this report is from an automated smoke testing program
and was not reviewed by a human for accuracy

------------------------------
PROGRAM OUTPUT
------------------------------

Output from '/usr/bin/make test':

PERL_DL_NONLAZY=1 /tmp/basesmoker-reloperl-iRBe/bin/perl "-MExtUtils::Command::MM" "-MTest::Harness" "-e" "undef *Test::Harness::Switches; test_harness(0, 'inc', 'blib/lib', 'blib/arch')" t/000-setup/*.t t/010-coverage/*.t t/900-old-tests/*.t t/999-cleanup/*.t
t/000-setup/00.00-setup.t ................. ok
Use of the encoding pragma is deprecated at /tmp/loop_over_bdir-26954-sYghUh/Apache2-ASP-2.46-ydi8lP/blib/lib/Apache2/ASP/Server.pm line 7.
t/010-coverage/010-api.t .................. ok
Use of the encoding pragma is deprecated at /tmp/loop_over_bdir-26954-sYghUh/Apache2-ASP-2.46-ydi8lP/blib/lib/Apache2/ASP/Server.pm line 7.
t/010-coverage/020-config.t ............... ok
Use of the encoding pragma is deprecated at /tmp/loop_over_bdir-26954-sYghUh/Apache2-ASP-2.46-ydi8lP/blib/lib/Apache2/ASP/Server.pm line 7.
t/010-coverage/030-configparser.t ......... ok
Use of the encoding pragma is deprecated at /tmp/loop_over_bdir-26954-sYghUh/Apache2-ASP-2.46-ydi8lP/blib/lib/Apache2/ASP/Server.pm line 7.
t/010-coverage/040-httpcontext.t .......... ok
Use of the encoding pragma is deprecated at /tmp/loop_over_bdir-26954-sYghUh/Apache2-ASP-2.46-ydi8lP/blib/lib/Apache2/ASP/Server.pm line 7.
t/010-coverage/050-mediamanager.t ......... ok
Use of the encoding pragma is deprecated at /tmp/loop_over_bdir-26954-sYghUh/Apache2-ASP-2.46-ydi8lP/blib/lib/Apache2/ASP/Server.pm line 7.
t/010-coverage/060-request.t .............. ok
Use of the encoding pragma is deprecated at /tmp/loop_over_bdir-26954-sYghUh/Apache2-ASP-2.46-ydi8lP/blib/lib/Apache2/ASP/Server.pm line 7.
t/010-coverage/070-response.t ............. ok
Use of the encoding pragma is deprecated at /tmp/loop_over_bdir-26954-sYghUh/Apache2-ASP-2.46-ydi8lP/blib/lib/Apache2/ASP/Server.pm line 7.
t/010-coverage/080-server.t ............... ok
Use of the encoding pragma is deprecated at /tmp/loop_over_bdir-26954-sYghUh/Apache2-ASP-2.46-ydi8lP/blib/lib/Apache2/ASP/Server.pm line 7.
t/900-old-tests/00.01-subcontext.t ........ ok
Use of the encoding pragma is deprecated at /tmp/loop_over_bdir-26954-sYghUh/Apache2-ASP-2.46-ydi8lP/blib/lib/Apache2/ASP/Server.pm line 7.
t/900-old-tests/01.00-a-memory-leak.t ..... ok
t/900-old-tests/01.01-load.t .............. ok
Use of the encoding pragma is deprecated at /tmp/loop_over_bdir-26954-sYghUh/Apache2-ASP-2.46-ydi8lP/blib/lib/Apache2/ASP/Server.pm line 7.
t/900-old-tests/01.01-master-recursive.t .. ok
t/900-old-tests/01.02-findconfig.t ........ ok
t/900-old-tests/01.03-configloader.t ...... ok
Use of the encoding pragma is deprecated at /tmp/loop_over_bdir-26954-sYghUh/Apache2-ASP-2.46-ydi8lP/blib/lib/Apache2/ASP/Server.pm line 7.
t/900-old-tests/01.04-test-useragent.t .... ok
Use of the encoding pragma is deprecated at /tmp/loop_over_bdir-26954-sYghUh/Apache2-ASP-2.46-ydi8lP/blib/lib/Apache2/ASP/Server.pm line 7.
t/900-old-tests/01.05-memcycle.t .......... ok
Use of the encoding pragma is deprecated at /tmp/loop_over_bdir-26954-sYghUh/Apache2-ASP-2.46-ydi8lP/blib/lib/Apache2/ASP/Server.pm line 7.
t/900-old-tests/01.06-cookies.t ........... ok
Use of the encoding pragma is deprecated at /tmp/loop_over_bdir-26954-sYghUh/Apache2-ASP-2.46-ydi8lP/blib/lib/Apache2/ASP/Server.pm line 7.
t/900-old-tests/01.07-post.t .............. ok
Use of the encoding pragma is deprecated at /tmp/loop_over_bdir-26954-sYghUh/Apache2-ASP-2.46-ydi8lP/blib/lib/Apache2/ASP/Server.pm line 7.
t/900-old-tests/01.08-upload.t ............ ok
Use of the encoding pragma is deprecated at /tmp/loop_over_bdir-26954-sYghUh/Apache2-ASP-2.46-ydi8lP/blib/lib/Apache2/ASP/Server.pm line 7.
t/900-old-tests/01.09-submit-form.t ....... ok
Use of the encoding pragma is deprecated at /tmp/loop_over_bdir-26954-sYghUh/Apache2-ASP-2.46-ydi8lP/blib/lib/Apache2/ASP/Server.pm line 7.
20 at t/900-old-tests/02.01-benchmark.t line 21.
40 at t/900-old-tests/02.01-benchmark.t line 21.
60 at t/900-old-tests/02.01-benchmark.t line 21.
80 at t/900-old-tests/02.01-benchmark.t line 21.
100 at t/900-old-tests/02.01-benchmark.t line 21.

	148.725007747749 requests/second at t/900-old-tests/02.01-benchmark.t line 27.
20 at t/900-old-tests/02.01-benchmark.t line 34.
40 at t/900-old-tests/02.01-benchmark.t line 34.
60 at t/900-old-tests/02.01-benchmark.t line 34.
80 at t/900-old-tests/02.01-benchmark.t line 34.
100 at t/900-old-tests/02.01-benchmark.t line 34.

	180.893291044577 requests/second at t/900-old-tests/02.01-benchmark.t line 40.
t/900-old-tests/02.01-benchmark.t ......... ok
t/900-old-tests/03.08-aspdom-node.t ....... ok
Use of the encoding pragma is deprecated at /tmp/loop_over_bdir-26954-sYghUh/Apache2-ASP-2.46-ydi8lP/blib/lib/Apache2/ASP/Server.pm line 7.
t/900-old-tests/04.00-nested-master.t ..... ok
Use of the encoding pragma is deprecated at /tmp/loop_over_bdir-26954-sYghUh/Apache2-ASP-2.46-ydi8lP/blib/lib/Apache2/ASP/Server.pm line 7.
t/900-old-tests/04.01-syntax-errors.t ..... skipped: Test irrelevant for now
Use of the encoding pragma is deprecated at /tmp/loop_over_bdir-26954-sYghUh/Apache2-ASP-2.46-ydi8lP/blib/lib/Apache2/ASP/Server.pm line 7.
t/900-old-tests/04.02-include-at-end.t .... ok
Use of the encoding pragma is deprecated at /tmp/loop_over_bdir-26954-sYghUh/Apache2-ASP-2.46-ydi8lP/blib/lib/Apache2/ASP/Server.pm line 7.
t/900-old-tests/04.03-unhandled-tag.t ..... ok
Use of the encoding pragma is deprecated at /tmp/loop_over_bdir-26954-sYghUh/Apache2-ASP-2.46-ydi8lP/blib/lib/Apache2/ASP/Server.pm line 7.
t/900-old-tests/05.00-folder-uri.t ........ ok
t/999-cleanup/99.99-cleanup.t ............. ok
All tests successful.
Files=29, Tests=289, 10 wallclock secs ( 0.10 usr  0.03 sys +  7.55 cusr  1.42 csys =  9.10 CPU)
Result: PASS

------------------------------
PREREQUISITES
------------------------------

Prerequisite modules loaded:

requires:

    Module                 Need   Have    
    ---------------------- ------ --------
    CGI                    3.43   3.64    
    CGI::Simple            1.106  1.113   
    Cwd                    3.2701 3.46    
    Data::Properties::YAML 0.02   0.04    
    DBD::SQLite            1.14   1.40    
    DBI                    1.607  1.631   
    Digest::MD5            2.36   2.53    
    Encode                 2.23   2.57    
    ExtUtils::MakeMaker    6.88   6.88    
    HTML::Form             5.817  6.03    
    HTTP::Body             1.04   1.19    
    HTTP::Date             5.81   6.02    
    HTTP::Request::AsCGI   0.5    1.2     
    Ima::DBI               0.35   0.35    
    IO::File               1.14   1.16    
    Mail::Sendmail         0.79   0.79    
    MIME::Types            1.24   2.04    
    Storable               2.18   2.48    
    Test::Memory::Cycle    0      1.04    
    Test::More             0.77   1.001002
    Time::HiRes            1.9715 1.9726  
    XML::Parser            2.36   2.41    
    XML::Simple            2.18   2.20    

build_requires:

    Module                 Need   Have    
    ---------------------- ------ --------
    ExtUtils::MakeMaker    0      6.88    

configure_requires:

    Module                 Need   Have    
    ---------------------- ------ --------
    ExtUtils::MakeMaker    0      6.88    


------------------------------
ENVIRONMENT AND OTHER CONTEXT
------------------------------

Environment variables:

    AUTOMATED_TESTING = 1
    LANG = en_US.UTF-8
    LANGUAGE = en_US:en
    PATH = /usr/lib/ccache:/home/sand/bin:/usr/local/bin:/usr/bin:/bin:/usr/bin/X11:/usr/games:/usr/local/perl/bin:/usr/X11/bin:/sbin:/usr/sbin
    PERL5LIB = 
    PERL5OPT = 
    PERL5_CPANPLUS_IS_RUNNING = 17461
    PERL5_CPAN_IS_RUNNING = 17461
    PERL_MM_USE_DEFAULT = 1
    SHELL = /usr/bin/zsh
    TERM = screen

Perl special variables (and OS-specific diagnostics, for MSWin32):

    $^X = /tmp/basesmoker-reloperl-iRBe/bin/perl
    $UID/$EUID = 1005 / 1005
    $GID = 1005 1005
    $EGID = 1005 1005

Perl module toolchain versions installed:

    Module              Have    
    ------------------- --------
    CPAN                2.00    
    CPAN::Meta          2.133380
    Cwd                 3.46    
    ExtUtils::CBuilder  0.280214
    ExtUtils::Command   1.18    
    ExtUtils::Install   1.62    
    ExtUtils::MakeMaker 6.88    
    ExtUtils::Manifest  1.63    
    ExtUtils::ParseXS   3.23    
    File::Spec          3.46    
    JSON                2.90    
    JSON::PP            2.27203 
    Module::Build       0.4204  
    Module::Signature   0.73    
    Parse::CPAN::Meta   1.4409  
    Test::Harness       3.30    
    Test::More          1.001002
    YAML                0.88    
    YAML::Syck          1.27    
    version             0.9907  


--

Summary of my perl5 (revision 5 version 19 subversion 9) configuration:
  Commit id: e384d5c133dfb89bdbb4c8ae3549357d2ed803b4
  Platform:
    osname=linux, osvers=3.10-3-amd64, archname=x86_64-linux
    uname='linux k83 3.10-3-amd64 #1 smp debian 3.10.11-1 (2013-09-10) x86_64 gnulinux '
    config_args='-Dprefix=/home/sand/src/perl/repoperls/installed-perls/perl/v5.19.8-257-ge384d5c/165a -Dmyhostname=k83 -Dinstallusrbinperl=n -Uversiononly -Dusedevel -des -Ui_db -Uuseithreads -Uuselongdouble -DDEBUGGING=-g'
    hint=recommended, useposix=true, d_sigaction=define
    useithreads=undef, usemultiplicity=undef
    use64bitint=define, use64bitall=define, uselongdouble=undef
    usemymalloc=n, bincompat5005=undef
  Compiler:
    cc='cc', ccflags ='-fno-strict-aliasing -pipe -fstack-protector -I/usr/local/include -D_LARGEFILE_SOURCE -D_FILE_OFFSET_BITS=64',
    optimize='-O2 -g',
    cppflags='-fno-strict-aliasing -pipe -fstack-protector -I/usr/local/include'
    ccversion='', gccversion='4.8.2', gccosandvers=''
    intsize=4, longsize=8, ptrsize=8, doublesize=8, byteorder=12345678
    d_longlong=define, longlongsize=8, d_longdbl=define, longdblsize=16
    ivtype='long', ivsize=8, nvtype='double', nvsize=8, Off_t='off_t', lseeksize=8
    alignbytes=8, prototype=define
  Linker and Libraries:
    ld='cc', ldflags =' -fstack-protector -L/usr/local/lib'
    libpth=/usr/local/lib /usr/lib/gcc/x86_64-linux-gnu/4.8/include-fixed /usr/include/x86_64-linux-gnu /usr/lib /lib/x86_64-linux-gnu /lib/../lib /usr/lib/x86_64-linux-gnu /usr/lib/../lib /lib
    libs=-lnsl -lgdbm -ldb -ldl -lm -lcrypt -lutil -lc -lgdbm_compat
    perllibs=-lnsl -ldl -lm -lcrypt -lutil -lc
    libc=libc-2.17.so, so=so, useshrplib=false, libperl=libperl.a
    gnulibc_version='2.17'
  Dynamic Linking:
    dlsrc=dl_dlopen.xs, dlext=so, d_dlsymun=undef, ccdlflags='-Wl,-E'
    cccdlflags='-fPIC', lddlflags='-shared -O2 -g -L/usr/local/lib -fstack-protector'


Characteristics of this binary (from libperl): 
  Compile-time options: HAS_TIMES PERLIO_LAYERS PERL_DONT_CREATE_GVSV
                        PERL_HASH_FUNC_ONE_AT_A_TIME_HARD PERL_MALLOC_WRAP
                        PERL_NEW_COPY_ON_WRITE PERL_PRESERVE_IVUV
                        PERL_USE_DEVEL USE_64_BIT_ALL USE_64_BIT_INT
                        USE_LARGE_FILES USE_LOCALE USE_LOCALE_COLLATE
                        USE_LOCALE_CTYPE USE_LOCALE_NUMERIC USE_PERLIO
                        USE_PERL_ATOF
  Built under linux
  Compiled at Jan 31 2014 14:03:51
  %ENV:
    PERL5LIB=""
    PERL5OPT=""
    PERL5_CPANPLUS_IS_RUNNING="17461"
    PERL5_CPAN_IS_RUNNING="17461"
    PERL_MM_USE_DEFAULT="1"
  @INC:
    /home/sand/src/perl/repoperls/installed-perls/perl/v5.19.8-257-ge384d5c/165a/lib/site_perl/5.19.9/x86_64-linux
    /home/sand/src/perl/repoperls/installed-perls/perl/v5.19.8-257-ge384d5c/165a/lib/site_perl/5.19.9
    /home/sand/src/perl/repoperls/installed-perls/perl/v5.19.8-257-ge384d5c/165a/lib/5.19.9/x86_64-linux
    /home/sand/src/perl/repoperls/installed-perls/perl/v5.19.8-257-ge384d5c/165a/lib/5.19.9
    .