Report for PostScript-Report-0.13

Back
From: metabase:user:320bfe00-2aae-11df-837a-5e0a49663a4f
Subject: PASS PostScript-Report-0.13 v5.21.4 GNU/Linux
Date: 2014-08-25T01:13:30Z

This distribution has been tested as part of the CPAN Testers
project, supporting the Perl programming language.  See
http://wiki.cpantesters.org/ for more information or email
questions to cpan-testers-discuss@perl.org


--
Dear Christopher J. Madsen,

This is a computer-generated report for PostScript-Report-0.13
on perl 5.21.4, created by CPAN-Reporter-1.2011.

Thank you for uploading your work to CPAN.  Congratulations!
All tests were successful.

Sections of this report:

    * Tester comments
    * Program output
    * Prerequisites
    * Environment and other context

------------------------------
TESTER COMMENTS
------------------------------

Additional comments from tester:

this report is from an automated smoke testing program
and was not reviewed by a human for accuracy

------------------------------
PROGRAM OUTPUT
------------------------------

Output from '/usr/bin/make test':

PERL_DL_NONLAZY=1 /tmp/basesmoker-reloperl-vOoo/bin/perl "-MExtUtils::Command::MM" "-MTest::Harness" "-e" "undef *Test::Harness::Switches; test_harness(0, 'blib/lib', 'blib/arch')" t/*.t
# Listing %INC
#                                                         B 1.50
#                                      B::Hooks::EndOfScope 0.13
#                                  B::Hooks::EndOfScope::XS 0.13
#                                                      Carp 1.34
#                                                Carp::Clan 6.04
#                                               Class::Load 0.22
#                                           Class::Load::XS 0.08
#                                                Class::MOP 2.1211
#                                     Class::MOP::Attribute 2.1211
#                                         Class::MOP::Class 2.1211
#           Class::MOP::Class::Immutable::Class::MOP::Class undef
#          Class::MOP::Class::Immutable::Moose::Meta::Class undef
#                       Class::MOP::Class::Immutable::Trait 2.1211
#                                    Class::MOP::Deprecated 2.1211
#                                      Class::MOP::Instance 2.1211
#                                        Class::MOP::Method 2.1211
#                              Class::MOP::Method::Accessor 2.1211
#                           Class::MOP::Method::Constructor 2.1211
#                             Class::MOP::Method::Generated 2.1211
#                               Class::MOP::Method::Inlined 2.1211
#                                  Class::MOP::Method::Meta 2.1211
#                              Class::MOP::Method::Overload 2.1211
#                               Class::MOP::Method::Wrapped 2.1211
#                                     Class::MOP::MiniTrait 2.1211
#                                         Class::MOP::Mixin 2.1211
#                          Class::MOP::Mixin::AttributeCore 2.1211
#                          Class::MOP::Mixin::HasAttributes 2.1211
#                             Class::MOP::Mixin::HasMethods 2.1211
#                                        Class::MOP::Module 2.1211
#                                        Class::MOP::Object 2.1211
#                                       Class::MOP::Package 2.1211
#                                                    Config 5.021004
#                                             Data::OptList 0.109
#                                  Devel::GlobalDestruction 0.13
#                                                DynaLoader 1.26
#                                             Eval::Closure 0.11
#                                                  Exporter 5.71
#                                                File::Spec 3.49
#                                          File::Spec::Unix 3.49
#                                           List::MoreUtils 0.33
#                                                List::Util 1.39
#                                               MRO::Compat 0.12
#                                    Module::Implementation 0.07
#                                           Module::Runtime 0.014
#                                                     Moose 2.1211
#                                         Moose::Deprecated 2.1211
#                                           Moose::Exporter 2.1211
#                                    Moose::Meta::Attribute 2.1211
#                            Moose::Meta::Attribute::Native 2.1211
#                                        Moose::Meta::Class 2.1211
#                      Moose::Meta::Class::Immutable::Trait 2.1211
#                   Moose::Meta::Class::__ANON__::SERIAL::1 undef
#                   Moose::Meta::Class::__ANON__::SERIAL::2 undef
#                   Moose::Meta::Class::__ANON__::SERIAL::3 undef
#                                     Moose::Meta::Instance 2.1211
#                                       Moose::Meta::Method 2.1211
#                             Moose::Meta::Method::Accessor 2.1211
#                            Moose::Meta::Method::Augmented 2.1211
#                          Moose::Meta::Method::Constructor 2.1211
#                           Moose::Meta::Method::Delegation 2.1211
#                           Moose::Meta::Method::Destructor 2.1211
#                                 Moose::Meta::Method::Meta 2.1211
#                           Moose::Meta::Method::Overridden 2.1211
#                         Moose::Meta::Mixin::AttributeCore 2.1211
#                                Moose::Meta::Object::Trait 2.1211
#                                         Moose::Meta::Role 2.1211
#                            Moose::Meta::Role::Application 2.1211
#             Moose::Meta::Role::Application::RoleSummation 2.1211
#                   Moose::Meta::Role::Application::ToClass 2.1211
#                Moose::Meta::Role::Application::ToInstance 2.1211
#                    Moose::Meta::Role::Application::ToRole 2.1211
#                              Moose::Meta::Role::Attribute 2.1211
#                              Moose::Meta::Role::Composite 2.1211
#                                 Moose::Meta::Role::Method 2.1211
#                    Moose::Meta::Role::Method::Conflicting 2.1211
#                       Moose::Meta::Role::Method::Required 2.1211
#                                 Moose::Meta::TypeCoercion 2.1211
#                          Moose::Meta::TypeCoercion::Union 2.1211
#                               Moose::Meta::TypeConstraint 2.1211
#                        Moose::Meta::TypeConstraint::Class 2.1211
#                     Moose::Meta::TypeConstraint::DuckType 2.1211
#                         Moose::Meta::TypeConstraint::Enum 2.1211
#              Moose::Meta::TypeConstraint::Parameterizable 2.1211
#                Moose::Meta::TypeConstraint::Parameterized 2.1211
#                     Moose::Meta::TypeConstraint::Registry 2.1211
#                         Moose::Meta::TypeConstraint::Role 2.1211
#                        Moose::Meta::TypeConstraint::Union 2.1211
#                                             Moose::Object 2.1211
#                                               Moose::Role 2.1211
#                                               Moose::Util 2.1211
#                                     Moose::Util::MetaRole 2.1211
#                              Moose::Util::TypeConstraints 2.1211
#                    Moose::Util::TypeConstraints::Builtins 2.1211
#                                     MooseX::AttributeTree 0.05
#                           MooseX::AttributeTree::Accessor 0.03
#                               MooseX::Role::Parameterized 1.08
#    MooseX::Role::Parameterized::Meta::Role::Parameterized 1.08
# MooseX::Role::Parameterized::Meta::Trait::Parameterizable 1.08
#   MooseX::Role::Parameterized::Meta::Trait::Parameterized 1.08
#                   MooseX::Role::Parameterized::Parameters 1.08
#                                             MooseX::Types 0.44
#                                       MooseX::Types::Base 0.44
#                         MooseX::Types::CheckedUtilExports 0.44
#                                      MooseX::Types::Moose 0.44
#                              MooseX::Types::TypeDecorator 0.44
#                              MooseX::Types::UndefinedType 0.44
#                                       MooseX::Types::Util 0.44
#                               Package::DeprecationManager 0.13
#                                            Package::Stash 0.36
#                                        Package::Stash::XS 0.28
#                                              Params::Util 1.07
#                                          PostScript::File 2.20
#                                              Scalar::Util 1.39
#                                     String::RewritePrefix 0.007
#                                             Sub::Exporter 0.987
#                                Sub::Exporter::Progressive 0.001011
#                                             Sub::Identify 0.04
#                                              Sub::Install 0.928
#                                                 Sub::Name 0.09
#                                                 Try::Tiny 0.22
#                                           Variable::Magic 0.53
#                                                  XSLoader 0.17
#                                                      base 2.22
#                                                  constant 1.31
#                                                        if 0.0603
#                                                 metaclass 2.1211
#                                                       mro 1.16
#                                      namespace::autoclean 0.19
#                                          namespace::clean 0.25
#                                                  overload 1.22
#                                               overloading 0.02
#                                                    parent 0.228
#                                                        re 0.26
#                                                    strict 1.08
#                                                      utf8 1.14
#                                                      vars 1.03
#                                                  warnings 1.26
#                                        warnings::register 1.03
t/00-all_prereqs.t .. ok
# Testing PostScript::Report 0.13
t/00-load.t ......... ok
t/10-structure.t .... ok
t/20-warnings.t ..... ok
t/30-output.t ....... ok
t/40-linkparser.t ... ok
All tests successful.
Files=6, Tests=89,  4 wallclock secs ( 0.04 usr  0.00 sys +  3.28 cusr  0.08 csys =  3.40 CPU)
Result: PASS

------------------------------
PREREQUISITES
------------------------------

Prerequisite modules loaded:

requires:

    Module                Need  Have    
    --------------------- ----- --------
    Carp                  0     1.34    
    File::Spec            0     3.49    
    List::Util            0     1.39    
    Module::Runtime       0     0.014   
    Moose                 0.90  2.1211  
    Moose::Role           0     2.1211  
    MooseX::AttributeTree 0.02  0.05    
    MooseX::Types         0     0.44    
    MooseX::Types::Moose  0     0.44    
    namespace::autoclean  0     0.19    
    PostScript::File      2.20  2.20    
    Scalar::Util          0     1.39    
    String::RewritePrefix 0     0.007   

build_requires:

    Module                Need  Have    
    --------------------- ----- --------
    Encode                0     2.62    
    Test::More            0.88  1.001003

configure_requires:

    Module                Need  Have    
    --------------------- ----- --------
    ExtUtils::MakeMaker   6.30  6.98    
    Moose                 0     2.1211  
    MooseX::Types         0     0.44    
    perl                  5.008 5.021004
    version               0.77  0.9909  


------------------------------
ENVIRONMENT AND OTHER CONTEXT
------------------------------

Environment variables:

    AUTOMATED_TESTING = 1
    LANG = en_US.UTF-8
    LANGUAGE = en_US:en
    PATH = /usr/lib/ccache:/home/sand/bin:/usr/local/bin:/usr/bin:/bin:/usr/games:/usr/local/perl/bin:/usr/X11/bin:/sbin:/usr/sbin
    PERL = /tmp/basesmoker-reloperl-vOoo/bin/perl
    PERL5LIB = 
    PERL5OPT = 
    PERL5_CPANPLUS_IS_RUNNING = 22916
    PERL5_CPAN_IS_RUNNING = 22916
    PERL_MM_USE_DEFAULT = 1
    SHELL = /usr/bin/zsh
    TERM = screen

Perl special variables (and OS-specific diagnostics, for MSWin32):

    $^X = /tmp/basesmoker-reloperl-vOoo/bin/perl
    $UID/$EUID = 1005 / 1005
    $GID = 1005 1005
    $EGID = 1005 1005

Perl module toolchain versions installed:

    Module              Have    
    ------------------- --------
    CPAN                2.05    
    CPAN::Meta          2.142060
    Cwd                 3.49    
    ExtUtils::CBuilder  0.280217
    ExtUtils::Command   1.18    
    ExtUtils::Install   1.68    
    ExtUtils::MakeMaker 6.98    
    ExtUtils::Manifest  1.65    
    ExtUtils::ParseXS   3.25    
    File::Spec          3.49    
    JSON                2.90    
    JSON::PP            2.27203 
    Module::Build       0.4208  
    Module::Signature   0.73    
    Parse::CPAN::Meta   1.4414  
    Test::Harness       3.33    
    Test::More          1.001003
    YAML                1.09    
    YAML::Syck          1.27    
    version             0.9909  


--

Summary of my perl5 (revision 5 version 21 subversion 4) configuration:
  Commit id: 1cc589467f63aea00e4d224dc05d26130313e4ba
  Platform:
    osname=linux, osvers=3.14-2-amd64, archname=x86_64-linux-thread-multi-ld
    uname='linux k83 3.14-2-amd64 #1 smp debian 3.14.15-2 (2014-08-09) x86_64 gnulinux '
    config_args='-Dprefix=/home/sand/src/perl/repoperls/installed-perls/perl/v5.21.3-75-g1cc5894/a2da -Dmyhostname=k83 -Dinstallusrbinperl=n -Uversiononly -Dusedevel -des -Ui_db -Duseithreads -Duselongdouble -DDEBUGGING=-g'
    hint=recommended, useposix=true, d_sigaction=define
    useithreads=define, usemultiplicity=define
    use64bitint=define, use64bitall=define, uselongdouble=define
    usemymalloc=n, bincompat5005=undef
  Compiler:
    cc='cc', ccflags ='-D_REENTRANT -D_GNU_SOURCE -fwrapv -fno-strict-aliasing -pipe -fstack-protector -I/usr/local/include -D_LARGEFILE_SOURCE -D_FILE_OFFSET_BITS=64 -D_FORTIFY_SOURCE=2',
    optimize='-O2 -g',
    cppflags='-D_REENTRANT -D_GNU_SOURCE -fwrapv -fno-strict-aliasing -pipe -fstack-protector -I/usr/local/include'
    ccversion='', gccversion='4.9.1', gccosandvers=''
    intsize=4, longsize=8, ptrsize=8, doublesize=8, byteorder=12345678
    d_longlong=define, longlongsize=8, d_longdbl=define, longdblsize=16, longdblkind=3
    ivtype='long', ivsize=8, nvtype='long double', nvsize=16, Off_t='off_t', lseeksize=8
    alignbytes=16, prototype=define
  Linker and Libraries:
    ld='cc', ldflags =' -fstack-protector -L/usr/local/lib'
    libpth=/usr/local/lib /usr/lib/gcc/x86_64-linux-gnu/4.9/include-fixed /usr/include/x86_64-linux-gnu /usr/lib /lib/x86_64-linux-gnu /lib/../lib /usr/lib/x86_64-linux-gnu /usr/lib/../lib /lib
    libs=-lnsl -lgdbm -ldb -ldl -lm -lcrypt -lutil -lpthread -lc -lgdbm_compat
    perllibs=-lnsl -ldl -lm -lcrypt -lutil -lpthread -lc
    libc=libc-2.19.so, so=so, useshrplib=false, libperl=libperl.a
    gnulibc_version='2.19'
  Dynamic Linking:
    dlsrc=dl_dlopen.xs, dlext=so, d_dlsymun=undef, ccdlflags='-Wl,-E'
    cccdlflags='-fPIC', lddlflags='-shared -O2 -g -L/usr/local/lib -fstack-protector'


Characteristics of this binary (from libperl): 
  Compile-time options: HAS_TIMES MULTIPLICITY PERLIO_LAYERS
                        PERL_DONT_CREATE_GVSV
                        PERL_HASH_FUNC_ONE_AT_A_TIME_HARD
                        PERL_IMPLICIT_CONTEXT PERL_MALLOC_WRAP
                        PERL_NEW_COPY_ON_WRITE PERL_PRESERVE_IVUV
                        PERL_USE_DEVEL USE_64_BIT_ALL USE_64_BIT_INT
                        USE_ITHREADS USE_LARGE_FILES USE_LOCALE
                        USE_LOCALE_COLLATE USE_LOCALE_CTYPE
                        USE_LOCALE_NUMERIC USE_LOCALE_TIME USE_LONG_DOUBLE
                        USE_PERLIO USE_PERL_ATOF USE_REENTRANT_API
  Built under linux
  Compiled at Aug 23 2014 03:45:06
  %ENV:
    PERL="/tmp/basesmoker-reloperl-vOoo/bin/perl"
    PERL5LIB=""
    PERL5OPT=""
    PERL5_CPANPLUS_IS_RUNNING="22916"
    PERL5_CPAN_IS_RUNNING="22916"
    PERL_MM_USE_DEFAULT="1"
  @INC:
    /home/sand/src/perl/repoperls/installed-perls/perl/v5.21.3-75-g1cc5894/a2da/lib/site_perl/5.21.4/x86_64-linux-thread-multi-ld
    /home/sand/src/perl/repoperls/installed-perls/perl/v5.21.3-75-g1cc5894/a2da/lib/site_perl/5.21.4
    /home/sand/src/perl/repoperls/installed-perls/perl/v5.21.3-75-g1cc5894/a2da/lib/5.21.4/x86_64-linux-thread-multi-ld
    /home/sand/src/perl/repoperls/installed-perls/perl/v5.21.3-75-g1cc5894/a2da/lib/5.21.4
    .