Back
From: metabase:user:cba5269c-6e58-1014-92a6-0387276d408b
Subject: PASS Template-Benchmark-1.07_07 v5.10.1 OpenBSD
Date: 2010-09-23T07:27:31Z
This distribution has been tested as part of the CPAN Testers
project, supporting the Perl programming language. See
http://wiki.cpantesters.org/ for more information or email
questions to cpan-testers-discuss@perl.org
--
Dear Sam Graham,
This is a computer-generated report for Template-Benchmark-1.07_07
on perl 5.10.1, created by CPAN-Reporter-1.1711.
Thank you for uploading your work to CPAN. Congratulations!
All tests were successful.
Sections of this report:
* Tester comments
* Program output
* Prerequisites
* Environment and other context
------------------------------
TESTER COMMENTS
------------------------------
Additional comments from tester:
this report is from an automated smoke testing program
and was not reviewed by a human for accuracy
------------------------------
PROGRAM OUTPUT
------------------------------
Output from './Build test':
# Testing Template::Benchmark 1.07_07, Perl 5.010001, /usr/bin/perl
t/00-load.t .................. ok
t/10-class-methods.t ......... ok
t/15-constructor.t ........... ok
t/20-instance-methods.t ...... skipped: Instance testing requires one of the following sets of modules to be installed: (Template::Sandbox Cache::CacheFactory CHI Cache::FastMmap Cache::FileCache Cache::FastMemoryCache) (Template::Toolkit Template::Stash::XS Template::Parser::CET) (HTML::Template)
t/30-custom-dataset.t ........ skipped: Dataset testing requires one of the following sets of modules to be installed: (Template::Sandbox Cache::CacheFactory CHI Cache::FastMmap Cache::FileCache Cache::FastMemoryCache) (Text::Xslate 0.2007)
t/40-per-feature-repeats.t ... skipped: Feature repeats testing requires one of the following sets of modules to be installed: (Template::Sandbox Cache::CacheFactory CHI Cache::FastMmap Cache::FileCache Cache::FastMemoryCache) (Template::Toolkit Template::Stash::XS Template::Parser::CET) (HTML::Template) (Text::Xslate 0.2007)
t/50-script-run.t ............ ok
xt/release/check-changes.t ... skipped: Test::CheckChanges 0.08 not available for testing
xt/release/fixme.t ........... skipped: Test::Fixme 0.04 not available for testing
xt/release/hasversion.t ...... skipped: Test::HasVersion 0.012 not available for testing
xt/release/manifest.t ........ skipped: Author tests not required for installation
xt/release/meta.t ............ skipped: Test::CPAN::Meta 0.13 not available for testing
xt/release/minimumversion.t .. skipped: Perl::MinimumVersion 1.20 not available for testing
xt/release/pod-coverage.t .... skipped: Test::Pod::Coverage 1.08 not available for testing
xt/release/pod.t ............. skipped: Test::Pod 1.26 not available for testing
All tests successful.
Files=15, Tests=11, 5 wallclock secs ( 0.00 usr + 0.00 sys = 0.00 CPU)
Result: PASS
------------------------------
PREREQUISITES
------------------------------
Prerequisite modules loaded:
requires:
Module Need Have
----------------- ------ ---------
Benchmark 0 1.11
File::Path 0 2.07_03
File::Spec 0 3.31
File::Temp 0.18 0.22
FindBin 0 1.50
Getopt::Long 0 2.38
IO::File 0 1.14
Module::Pluggable 0 3.9
perl v5.6.1 5.010001
Pod::Usage 0 1.36
Scalar::Util 0 1.21
Text::Matrix 0 1.00
Text::Wrap 0 2009.0305
build_requires:
Module Need Have
----------------- ------ ---------
Config 0 0
Cwd 0 3.31
File::Spec 0 3.31
FindBin 0 1.50
Test::Command 0.08 0.08
Test::Exception 0 0.29
Test::More 0 0.92
configure_requires:
Module Need Have
----------------- ------ ---------
Module::Build 0.23 0.3607
------------------------------
ENVIRONMENT AND OTHER CONTEXT
------------------------------
Environment variables:
AUTOMATED_TESTING = 1
PATH = /home/macgyver/perl5/bin:/home/macgyver/perl5/perlbrew/bin:/home/macgyver/perl5/perlbrew/perls/current/bin:/home/macgyver/perl5/bin:/home/macgyver/perl5/perlbrew/bin:/home/macgyver/perl5/perlbrew/perls/current/bin:/home/macgyver/bin:/bin:/sbin:/usr/bin:/usr/sbin:/usr/X11R6/bin:/usr/local/bin:/usr/local/sbin:/usr/games:.
PERL5LIB = /home/macgyver/.cpan/build/Text-Matrix-1.00-J317JD/blib/arch:/home/macgyver/.cpan/build/Text-Matrix-1.00-J317JD/blib/lib:/home/macgyver/.cpan/build/List-MoreUtils-0.22-1F1qTP/blib/arch:/home/macgyver/.cpan/build/List-MoreUtils-0.22-1F1qTP/blib/lib:/home/macgyver/.cpan/build/Test-Command-0.08-ZxzHU7/blib/arch:/home/macgyver/.cpan/build/Test-Command-0.08-ZxzHU7/blib/lib:/home/macgyver/perl5/lib/perl5/amd64-openbsd:/home/macgyver/perl5/lib/perl5
PERL5OPT =
PERL5_CPANPLUS_IS_RUNNING = 5199
PERL5_CPAN_IS_RUNNING = 5199
PERL5_CPAN_IS_RUNNING_IN_RECURSION = 17346,5199
PERL_CR_SMOKER_CURRENT = Template-Benchmark-1.07_07
PERL_EXTUTILS_AUTOINSTALL = --defaultdeps
PERL_MM_OPT = INSTALL_BASE=/home/macgyver/perl5
PERL_MM_USE_DEFAULT = 1
SHELL = bash
TERM = screen
Perl special variables (and OS-specific diagnostics, for MSWin32):
$^X = /usr/bin/perl
$UID/$EUID = 1000 / 1000
$GID = 10 10 0
$EGID = 10 10 0
Perl module toolchain versions installed:
Module Have
------------------- -------
CPAN 1.9402
Cwd 3.31
ExtUtils::CBuilder 0.2703
ExtUtils::Command 1.16
ExtUtils::Install 1.54
ExtUtils::MakeMaker 6.55_02
ExtUtils::Manifest 1.56
ExtUtils::ParseXS 2.2206
File::Spec 3.31
Module::Build 0.3607
Module::Signature n/a
Test::Harness 3.17
Test::More 0.92
YAML 0.71
YAML::Syck n/a
version 0.77
--
Summary of my perl5 (revision 5 version 10 subversion 1) configuration:
Platform:
osname=openbsd, osvers=4.7, archname=amd64-openbsd
uname='openbsd'
config_args='-dsE -Dopenbsd_distribution=defined -Dmksymlinks'
hint=recommended, useposix=true, d_sigaction=define
useithreads=undef, usemultiplicity=undef
useperlio=define, d_sfio=undef, uselargefiles=define, usesocks=undef
use64bitint=define, use64bitall=define, uselongdouble=undef
usemymalloc=n, bincompat5005=undef
Compiler:
cc='cc', ccflags ='-fno-strict-aliasing -fno-delete-null-pointer-checks -pipe -fstack-protector -I/usr/local/include',
optimize='-O2',
cppflags='-fno-strict-aliasing -fno-delete-null-pointer-checks -pipe -fstack-protector -I/usr/local/include'
ccversion='', gccversion='3.3.5 (propolice)', gccosandvers='openbsd4.7'
intsize=4, longsize=8, ptrsize=8, doublesize=8, byteorder=12345678
d_longlong=define, longlongsize=8, d_longdbl=define, longdblsize=16
ivtype='long', ivsize=8, nvtype='double', nvsize=8, Off_t='off_t', lseeksize=8
alignbytes=8, prototype=define
Linker and Libraries:
ld='cc', ldflags ='-Wl,-E -fstack-protector'
libpth=/usr/lib
libs=-lm -lutil -lc
perllibs=-lm -lutil -lc
libc=/usr/lib/libc.so.53.1, so=so, useshrplib=true, libperl=libperl.so.11.1
gnulibc_version=''
Dynamic Linking:
dlsrc=dl_dlopen.xs, dlext=so, d_dlsymun=undef, ccdlflags='-Wl,-R/usr/libdata/perl5/amd64-openbsd/5.10.1/CORE'
cccdlflags='-DPIC -fPIC ', lddlflags='-shared -fPIC -fstack-protector'
Characteristics of this binary (from libperl):
Compile-time options: PERL_DONT_CREATE_GVSV PERL_MALLOC_WRAP USE_64_BIT_ALL
USE_64_BIT_INT USE_LARGE_FILES USE_PERLIO
Built under OpenBSD
%ENV:
PERL5LIB="/home/macgyver/.cpan/build/Text-Matrix-1.00-J317JD/blib/arch:/home/macgyver/.cpan/build/Text-Matrix-1.00-J317JD/blib/lib:/home/macgyver/.cpan/build/List-MoreUtils-0.22-1F1qTP/blib/arch:/home/macgyver/.cpan/build/List-MoreUtils-0.22-1F1qTP/blib/lib:/home/macgyver/.cpan/build/Test-Command-0.08-ZxzHU7/blib/arch:/home/macgyver/.cpan/build/Test-Command-0.08-ZxzHU7/blib/lib:/home/macgyver/perl5/lib/perl5/amd64-openbsd:/home/macgyver/perl5/lib/perl5"
PERL5OPT=""
PERL5_CPANPLUS_IS_RUNNING="5199"
PERL5_CPAN_IS_RUNNING="5199"
PERL5_CPAN_IS_RUNNING_IN_RECURSION="17346,5199"
PERL_CR_SMOKER_CURRENT="Template-Benchmark-1.07_07"
PERL_EXTUTILS_AUTOINSTALL="--defaultdeps"
PERL_MM_OPT="INSTALL_BASE=/home/macgyver/perl5"
PERL_MM_USE_DEFAULT="1"
@INC:
/home/macgyver/.cpan/build/Text-Matrix-1.00-J317JD/blib/arch
/home/macgyver/.cpan/build/Text-Matrix-1.00-J317JD/blib/lib
/home/macgyver/.cpan/build/List-MoreUtils-0.22-1F1qTP/blib/arch
/home/macgyver/.cpan/build/List-MoreUtils-0.22-1F1qTP/blib/lib
/home/macgyver/.cpan/build/Test-Command-0.08-ZxzHU7/blib/arch
/home/macgyver/.cpan/build/Test-Command-0.08-ZxzHU7/blib/lib
/home/macgyver/perl5/lib/perl5/amd64-openbsd
/home/macgyver/perl5/lib/perl5/amd64-openbsd
/home/macgyver/perl5/lib/perl5
/usr/libdata/perl5/amd64-openbsd/5.10.1
/usr/local/libdata/perl5/amd64-openbsd/5.10.1
/usr/libdata/perl5
/usr/local/libdata/perl5
/usr/local/libdata/perl5/site_perl/amd64-openbsd
/usr/libdata/perl5/site_perl/amd64-openbsd
/usr/local/libdata/perl5/site_perl
/usr/libdata/perl5/site_perl
.