Back
From: metabase:user:8b7560da-4d28-11e3-8dad-d6e40f5f8eae
Subject: PASS Term-ReadLine-1.14 v5.16.3 GNU/Linux
Date: 2014-11-04T19:23:15Z
This distribution has been tested as part of the CPAN Testers
project, supporting the Perl programming language. See
http://wiki.cpantesters.org/ for more information or email
questions to cpan-testers-discuss@perl.org
--
Dear Florian Ragwitz,
This is a computer-generated report for Term-ReadLine-1.14
on perl 5.16.3, created by CPAN-Reporter-1.2011.
Thank you for uploading your work to CPAN. Congratulations!
All tests were successful.
Sections of this report:
* Tester comments
* Program output
* Prerequisites
* Environment and other context
------------------------------
TESTER COMMENTS
------------------------------
Additional comments from tester:
none provided
------------------------------
PROGRAM OUTPUT
------------------------------
Output from '/usr/bin/make test':
PERL_DL_NONLAZY=1 "/opt/perlbrew/perls/perl-5.16.3/bin/perl" "-MExtUtils::Command::MM" "-MTest::Harness" "-e" "undef *Test::Harness::Switches; test_harness(0, 'blib/lib', 'blib/arch')" t/*.t
t/AE.t .................. skipped: AnyEvent is not installed.
t/AETk.t ................ skipped: AnyEvent and/or Tk is not installed.
t/ReadLine.t ............ ok
t/release-pod-syntax.t .. skipped: these tests are for release candidate testing
t/Tk.t .................. skipped: Tk is not installed.
All tests successful.
Files=5, Tests=15, 0 wallclock secs ( 0.04 usr 0.01 sys + 0.13 cusr 0.01 csys = 0.19 CPU)
Result: PASS
------------------------------
PREREQUISITES
------------------------------
Prerequisite modules loaded:
configure_requires:
Module Need Have
------------------- ---- ----
ExtUtils::MakeMaker 6.30 7.00
------------------------------
ENVIRONMENT AND OTHER CONTEXT
------------------------------
Environment variables:
LC_CTYPE = sv_SE.UTF-8
LC_MEASUREMENT = sv_SE.utf8
LC_MONETARY = sv_SE.utf8
LC_NUMERIC = sv_SE.utf8
LC_PAPER = sv_SE.utf8
LC_TIME = sv_SE.utf8
PATH = /opt/perlbrew/bin:/opt/perlbrew/perls/perl-5.16.3/bin:/opt/cuda/bin:/opt/perlbrew/bin:/opt/perlbrew/perls/perl-5.20.1/bin:~/.local/bin:/usr/local/bin:/usr/bin:/bin:/opt/bin:/usr/x86_64-pc-linux-gnu/gcc-bin/4.8.3:/usr/x86_64-pc-linux-gnu/armv6j-hardfloat-linux-gnueabi/gcc-bin/4.8.3:/opt/nvidia-cg-toolkit/bin:/usr/games/bin:/opt/cuda/bin:/opt/cuda/libnvvp
PERL5LIB =
PERL5OPT =
PERL5_CPANPLUS_IS_RUNNING = 7856
PERL5_CPAN_IS_RUNNING = 7856
PERLBREW_BASHRC_VERSION = 0.72
PERLBREW_HOME = /home/pk/.perlbrew
PERLBREW_LIB =
PERLBREW_MANPATH = /opt/perlbrew/perls/perl-5.16.3/man
PERLBREW_PATH = /opt/perlbrew/bin:/opt/perlbrew/perls/perl-5.16.3/bin
PERLBREW_PERL = perl-5.16.3
PERLBREW_ROOT = /opt/perlbrew
PERLBREW_VERSION = 0.72
PERL_LOCAL_LIB_ROOT =
SHELL = /bin/bash
TERM = xterm-256color
Perl special variables (and OS-specific diagnostics, for MSWin32):
$^X = /opt/perlbrew/perls/perl-5.16.3/bin/perl
$UID/$EUID = 1000 / 1000
$GID = 1000 10 18 19 27 35 85 100 103 104 250 987 991 1000 1001
$EGID = 1000 10 18 19 27 35 85 100 103 104 250 987 991 1000 1001
Perl module toolchain versions installed:
Module Have
------------------- --------
CPAN 2.05
CPAN::Meta 2.142690
Cwd 3.39_02
ExtUtils::CBuilder 0.280220
ExtUtils::Command 1.18
ExtUtils::Install 2.04
ExtUtils::MakeMaker 7.00
ExtUtils::Manifest 1.68
ExtUtils::ParseXS 3.24
File::Spec 3.39_02
JSON 2.90
JSON::PP 2.27300
Module::Build 0.4210
Module::Signature n/a
Parse::CPAN::Meta 1.4414
Test::Harness 3.23
Test::More 1.001008
YAML n/a
YAML::Syck n/a
version 0.99
--
Summary of my perl5 (revision 5 version 16 subversion 3) configuration:
Platform:
osname=linux, osvers=3.16.5-gentoo, archname=x86_64-linux
uname='linux jeeves 3.16.5-gentoo #2 smp preempt mon oct 27 16:26:35 cet 2014 x86_64 intel(r) core(tm) i7-2630qm cpu @ 2.00ghz genuineintel gnulinux '
config_args='-de -Dprefix=/opt/perlbrew/perls/perl-5.16.3 -Doptimize=-O2 -march=native -Duseshrplib -Aeval:scriptdir=/opt/perlbrew/perls/perl-5.16.3/bin'
hint=recommended, useposix=true, d_sigaction=define
useithreads=undef, usemultiplicity=undef
useperlio=define, d_sfio=undef, uselargefiles=define, usesocks=undef
use64bitint=define, use64bitall=define, uselongdouble=undef
usemymalloc=n, bincompat5005=undef
Compiler:
cc='cc', ccflags ='-fno-strict-aliasing -pipe -fstack-protector -I/usr/local/include -D_LARGEFILE_SOURCE -D_FILE_OFFSET_BITS=64',
optimize='-O2 -march=native',
cppflags='-fno-strict-aliasing -pipe -fstack-protector -I/usr/local/include'
ccversion='', gccversion='4.8.3', gccosandvers=''
intsize=4, longsize=8, ptrsize=8, doublesize=8, byteorder=12345678
d_longlong=define, longlongsize=8, d_longdbl=define, longdblsize=16
ivtype='long', ivsize=8, nvtype='double', nvsize=8, Off_t='off_t', lseeksize=8
alignbytes=8, prototype=define
Linker and Libraries:
ld='cc', ldflags =' -fstack-protector -L/usr/local/lib'
libpth=/usr/local/lib /lib/../lib64 /usr/lib/../lib64 /lib /usr/lib /lib64 /usr/lib64 /usr/local/lib64
libs=-lnsl -lgdbm -ldb -ldl -lm -lcrypt -lutil -lc -lgdbm_compat
perllibs=-lnsl -ldl -lm -lcrypt -lutil -lc
libc=libc-2.19.so, so=so, useshrplib=true, libperl=libperl.so
gnulibc_version='2.19'
Dynamic Linking:
dlsrc=dl_dlopen.xs, dlext=so, d_dlsymun=undef, ccdlflags='-Wl,-E -Wl,-rpath,/opt/perlbrew/perls/perl-5.16.3/lib/5.16.3/x86_64-linux/CORE'
cccdlflags='-fPIC', lddlflags='-shared -O2 -march=native -L/usr/local/lib -fstack-protector'
Characteristics of this binary (from libperl):
Compile-time options: HAS_TIMES PERLIO_LAYERS PERL_DONT_CREATE_GVSV
PERL_MALLOC_WRAP PERL_PRESERVE_IVUV USE_64_BIT_ALL
USE_64_BIT_INT USE_LARGE_FILES USE_LOCALE
USE_LOCALE_COLLATE USE_LOCALE_CTYPE
USE_LOCALE_NUMERIC USE_PERLIO USE_PERL_ATOF
Built under linux
Compiled at Nov 2 2014 23:35:02
%ENV:
PERL5LIB=""
PERL5OPT=""
PERL5_CPANPLUS_IS_RUNNING="7856"
PERL5_CPAN_IS_RUNNING="7856"
PERLBREW_BASHRC_VERSION="0.72"
PERLBREW_HOME="/home/pk/.perlbrew"
PERLBREW_LIB=""
PERLBREW_MANPATH="/opt/perlbrew/perls/perl-5.16.3/man"
PERLBREW_PATH="/opt/perlbrew/bin:/opt/perlbrew/perls/perl-5.16.3/bin"
PERLBREW_PERL="perl-5.16.3"
PERLBREW_ROOT="/opt/perlbrew"
PERLBREW_VERSION="0.72"
PERL_LOCAL_LIB_ROOT=""
@INC:
/opt/perlbrew/perls/perl-5.16.3/lib/site_perl/5.16.3/x86_64-linux
/opt/perlbrew/perls/perl-5.16.3/lib/site_perl/5.16.3
/opt/perlbrew/perls/perl-5.16.3/lib/5.16.3/x86_64-linux
/opt/perlbrew/perls/perl-5.16.3/lib/5.16.3
.