Path-Iterator-Rule v1.015 Perl 5 v5.22.2 MSWin32-x86-multi-thread-64int

Status
Pass
From
NONAME
Dist
Path-Iterator-Rule v1.015
Platform
Perl 5 v5.22.2 MSWin32-x86-multi-thread-64int
Date
2021-09-10 14:09:46
ID
067d469c-6c78-1014-a1fb-4eef1220662c
This distribution has been tested as part of the CPAN Testers
project, supporting the Perl programming language.  See
http://wiki.cpantesters.org/ for more information or email
questions to cpan-testers-discuss@perl.org


--
Dear David Golden,

This is a computer-generated report for Path-Iterator-Rule-1.015
on perl 5.22.2, created by CPAN-Reporter-1.2018.

Thank you for uploading your work to CPAN.  Congratulations!
All tests were successful.

Sections of this report:

    * Tester comments
    * Program output
    * Prerequisites
    * Environment and other context

------------------------------
TESTER COMMENTS
------------------------------

Additional comments from tester:

none provided

------------------------------
PROGRAM OUTPUT
------------------------------

Output from 'C:\Strawberry\c\bin\dmake.exe test':

C:\"Strawberry\perl\bin\perl.exe" "-MExtUtils::Command::MM" "-MTest::Harness" "-e" "undef *Test::Harness::Switches; test_harness(0, 'blib\lib', 'blib\arch')" t/*.t
# 
# Versions for all modules listed in MYMETA.json (including optional ones):
# 
# === Configure Requires ===
# 
#     Module              Want    Have
#     ------------------- ---- -------
#     ExtUtils::MakeMaker 6.17 7.63_05
# 
# === Build Requires ===
# 
#     Module              Want    Have
#     ------------------- ---- -------
#     ExtUtils::MakeMaker  any 7.63_05
# 
# === Test Requires ===
# 
#     Module              Want     Have
#     ------------------- ---- --------
#     Exporter             any     5.74
#     ExtUtils::MakeMaker  any  7.63_05
#     File::Spec           any     3.75
#     File::Temp           any   0.2311
#     File::pushd          any    1.009
#     Path::Tiny           any    0.118
#     Test::Deep           any    1.128
#     Test::Filename      0.03     0.03
#     Test::More          0.92 1.302186
#     lib                  any     0.63
#     parent               any    0.234
# 
# === Test Recommends ===
# 
#     Module         Want     Have
#     ---------- -------- --------
#     CPAN::Meta 2.120900 2.150010
# 
# === Runtime Requires ===
# 
#     Module             Want   Have
#     ------------------ ---- ------
#     Carp                any   1.50
#     File::Basename      any   2.85
#     File::Spec          any   3.75
#     List::Util          any   1.56
#     Number::Compare    0.02   0.03
#     Scalar::Util        any   1.56
#     Text::Glob          any   0.09
#     Try::Tiny           any   0.30
#     if                  any 0.0606
#     strict              any   1.09
#     warnings            any   1.34
#     warnings::register  any   1.04
# 
t/00-report-prereqs.t .... ok
t/basic.t ................ ok
t/breadth-depth-files.t .. ok
t/breadth-depth.t ........ ok
t/children-order.t ....... ok
t/clone.t ................ ok
t/content.t .............. ok
t/error_handler.t ........ ok
t/fast.t ................. ok
t/helpers.t .............. ok
t/logic.t ................ ok
t/min-max-depth.t ........ ok
t/names.t ................ ok
t/perl.t ................. ok
t/pir.t .................. ok
t/relative.t ............. ok
t/stat_tests.t ........... ok
t/stringify.t ............ ok
t/symlink.t .............. skipped: No symlink support
t/unsorted.t ............. ok
t/vcs.t .................. ok
t/visitor.t .............. ok
t/x_tests.t .............. ok
All tests successful.
Files=23, Tests=83, 14 wallclock secs ( 0.36 usr +  0.19 sys =  0.55 CPU)
Result: PASS

------------------------------
PREREQUISITES
------------------------------

Prerequisite modules loaded:

requires:

    Module              Need     Have    
    ------------------- -------- --------
    Carp                0        1.50    
    File::Basename      0        2.85    
    File::Spec          0        3.75    
    if                  0        0.0606  
    List::Util          0        1.56    
    Number::Compare     0.02     0.03    
    perl                5.008001 5.022002
    Scalar::Util        0        1.56    
    strict              0        1.09    
    Text::Glob          0        0.09    
    Try::Tiny           0        0.30    
    warnings            0        1.34    
    warnings::register  0        1.04    

build_requires:

    Module              Need     Have    
    ------------------- -------- --------
    Exporter            0        5.74    
    ExtUtils::MakeMaker 0        7.63_05 
    File::pushd         0        1.009   
    File::Spec          0        3.75    
    File::Temp          0        0.2311  
    lib                 0        0.63    
    parent              0        0.234   
    Path::Tiny          0        0.118   
    Test::Deep          0        1.128   
    Test::Filename      0.03     0.03    
    Test::More          0.92     1.302186

configure_requires:

    Module              Need     Have    
    ------------------- -------- --------
    ExtUtils::MakeMaker 6.17     7.63_05 
    perl                5.008001 5.022002


------------------------------
ENVIRONMENT AND OTHER CONTEXT
------------------------------

Environment variables:

    COMSPEC = C:\windows\system32\cmd.exe
    NONINTERACTIVE_TESTING = 1
    NUMBER_OF_PROCESSORS = 4
    PATH = C:\home\wind\perl5\bin;C:\windows\system32;C:\windows;C:\windows\System32\Wbem;C:\windows\System32\WindowsPowerShell\v1.0\;C:\Strawberry\c\bin;C:\Strawberry\perl\site\bin;C:\Strawberry\perl\bin
    PERL5LIB = C:\home\wind\perl5\lib\perl5
    PERL5OPT = 
    PERL5_CPANPLUS_IS_RUNNING = 3524
    PERL5_CPAN_IS_RUNNING = 3524
    PERL_LOCAL_LIB_ROOT = C:\home\wind\perl5
    PERL_MB_OPT = --install_base "C:\\home\\wind\\perl5"
    PERL_MM_OPT = INSTALL_BASE=C:\\home\\wind\\perl5
    PERL_MM_USE_DEFAULT = 1
    PERL_USE_UNSAFE_INC = 1
    PROCESSOR_IDENTIFIER = x86 Family 6 Model 37 Stepping 5, GenuineIntel
    TEMP = C:\Users\user\AppData\Local\Temp
    TERM = dumb

Perl special variables (and OS-specific diagnostics, for MSWin32):

    $^X = C:\Strawberry\perl\bin\perl.exe
    $UID/$EUID = 0 / 0
    $GID = 0
    $EGID = 0
    Win32::GetOSName = Win7
    Win32::GetOSVersion = Service Pack 1, 6, 1, 7601, 2, 1, 0, 256, 1
    Win32::FsType = NTFS
    Win32::IsAdminUser = 0

Perl module toolchain versions installed:

    Module              Have    
    ------------------- --------
    CPAN                2.26    
    CPAN::Meta          2.150010
    Cwd                 3.75    
    ExtUtils::CBuilder  0.280236
    ExtUtils::Command   7.63_05 
    ExtUtils::Install   2.20    
    ExtUtils::MakeMaker 7.63_05 
    ExtUtils::Manifest  1.73    
    ExtUtils::ParseXS   3.35    
    File::Spec          3.75    
    JSON                4.03    
    JSON::PP            4.06    
    Module::Build       0.42_28 
    Module::Signature   0.87    
    Parse::CPAN::Meta   2.150010
    Test::Harness       3.36    
    Test::More          1.302186
    YAML                1.27    
    YAML::Syck          1.34    
    version             0.9929  


--

Summary of my perl5 (revision 5 version 22 subversion 2) configuration:
   
  Platform:
    osname=MSWin32, osvers=6.3, archname=MSWin32-x86-multi-thread-64int
    uname='Win32 strawberry-perl 5.22.2.1 #1 Sat Apr 30 11:51:13 2016 i386'
    config_args='undef'
    hint=recommended, useposix=true, d_sigaction=undef
    useithreads=define, usemultiplicity=define
    use64bitint=define, use64bitall=undef, uselongdouble=undef
    usemymalloc=n, bincompat5005=undef
  Compiler:
    cc='gcc', ccflags =' -s -O2 -DWIN32  -DPERL_TEXTMODE_SCRIPTS -DPERL_IMPLICIT_CONTEXT -DPERL_IMPLICIT_SYS -fwrapv -fno-strict-aliasing -mms-bitfields',
    optimize='-s -O2',
    cppflags='-DWIN32'
    ccversion='', gccversion='4.9.2', gccosandvers=''
    intsize=4, longsize=4, ptrsize=4, doublesize=8, byteorder=12345678, doublekind=3
    d_longlong=define, longlongsize=8, d_longdbl=define, longdblsize=12, longdblkind=3
    ivtype='long long', ivsize=8, nvtype='double', nvsize=8, Off_t='long long', lseeksize=8
    alignbytes=8, prototype=define
  Linker and Libraries:
    ld='g++', ldflags ='-s -L"C:\Strawberry\perl\lib\CORE" -L"C:\Strawberry\c\lib"'
    libpth=C:\Strawberry\c\lib C:\Strawberry\c\i686-w64-mingw32\lib C:\Strawberry\c\lib\gcc\i686-w64-mingw32\4.9.2
    libs=-lmoldname -lkernel32 -luser32 -lgdi32 -lwinspool -lcomdlg32 -ladvapi32 -lshell32 -lole32 -loleaut32 -lnetapi32 -luuid -lws2_32 -lmpr -lwinmm -lversion -lodbc32 -lodbccp32 -lcomctl32
    perllibs=-lmoldname -lkernel32 -luser32 -lgdi32 -lwinspool -lcomdlg32 -ladvapi32 -lshell32 -lole32 -loleaut32 -lnetapi32 -luuid -lws2_32 -lmpr -lwinmm -lversion -lodbc32 -lodbccp32 -lcomctl32
    libc=, so=dll, useshrplib=true, libperl=libperl522.a
    gnulibc_version=''
  Dynamic Linking:
    dlsrc=dl_win32.xs, dlext=xs.dll, d_dlsymun=undef, ccdlflags=' '
    cccdlflags=' ', lddlflags='-mdll -s -L"C:\Strawberry\perl\lib\CORE" -L"C:\Strawberry\c\lib"'


Characteristics of this binary (from libperl): 
  Compile-time options: HAS_TIMES HAVE_INTERP_INTERN MULTIPLICITY
                        PERLIO_LAYERS PERL_DONT_CREATE_GVSV
                        PERL_HASH_FUNC_ONE_AT_A_TIME_HARD
                        PERL_IMPLICIT_CONTEXT PERL_IMPLICIT_SYS
                        PERL_MALLOC_WRAP PERL_NEW_COPY_ON_WRITE
                        PERL_PRESERVE_IVUV USE_64_BIT_INT USE_ITHREADS
                        USE_LARGE_FILES USE_LOCALE USE_LOCALE_COLLATE
                        USE_LOCALE_CTYPE USE_LOCALE_NUMERIC USE_LOCALE_TIME
                        USE_PERLIO USE_PERL_ATOF
  Built under MSWin32
  Compiled at Apr 30 2016 11:56:07
  %ENV:
    PERL5LIB="C:\home\wind\perl5\lib\perl5"
    PERL5_CPANPLUS_IS_RUNNING="3524"
    PERL5_CPAN_IS_RUNNING="3524"
    PERL_LOCAL_LIB_ROOT="C:\home\wind\perl5"
    PERL_MB_OPT="--install_base "C:\\home\\wind\\perl5""
    PERL_MM_OPT="INSTALL_BASE=C:\\home\\wind\\perl5"
    PERL_MM_USE_DEFAULT="1"
    PERL_USE_UNSAFE_INC="1"
  @INC:
    C:\home\wind\perl5\lib\perl5/MSWin32-x86-multi-thread-64int
    C:\home\wind\perl5\lib\perl5
    C:/Strawberry/perl/site/lib
    C:/Strawberry/perl/vendor/lib
    C:/Strawberry/perl/lib
    .