Mojolicious-Plugin-OpenAPI v5.03 Perl 5 v5.30.2 i86pc-solaris-thread-multi-64
- Status
- Pass
- From
- David Cantrell (DCANTRELL)
- Dist
-
Mojolicious-Plugin-OpenAPI v5.03
- Platform
- Perl 5 v5.30.2 i86pc-solaris-thread-multi-64
- Date
- 2022-03-23 18:06:56
- ID
- 0679fe78-aad4-11ec-9a6c-c220d4ff1a6e
This distribution has been tested as part of the CPAN Testers
project, supporting the Perl programming language. See
http://wiki.cpantesters.org/ for more information or email
questions to cpan-testers-discuss@perl.org
--
Dear Jan Henning Thorsen,
This is a computer-generated report for Mojolicious-Plugin-OpenAPI-5.03
on perl 5.30.2, created by CPAN-Reporter-1.2018.
Thank you for uploading your work to CPAN. Congratulations!
All tests were successful.
Sections of this report:
* Tester comments
* Program output
* Prerequisites
* Environment and other context
------------------------------
TESTER COMMENTS
------------------------------
Additional comments from tester:
this report is from an automated smoke testing program
and was not reviewed by a human for accuracy
------------------------------
PROGRAM OUTPUT
------------------------------
Output from '/usr/bin/make test':
PERL_DL_NONLAZY=1 "/home/david/cpantesting/perl-5.30.2/bin/perl" "-MExtUtils::Command::MM" "-MTest::Harness" "-e" "undef *Test::Harness::Switches; test_harness(0, 'blib/lib', 'blib/arch')" t/*.t
t/00-basic.t ........................... ok
t/basic-404-501.t ...................... ok
t/basic-autorender.t ................... ok
t/basic-bundle.t ....................... ok
t/basic-coerce.t ....................... ok
t/basic-correct-order-of-paths.t ....... ok
t/basic-custom-formats.t ............... ok
t/basic-custom-renderer.t .............. ok
t/basic-custom-validation.t ............ ok
t/basic-empty-response.t ............... ok
t/basic-invalid-json-input.t ........... ok
t/basic-legacy-swagger2.t .............. ok
t/basic-mojo-placeholder.t ............. ok
t/basic-mojo-route-names.t ............. ok
t/basic-path-parameters.t .............. ok
t/basic-register-plugin.t .............. ok
t/basic-under-route-authenticate.t ..... ok
t/jv-recursion.t ....................... ok
t/plugin-cors.t ........................ ok
t/plugin-security-extended-status.t .... ok
t/plugin-security-rules-not-defined.t .. ok
t/plugin-security-v2.t ................. ok
t/plugin-security-v3.t ................. ok
t/plugin-spec-renderer-doc.t ........... ok
t/plugin-spec-renderer-options.t ....... ok
t/plugin-spec-renderer-standalone.t .... ok
t/plugin-spec-renderer-v3.t ............ ok
t/v2-basic.t ........................... ok
t/v2-body.t ............................ ok
t/v2-collectionformat.t ................ ok
t/v2-defaults.t ........................ ok
t/v2-discriminator.t ................... ok
t/v2-file.t ............................ ok
Format rule for 'unknown' is missing at /home/david/cpantesting/perl-5.30.2/lib/site_perl/5.30.2/JSON/Validator/Schema.pm line 605.
t/v2-formats.t ......................... ok
t/v2-headers.t ......................... ok
t/v2-id-prop.t ......................... ok
t/v2-readonly.t ........................ ok
t/v2-tutorial.t ........................ ok
t/v2-validate-schema.t ................. ok
t/v3-basic.t ........................... ok
t/v3-body.t ............................ ok
t/v3-bundle.t .......................... ok
t/v3-defaults.t ........................ ok
t/v3-file.t ............................ ok
t/v3-invalid_file_refs.t ............... ok
t/v3-invalid_file_refs_no_path.t ....... ok
t/v3-nullable.t ........................ ok
t/v3-style-array.t ..................... ok
t/v3-style-object.t .................... ok
t/v3-tutorial.t ........................ ok
t/v3-valid_file_refs.t ................. ok
t/v3-writeonly.t ....................... ok
All tests successful.
Test Summary Report
-------------------
t/v2-formats.t (Wstat: 0 Tests: 30 Failed: 0)
TODO passed: 15, 21-22
Files=52, Tests=817, 72 wallclock secs ( 0.70 usr 0.36 sys + 52.17 cusr 16.04 csys = 69.28 CPU)
Result: PASS
------------------------------
PREREQUISITES
------------------------------
Prerequisite modules loaded:
requires:
Module Need Have
------------------- ---- --------
JSON::Validator 5.03 5.07
Mojolicious 9.00 9.22
build_requires:
Module Need Have
------------------- ---- --------
Test::More 0.88 1.302190
configure_requires:
Module Need Have
------------------- ---- --------
ExtUtils::MakeMaker 0 7.62
------------------------------
ENVIRONMENT AND OTHER CONTEXT
------------------------------
Environment variables:
AUTOMATED_TESTING = 1
LANG = en_GB.UTF-8
NONINTERACTIVE_TESTING = 1
PATH = /home/david/perl5/perlbrew/bin:/home/david/perl5/perlbrew/perls/perl-5.32.0/bin:/usr/bin:/usr/sbin:/sbin:/usr/gnu/bin:/home/david/bin:/opt/ooce/bin:/home/david/.fzf.git/bin:/home/david/bin:/opt/ooce/bin:/home/david/bin:/opt/ooce/bin
PERL = 5.30.2
PERL5LIB =
PERL5OPT =
PERL5_CPANPLUS_IS_RUNNING = 16868
PERL5_CPAN_IS_RUNNING = 16868
PERLBREW_HOME = /home/david/.perlbrew
PERLBREW_MANPATH = /home/david/perl5/perlbrew/perls/perl-5.32.0/man
PERLBREW_PATH = /home/david/perl5/perlbrew/bin:/home/david/perl5/perlbrew/perls/perl-5.32.0/bin
PERLBREW_PERL = perl-5.32.0
PERLBREW_ROOT = /home/david/perl5/perlbrew
PERLBREW_SHELLRC_VERSION = 0.89
PERLBREW_VERSION = 0.89
PERLVER = 5.30.2
PERL_INLINE_DIRECTORY = /home/david/.Inline-5.30.2
PERL_MM_USE_DEFAULT = 1
PERL_USE_UNSAFE_INC = 0
SHELL = /bin/bash
TERM = screen
Perl special variables (and OS-specific diagnostics, for MSWin32):
$^X = /home/david/cpantesting/perl-5.30.2/bin/perl
$UID/$EUID = 100 / 100
$GID = 1 1 100
$EGID = 1 1 100
Perl module toolchain versions installed:
Module Have
------------------- --------
CPAN 2.22
CPAN::Meta 2.150010
Cwd 3.78
ExtUtils::CBuilder 0.280231
ExtUtils::Command 7.62
ExtUtils::Install 2.14
ExtUtils::MakeMaker 7.62
ExtUtils::Manifest 1.72
ExtUtils::ParseXS 3.40
File::Spec 3.78
JSON n/a
JSON::PP 4.02
Module::Build 0.4231
Module::Signature n/a
Parse::CPAN::Meta 2.150010
Test::Harness 3.42
Test::More 1.302190
YAML 1.30
YAML::Syck n/a
version 0.9924
--
Summary of my perl5 (revision 5 version 30 subversion 2) configuration:
Platform:
osname=solaris
osvers=2.11
archname=i86pc-solaris-thread-multi-64
uname='sunos cpantesting-illumos 5.11 omnios-r151036-4a32ffb911 i86pc i386 i86pc '
config_args='-de -Dcc=gcc -Dprefix=/home/david/cpantesting/perl-5.30.2 -Dusethreads'
hint=recommended
useposix=true
d_sigaction=define
useithreads=define
usemultiplicity=define
use64bitint=define
use64bitall=define
uselongdouble=undef
usemymalloc=n
default_inc_excludes_dot=define
bincompat5005=undef
Compiler:
cc='gcc'
ccflags ='-D_REENTRANT -fwrapv -fno-strict-aliasing -pipe -fstack-protector-strong -m64 -D_LARGEFILE_SOURCE -D_FILE_OFFSET_BITS=64 -D_FORTIFY_SOURCE=2 -DPERL_USE_SAFE_PUTENV'
optimize='-O'
cppflags='-D_REENTRANT -fwrapv -fno-strict-aliasing -pipe -fstack-protector-strong'
ccversion=''
gccversion='9.3.0'
gccosandvers=''
intsize=4
longsize=8
ptrsize=8
doublesize=8
byteorder=12345678
doublekind=3
d_longlong=define
longlongsize=8
d_longdbl=define
longdblsize=16
longdblkind=3
ivtype='long'
ivsize=8
nvtype='double'
nvsize=8
Off_t='off_t'
lseeksize=8
alignbytes=8
prototype=define
Linker and Libraries:
ld='gcc'
ldflags =' -fstack-protector-strong -L/usr/gnu/lib -m64 '
libpth=/opt/gcc-9/lib /opt/gcc-9/lib/gcc/x86_64-pc-solaris2.11/9.3.0/include-fixed /usr/lib /usr/gnu/lib /usr/ccs/lib
libs=-lpthread -lsocket -lnsl -ldl -lm -lc
perllibs=-lpthread -lsocket -lnsl -ldl -lm -lc
libc=/lib/libc.so
so=so
useshrplib=true
libperl=libperl.so
gnulibc_version=''
Dynamic Linking:
dlsrc=dl_dlopen.xs
dlext=so
d_dlsymun=undef
ccdlflags=' -R /home/david/cpantesting/perl-5.30.2/lib/5.30.2/i86pc-solaris-thread-multi-64/CORE'
cccdlflags='-fPIC'
lddlflags=' -shared -m64 -L/usr/gnu/lib -fstack-protector-strong'
Characteristics of this binary (from libperl):
Compile-time options:
HAS_TIMES
MULTIPLICITY
PERLIO_LAYERS
PERL_COPY_ON_WRITE
PERL_DONT_CREATE_GVSV
PERL_IMPLICIT_CONTEXT
PERL_MALLOC_WRAP
PERL_OP_PARENT
PERL_PRESERVE_IVUV
PERL_USE_SAFE_PUTENV
USE_64_BIT_ALL
USE_64_BIT_INT
USE_ITHREADS
USE_LARGE_FILES
USE_LOCALE
USE_LOCALE_COLLATE
USE_LOCALE_CTYPE
USE_LOCALE_NUMERIC
USE_LOCALE_TIME
USE_PERLIO
USE_PERL_ATOF
USE_REENTRANT_API
USE_THREAD_SAFE_LOCALE
Built under solaris
Compiled at Dec 12 2020 00:49:07
%ENV:
PERL="5.30.2"
PERL5LIB=""
PERL5OPT=""
PERL5_CPANPLUS_IS_RUNNING="16868"
PERL5_CPAN_IS_RUNNING="16868"
PERLBREW_HOME="/home/david/.perlbrew"
PERLBREW_MANPATH="/home/david/perl5/perlbrew/perls/perl-5.32.0/man"
PERLBREW_PATH="/home/david/perl5/perlbrew/bin:/home/david/perl5/perlbrew/perls/perl-5.32.0/bin"
PERLBREW_PERL="perl-5.32.0"
PERLBREW_ROOT="/home/david/perl5/perlbrew"
PERLBREW_SHELLRC_VERSION="0.89"
PERLBREW_VERSION="0.89"
PERLVER="5.30.2"
PERL_INLINE_DIRECTORY="/home/david/.Inline-5.30.2"
PERL_MM_USE_DEFAULT="1"
PERL_USE_UNSAFE_INC="0"
@INC:
/home/david/cpantesting/perl-5.30.2/lib/site_perl/5.30.2/i86pc-solaris-thread-multi-64
/home/david/cpantesting/perl-5.30.2/lib/site_perl/5.30.2
/home/david/cpantesting/perl-5.30.2/lib/5.30.2/i86pc-solaris-thread-multi-64
/home/david/cpantesting/perl-5.30.2/lib/5.30.2