Back
From: metabase:user:320bfe00-2aae-11df-837a-5e0a49663a4f
Subject: PASS Math-Complex_C-0.08 v5.19.12 GNU/Linux
Date: 2014-04-24T04:15:10Z
This distribution has been tested as part of the CPAN Testers
project, supporting the Perl programming language. See
http://wiki.cpantesters.org/ for more information or email
questions to cpan-testers-discuss@perl.org
--
Dear Sisyphus,
This is a computer-generated report for Math-Complex_C-0.08
on perl 5.19.12, created by CPAN-Reporter-1.2011.
Thank you for uploading your work to CPAN. Congratulations!
All tests were successful.
Sections of this report:
* Tester comments
* Program output
* Prerequisites
* Environment and other context
------------------------------
TESTER COMMENTS
------------------------------
Additional comments from tester:
this report is from an automated smoke testing program
and was not reviewed by a human for accuracy
------------------------------
PROGRAM OUTPUT
------------------------------
Output from '/usr/bin/make test':
make[1]: Entering directory `/tmp/loop_over_bdir-20006-IXAWZ4/Math-Complex_C-0.08-_BzwKQ/Long'
Running Mkbootstrap for Math::Complex_C::Long ()
chmod 644 Long.bs
make[1]: Leaving directory `/tmp/loop_over_bdir-20006-IXAWZ4/Math-Complex_C-0.08-_BzwKQ/Long'
Running Mkbootstrap for Math::Complex_C ()
chmod 644 Complex_C.bs
PERL_DL_NONLAZY=1 /tmp/basesmoker-reloperl-Jeun/bin/perl "-MExtUtils::Command::MM" "-MTest::Harness" "-e" "undef *Test::Harness::Switches; test_harness(0, 'blib/lib', 'blib/arch')" t/*.t
FYI:
DBL_DIG = 15
LDBL_DIG = 18
t/aab_basic.t ........ ok
Argument passed to is_neg_zero function is not an NV - therefore can't be '-0' at t/aab_neg_zero.t line 18.
Argument passed to is_neg_zero function is not an NV - therefore can't be '-0' at t/aab_neg_zero.t line 19.
t/aab_neg_zero.t ..... ok
t/abs_arg.t .......... ok
t/absl_argl.t ........ ok
t/arith.t ............ ok
t/arithl.t ........... ok
t/bool.t ............. ok
t/booll.t ............ ok
t/conj_proj.t ........ ok
t/conjl_projl.t ...... ok
t/exp.t .............. ok
t/expl.t ............. ok
Skipping all tests - couldn't load Math::LongDouble
t/long_double.t ...... ok
t/nan_inf.t .......... ok
t/nanl_infl.t ........ ok
t/new.t .............. ok
t/newl.t ............. ok
t/overload_string.t .. ok
Test::Pod version: 1.48
Pod::Simple version: 3.28
t/pod.t .............. ok
t/pow.t .............. ok
t/powl.t ............. ok
t/signed_zero.t ...... ok
t/signed_zerol.t ..... ok
t/to_string.t ........ ok
t/trig.t ............. ok
t/trigl.t ............ ok
Configuration details:
NV size is 8
IV size is 8
double size is 8
long double size is 16
double _Complex size is 16
long double _Complex size is 32
t/type.t ............. ok
All tests successful.
Files=27, Tests=337, 1 wallclock secs ( 0.08 usr 0.01 sys + 0.30 cusr 0.04 csys = 0.43 CPU)
Result: PASS
make[1]: Entering directory `/tmp/loop_over_bdir-20006-IXAWZ4/Math-Complex_C-0.08-_BzwKQ/Long'
No tests defined for Math::Complex_C::Long extension.
make[1]: Leaving directory `/tmp/loop_over_bdir-20006-IXAWZ4/Math-Complex_C-0.08-_BzwKQ/Long'
------------------------------
PREREQUISITES
------------------------------
Prerequisite modules loaded:
build_requires:
Module Need Have
------------------- ---- ----
ExtUtils::MakeMaker 0 6.96
------------------------------
ENVIRONMENT AND OTHER CONTEXT
------------------------------
Environment variables:
AUTOMATED_TESTING = 1
LANG = en_US.UTF-8
LANGUAGE = en_US:en
PATH = /usr/lib/ccache:/home/sand/bin:/usr/local/bin:/usr/bin:/bin:/usr/games:/usr/local/perl/bin:/usr/X11/bin:/sbin:/usr/sbin
PERL5LIB =
PERL5OPT =
PERL5_CPANPLUS_IS_RUNNING = 32068
PERL5_CPAN_IS_RUNNING = 32068
PERL_MM_USE_DEFAULT = 1
SHELL = /usr/bin/zsh
TERM = screen
Perl special variables (and OS-specific diagnostics, for MSWin32):
$^X = /tmp/basesmoker-reloperl-Jeun/bin/perl
$UID/$EUID = 1005 / 1005
$GID = 1005 1005
$EGID = 1005 1005
Perl module toolchain versions installed:
Module Have
------------------- --------
CPAN 2.05
CPAN::Meta 2.140640
Cwd 3.47
ExtUtils::CBuilder 0.280216
ExtUtils::Command 1.18
ExtUtils::Install 1.67
ExtUtils::MakeMaker 6.96
ExtUtils::Manifest 1.63
ExtUtils::ParseXS 3.24
File::Spec 3.47
JSON 2.90
JSON::PP 2.27203
Module::Build 0.4205
Module::Signature 0.73
Parse::CPAN::Meta 1.4414
Test::Harness 3.30
Test::More 1.001003
YAML 0.90
YAML::Syck 1.27
version 0.9908
--
Summary of my perl5 (revision 5 version 19 subversion 12) configuration:
Commit id: d9c544bf81d27bebeecc8eb1204005c1cc329f64
Platform:
osname=linux, osvers=3.13-1-amd64, archname=x86_64-linux-thread-multi
uname='linux k83 3.13-1-amd64 #1 smp debian 3.13.7-1 (2014-03-25) x86_64 gnulinux '
config_args='-Dprefix=/home/sand/src/perl/repoperls/installed-perls/perl/v5.19.11-9-gd9c544b/9980 -Dmyhostname=k83 -Dinstallusrbinperl=n -Uversiononly -Dusedevel -des -Ui_db -Duseithreads -Uuselongdouble -DDEBUGGING=-g'
hint=recommended, useposix=true, d_sigaction=define
useithreads=define, usemultiplicity=define
use64bitint=define, use64bitall=define, uselongdouble=undef
usemymalloc=n, bincompat5005=undef
Compiler:
cc='cc', ccflags ='-D_REENTRANT -D_GNU_SOURCE -fwrapv -fno-strict-aliasing -pipe -fstack-protector -I/usr/local/include -D_LARGEFILE_SOURCE -D_FILE_OFFSET_BITS=64',
optimize='-O2 -g',
cppflags='-D_REENTRANT -D_GNU_SOURCE -fwrapv -fno-strict-aliasing -pipe -fstack-protector -I/usr/local/include'
ccversion='', gccversion='4.8.2', gccosandvers=''
intsize=4, longsize=8, ptrsize=8, doublesize=8, byteorder=12345678
d_longlong=define, longlongsize=8, d_longdbl=define, longdblsize=16
ivtype='long', ivsize=8, nvtype='double', nvsize=8, Off_t='off_t', lseeksize=8
alignbytes=8, prototype=define
Linker and Libraries:
ld='cc', ldflags =' -fstack-protector -L/usr/local/lib'
libpth=/usr/local/lib /usr/lib/gcc/x86_64-linux-gnu/4.8/include-fixed /usr/include/x86_64-linux-gnu /usr/lib /lib/x86_64-linux-gnu /lib/../lib /usr/lib/x86_64-linux-gnu /usr/lib/../lib /lib
libs=-lnsl -lgdbm -ldb -ldl -lm -lcrypt -lutil -lpthread -lc -lgdbm_compat
perllibs=-lnsl -ldl -lm -lcrypt -lutil -lpthread -lc
libc=libc-2.18.so, so=so, useshrplib=false, libperl=libperl.a
gnulibc_version='2.18'
Dynamic Linking:
dlsrc=dl_dlopen.xs, dlext=so, d_dlsymun=undef, ccdlflags='-Wl,-E'
cccdlflags='-fPIC', lddlflags='-shared -O2 -g -L/usr/local/lib -fstack-protector'
Characteristics of this binary (from libperl):
Compile-time options: HAS_TIMES MULTIPLICITY PERLIO_LAYERS
PERL_DONT_CREATE_GVSV
PERL_HASH_FUNC_ONE_AT_A_TIME_HARD
PERL_IMPLICIT_CONTEXT PERL_MALLOC_WRAP
PERL_NEW_COPY_ON_WRITE PERL_PRESERVE_IVUV
PERL_USE_DEVEL USE_64_BIT_ALL USE_64_BIT_INT
USE_ITHREADS USE_LARGE_FILES USE_LOCALE
USE_LOCALE_COLLATE USE_LOCALE_CTYPE
USE_LOCALE_NUMERIC USE_PERLIO USE_PERL_ATOF
USE_REENTRANT_API
Built under linux
Compiled at Apr 23 2014 07:39:13
%ENV:
PERL5LIB=""
PERL5OPT=""
PERL5_CPANPLUS_IS_RUNNING="32068"
PERL5_CPAN_IS_RUNNING="32068"
PERL_MM_USE_DEFAULT="1"
@INC:
/home/sand/src/perl/repoperls/installed-perls/perl/v5.19.11-9-gd9c544b/9980/lib/site_perl/5.19.12/x86_64-linux-thread-multi
/home/sand/src/perl/repoperls/installed-perls/perl/v5.19.11-9-gd9c544b/9980/lib/site_perl/5.19.12
/home/sand/src/perl/repoperls/installed-perls/perl/v5.19.11-9-gd9c544b/9980/lib/5.19.12/x86_64-linux-thread-multi
/home/sand/src/perl/repoperls/installed-perls/perl/v5.19.11-9-gd9c544b/9980/lib/5.19.12
.