HTML-Parser v3.72 Perl 5 v5.24.3 darwin-2level
- Status
- Pass
- From
- Karen Etheridge
- Dist
-
HTML-Parser v3.72
- Platform
- Perl 5 v5.24.3 darwin-2level
- Date
- 2017-09-24 17:23:04
- ID
- 0640472c-a14d-11e7-9d32-d523820768ab
This distribution has been tested as part of the CPAN Testers
project, supporting the Perl programming language. See
http://wiki.cpantesters.org/ for more information or email
questions to cpan-testers-discuss@perl.org
--
Dear GAAS,
This is a computer-generated report for HTML-Parser-3.72
on perl 5.24.3, created by App::cpanminus::reporter 0.17 (1.7043).
Thank you for uploading your work to CPAN. Congratulations!
All tests were successful.
Sections of this report:
* Tester comments
* Program output
* Prerequisites
* Environment and other context
------------------------------
TESTER COMMENTS
------------------------------
Additional comments from tester:
none provided
------------------------------
PROGRAM OUTPUT
------------------------------
Output from '':
Building and testing HTML-Parser-3.72
Running Mkbootstrap for HTML::Parser ()
chmod 644 "Parser.bs"
"/Volumes/amaretto/Users/ether/perl5/perlbrew/perls/24.3/bin/perl" "/Volumes/amaretto/Users/ether/perl5/perlbrew/perls/24.3/lib/5.24.3/ExtUtils/xsubpp" -typemap "/Volumes/amaretto/Users/ether/perl5/perlbrew/perls/24.3/lib/5.24.3/ExtUtils/typemap" -typemap "typemap" Parser.xs > Parser.xsc && mv Parser.xsc Parser.c
"/Volumes/amaretto/Users/ether/perl5/perlbrew/perls/24.3/bin/perl" mkhctype >hctype.h
"/Volumes/amaretto/Users/ether/perl5/perlbrew/perls/24.3/bin/perl" mkpfunc >pfunc.h
cc -c -fno-common -DPERL_DARWIN -mmacosx-version-min=10.12 -fno-strict-aliasing -pipe -fstack-protector-strong -I/opt/local/include -DPERL_USE_SAFE_PUTENV -O3 -DVERSION=\"3.72\" -DXS_VERSION=\"3.72\" "-I/Volumes/amaretto/Users/ether/perl5/perlbrew/perls/24.3/lib/5.24.3/darwin-2level/CORE" -DMARKED_SECTION Parser.c
rm -f blib/arch/auto/HTML/Parser/Parser.bundle
cc -mmacosx-version-min=10.12 -bundle -undefined dynamic_lookup -L/opt/local/lib -fstack-protector-strong Parser.o -o blib/arch/auto/HTML/Parser/Parser.bundle \
\
chmod 755 blib/arch/auto/HTML/Parser/Parser.bundle
"/Volumes/amaretto/Users/ether/perl5/perlbrew/perls/24.3/bin/perl" -MExtUtils::Command::MM -e 'cp_nonempty' -- Parser.bs blib/arch/auto/HTML/Parser/Parser.bs 644
Manifying 7 pod documents
Running Mkbootstrap for HTML::Parser ()
chmod 644 "Parser.bs"
PERL_DL_NONLAZY=1 "/Volumes/amaretto/Users/ether/perl5/perlbrew/perls/24.3/bin/perl" "-MExtUtils::Command::MM" "-MTest::Harness" "-e" "undef *Test::Harness::Switches; test_harness(0, 'blib/lib', 'blib/arch')" t/*.t
t/api_version.t ...... ok
t/argspec-bad.t ...... ok
t/argspec2.t ......... ok
t/attr-encoded.t ..... ok
t/argspec.t .......... ok
t/callback.t ......... ok
t/case-sensitive.t ... ok
t/comment.t .......... ok
t/cases.t ............ ok
t/declaration.t ...... ok
t/default.t .......... ok
t/document.t ......... ok
t/dtext.t ............ ok
t/entities.t ......... ok
t/entities2.t ........ ok
t/filter-methods.t ... ok
t/filter.t ........... ok
t/handler-eof.t ...... ok
t/handler.t .......... ok
t/headparser-http.t .. ok
t/headparser.t ....... ok
t/ignore.t ........... ok
t/largetags.t ........ ok
t/linkextor-rel.t .... ok
t/magic.t ............ ok
t/linkextor-base.t ... ok
t/marked-sect.t ...... ok
t/msie-compat.t ...... ok
t/offset.t ........... ok
t/options.t .......... ok
t/parsefile.t ........ ok
t/plaintext.t ........ ok
t/pod.t .............. skipped: Test::Pod 1.00 required for testing POD
t/parser.t ........... ok
t/process.t .......... ok
t/pullparser.t ....... ok
t/script.t ........... ok
t/skipped-text.t ..... ok
t/stack-realloc.t .... ok
t/textarea.t ......... ok
t/threads.t .......... skipped: Not configured for threads
t/crashme.t .......... ok
t/unbroken-text.t .... ok
t/uentities.t ........ ok
t/unicode-bom.t ...... ok
t/tokeparser.t ....... ok
t/unicode.t .......... ok
t/xml-mode.t ......... ok
All tests successful.
Files=48, Tests=450, 0 wallclock secs ( 0.14 usr 0.10 sys + 1.57 cusr 0.24 csys = 2.05 CPU)
Result: PASS
------------------------------
PREREQUISITES
------------------------------
Prerequisite modules loaded:
No requirements found
------------------------------
ENVIRONMENT AND OTHER CONTEXT
------------------------------
Environment variables:
HARNESS_OPTIONS = j5:c
LANG = en_CA.UTF-8
NO_NETWORK_TESTING = 1
PATH = /Volumes/amaretto/Users/ether/.perlbrew/libs/24.3@std/bin:/Volumes/amaretto/Users/ether/perl5/perlbrew/bin:/Volumes/amaretto/Users/ether/perl5/perlbrew/perls/24.3/bin:/Volumes/amaretto/Users/ether/bin:/Volumes/amaretto/Users/ether/git/misc/install/jaeger/bin:/Volumes/amaretto/Users/ether/git/misc/install/generic/bin:/opt/local/bin:/opt/local/sbin:/Volumes/amaretto/Users/ether/git/git-hub/lib:/usr/local/bin:/usr/bin:/bin:/usr/sbin:/sbin:/opt/local/share/git-core/contrib/workdir
PERL5LIB = /Volumes/amaretto/Users/ether/.perlbrew/libs/24.3@std/lib/perl5
PERLBREW_BASHRC_VERSION = 0.80
PERLBREW_HOME = /Volumes/amaretto/Users/ether/.perlbrew
PERLBREW_LIB = std
PERLBREW_MANPATH = /Volumes/amaretto/Users/ether/.perlbrew/libs/24.3@std/man:/Volumes/amaretto/Users/ether/perl5/perlbrew/perls/24.3/man
PERLBREW_PATH = /Volumes/amaretto/Users/ether/.perlbrew/libs/24.3@std/bin:/Volumes/amaretto/Users/ether/perl5/perlbrew/bin:/Volumes/amaretto/Users/ether/perl5/perlbrew/perls/24.3/bin
PERLBREW_PERL = 24.3
PERLBREW_ROOT = /Volumes/amaretto/Users/ether/perl5/perlbrew
PERLBREW_VERSION = 0.80
PERLDOC = -oman
PERLDOC_PAGER = less -sicMr
PERL_AUTOINSTALL_PREFER_CPAN = 1
PERL_INSTALL_QUIET = 1
PERL_LOCAL_LIB_ROOT = /Volumes/amaretto/Users/ether/.perlbrew/libs/24.3@std
PERL_MB_OPT = --install_base /Volumes/amaretto/Users/ether/.perlbrew/libs/24.3@std
PERL_MM_OPT = INSTALL_BASE=/Volumes/amaretto/Users/ether/.perlbrew/libs/24.3@std
PERL_USE_UNSAFE_INC = 1
SHELL = /bin/bash
TERM = xterm-color
Perl special variables (and OS-specific diagnostics, for MSWin32):
EGID = 20 20 12 61 79 80 81 98 701 33 100 204 395 398 399
EUID = 502
EXECUTABLE_NAME = /Volumes/amaretto/Users/ether/perl5/perlbrew/perls/24.3/bin/perl
GID = 20 20 12 61 79 80 81 98 701 33 100 204 395 398 399
UID = 502
Perl module toolchain versions installed:
Module Have
------------------- ----------
CPAN 2.11_01
CPAN::Meta 2.150005
Cwd 3.63_01
ExtUtils::CBuilder 0.280225
ExtUtils::Command 7.10_02
ExtUtils::Install 2.04
ExtUtils::MakeMaker 7.10_02
ExtUtils::Manifest 1.70
ExtUtils::ParseXS 3.31
File::Spec 3.63_01
JSON n/a
JSON::PP 2.27300_01
Module::Build n/a
Module::Signature n/a
Parse::CPAN::Meta 1.4417_001
Test::Harness 3.36_01
Test::More 1.001014
YAML n/a
YAML::Syck n/a
version 0.9916
--
Summary of my perl5 (revision 5 version 24 subversion 3) configuration:
Platform:
osname=darwin, osvers=16.7.0, archname=darwin-2level
uname='darwin jaeger 16.7.0 darwin kernel version 16.7.0: thu jun 15 17:36:27 pdt 2017; root:xnu-3789.70.16~2release_x86_64 x86_64 '
config_args='-de -Dprefix=/Volumes/amaretto/Users/ether/perl5/perlbrew/perls/24.3 -Dman1dir=none -Dman3dir=none -Aeval:scriptdir=/Volumes/amaretto/Users/ether/perl5/perlbrew/perls/24.3/bin'
hint=recommended, useposix=true, d_sigaction=define
useithreads=undef, usemultiplicity=undef
use64bitint=define, use64bitall=define, uselongdouble=undef
usemymalloc=n, bincompat5005=undef
Compiler:
cc='cc', ccflags ='-fno-common -DPERL_DARWIN -mmacosx-version-min=10.12 -fno-strict-aliasing -pipe -fstack-protector-strong -I/opt/local/include -DPERL_USE_SAFE_PUTENV',
optimize='-O3',
cppflags='-fno-common -DPERL_DARWIN -mmacosx-version-min=10.12 -fno-strict-aliasing -pipe -fstack-protector-strong -I/opt/local/include'
ccversion='', gccversion='4.2.1 Compatible Apple LLVM 9.0.0 (clang-900.0.37)', gccosandvers=''
intsize=4, longsize=8, ptrsize=8, doublesize=8, byteorder=12345678, doublekind=3
d_longlong=define, longlongsize=8, d_longdbl=define, longdblsize=16, longdblkind=3
ivtype='long', ivsize=8, nvtype='double', nvsize=8, Off_t='off_t', lseeksize=8
alignbytes=8, prototype=define
Linker and Libraries:
ld='cc', ldflags =' -mmacosx-version-min=10.12 -fstack-protector-strong -L/opt/local/lib'
libpth=/Applications/Xcode.app/Contents/Developer/Toolchains/XcodeDefault.xctoolchain/usr/lib/clang/9.0.0/lib /Applications/Xcode.app/Contents/Developer/Toolchains/XcodeDefault.xctoolchain/usr/lib /usr/lib /opt/local/lib
libs=-lpthread -lgdbm -ldbm -ldl -lm -lutil -lc
perllibs=-lpthread -ldl -lm -lutil -lc
libc=, so=dylib, useshrplib=false, libperl=libperl.a
gnulibc_version=''
Dynamic Linking:
dlsrc=dl_dlopen.xs, dlext=bundle, d_dlsymun=undef, ccdlflags=' '
cccdlflags=' ', lddlflags=' -mmacosx-version-min=10.12 -bundle -undefined dynamic_lookup -L/opt/local/lib -fstack-protector-strong'
Characteristics of this binary (from libperl):
Compile-time options: HAS_TIMES PERLIO_LAYERS PERL_COPY_ON_WRITE
PERL_DONT_CREATE_GVSV
PERL_HASH_FUNC_ONE_AT_A_TIME_HARD PERL_MALLOC_WRAP
PERL_PRESERVE_IVUV PERL_USE_SAFE_PUTENV
USE_64_BIT_ALL USE_64_BIT_INT USE_LARGE_FILES
USE_LOCALE USE_LOCALE_COLLATE USE_LOCALE_CTYPE
USE_LOCALE_NUMERIC USE_LOCALE_TIME USE_PERLIO
USE_PERL_ATOF
Locally applied patches:
Devel::PatchPerl 1.48
Built under darwin
Compiled at Sep 24 2017 10:14:42
%ENV:
PERL5LIB="/Volumes/amaretto/Users/ether/.perlbrew/libs/24.3@std/lib/perl5"
PERLBREW_BASHRC_VERSION="0.80"
PERLBREW_HOME="/Volumes/amaretto/Users/ether/.perlbrew"
PERLBREW_LIB="std"
PERLBREW_MANPATH="/Volumes/amaretto/Users/ether/.perlbrew/libs/24.3@std/man:/Volumes/amaretto/Users/ether/perl5/perlbrew/perls/24.3/man"
PERLBREW_PATH="/Volumes/amaretto/Users/ether/.perlbrew/libs/24.3@std/bin:/Volumes/amaretto/Users/ether/perl5/perlbrew/bin:/Volumes/amaretto/Users/ether/perl5/perlbrew/perls/24.3/bin"
PERLBREW_PERL="24.3"
PERLBREW_ROOT="/Volumes/amaretto/Users/ether/perl5/perlbrew"
PERLBREW_VERSION="0.80"
PERLDOC="-oman"
PERLDOC_PAGER="less -sicMr"
PERL_AUTOINSTALL_PREFER_CPAN="1"
PERL_INSTALL_QUIET="1"
PERL_LOCAL_LIB_ROOT="/Volumes/amaretto/Users/ether/.perlbrew/libs/24.3@std"
PERL_MB_OPT="--install_base /Volumes/amaretto/Users/ether/.perlbrew/libs/24.3@std"
PERL_MM_OPT="INSTALL_BASE=/Volumes/amaretto/Users/ether/.perlbrew/libs/24.3@std"
PERL_USE_UNSAFE_INC="1"
@INC:
/Volumes/amaretto/Users/ether/.perlbrew/libs/24.3@std/lib/perl5/darwin-2level
/Volumes/amaretto/Users/ether/.perlbrew/libs/24.3@std/lib/perl5
/Volumes/amaretto/Users/ether/perl5/perlbrew/perls/24.3/lib/site_perl/5.24.3/darwin-2level
/Volumes/amaretto/Users/ether/perl5/perlbrew/perls/24.3/lib/site_perl/5.24.3
/Volumes/amaretto/Users/ether/perl5/perlbrew/perls/24.3/lib/5.24.3/darwin-2level
/Volumes/amaretto/Users/ether/perl5/perlbrew/perls/24.3/lib/5.24.3
.