Report for Data-Pipeline-0.02

Back
From: metabase:user:a0e144f2-373b-11e6-8edd-c6848980b093
Subject: PASS Data-Pipeline-0.02 v5.26.0 GNU/Linux
Date: 2017-04-17T00:30:14Z

This distribution has been tested as part of the CPAN Testers
project, supporting the Perl programming language.  See
http://wiki.cpantesters.org/ for more information or email
questions to cpan-testers-discuss@perl.org


--
Dear James G Smith,

This is a computer-generated report for Data-Pipeline-0.02
on perl 5.26.0, created by CPAN-Reporter-1.2018.

Thank you for uploading your work to CPAN.  Congratulations!
All tests were successful.

Sections of this report:

    * Tester comments
    * Program output
    * Prerequisites
    * Environment and other context

------------------------------
TESTER COMMENTS
------------------------------

Additional comments from tester:

this report is from an automated smoke testing program
and was not reviewed by a human for accuracy

------------------------------
PROGRAM OUTPUT
------------------------------

Output from '/usr/bin/make test':

PERL_DL_NONLAZY=1 "/home/cpan3/install/bin/perl" "-MExtUtils::Command::MM" "-MTest::Harness" "-e" "undef *Test::Harness::Switches; test_harness(0, 'inc', 'blib/lib', 'blib/arch')" t/*.t
t/01-iteratorsource.t .. ok
t/02-iterator.t ........ ok
Class::MOP::load_class is deprecated at /home/cpan3/install/lib/perl5/site_perl/5.26.0/x86_64-linux-thread-multi/Class/MOP.pm line 69.
	Class::MOP::load_class("Data::Pipeline::Aggregator::Machine") called at /home/cpan3/.cpan/build/Data-Pipeline-0.02-0/blib/lib/Data/Pipeline/Machine.pm line 20
	Data::Pipeline::Machine::BEGIN() called at /home/cpan3/.cpan/build/Data-Pipeline-0.02-0/blib/lib/Data/Pipeline/Machine.pm line 22
	eval {...} called at /home/cpan3/.cpan/build/Data-Pipeline-0.02-0/blib/lib/Data/Pipeline/Machine.pm line 22
	require Data/Pipeline/Machine.pm called at /home/cpan3/.cpan/build/Data-Pipeline-0.02-0/blib/lib/Data/Pipeline/Aggregator/Machine.pm line 6
	Data::Pipeline::Aggregator::Machine::BEGIN() called at /home/cpan3/.cpan/build/Data-Pipeline-0.02-0/blib/lib/Data/Pipeline/Machine.pm line 22
	eval {...} called at /home/cpan3/.cpan/build/Data-Pipeline-0.02-0/blib/lib/Data/Pipeline/Machine.pm line 22
	require Data/Pipeline/Aggregator/Machine.pm called at /home/cpan3/.cpan/build/Data-Pipeline-0.02-0/blib/lib/Data/Pipeline/Adapter.pm line 9
	Data::Pipeline::Adapter::BEGIN() called at /home/cpan3/.cpan/build/Data-Pipeline-0.02-0/blib/lib/Data/Pipeline/Machine.pm line 22
	eval {...} called at /home/cpan3/.cpan/build/Data-Pipeline-0.02-0/blib/lib/Data/Pipeline/Machine.pm line 22
	require Data/Pipeline/Adapter.pm called at /home/cpan3/install/lib/perl5/site_perl/5.26.0/Module/Runtime.pm line 317
	Module::Runtime::require_module("Data::Pipeline::Adapter") called at /home/cpan3/install/lib/perl5/site_perl/5.26.0/Module/Runtime.pm line 381
	eval {...} called at /home/cpan3/install/lib/perl5/site_perl/5.26.0/Module/Runtime.pm line 381
	Module::Runtime::use_package_optimistically("Data::Pipeline::Adapter") called at /home/cpan3/install/lib/perl5/site_perl/5.26.0/x86_64-linux-thread-multi/Moose/Util.pm line 352
	Moose::Util::_load_user_class("Data::Pipeline::Adapter", undef) called at /home/cpan3/install/lib/perl5/site_perl/5.26.0/x86_64-linux-thread-multi/Moose/Meta/Class.pm line 567
	Moose::Meta::Class::superclasses(undef, "Data::Pipeline::Adapter") called at /home/cpan3/install/lib/perl5/site_perl/5.26.0/x86_64-linux-thread-multi/Moose.pm line 53
	Moose::extends(Moose::Meta::Class=HASH(0x2aae870), "Data::Pipeline::Adapter") called at /home/cpan3/install/lib/perl5/site_perl/5.26.0/x86_64-linux-thread-multi/Moose/Exporter.pm line 419
	Moose::extends("Data::Pipeline::Adapter") called at /home/cpan3/.cpan/build/Data-Pipeline-0.02-0/blib/lib/Data/Pipeline/Adapter/Array.pm line 4
	require Data/Pipeline/Adapter/Array.pm called at t/03-arraysource.t line 3
	main::BEGIN() called at /home/cpan3/.cpan/build/Data-Pipeline-0.02-0/blib/lib/Data/Pipeline/Machine.pm line 22
	eval {...} called at /home/cpan3/.cpan/build/Data-Pipeline-0.02-0/blib/lib/Data/Pipeline/Machine.pm line 22
Class::MOP::load_class is deprecated at /home/cpan3/install/lib/perl5/site_perl/5.26.0/x86_64-linux-thread-multi/Class/MOP.pm line 69.
	Class::MOP::load_class("Data::Pipeline::Iterator") called at /home/cpan3/.cpan/build/Data-Pipeline-0.02-0/blib/lib/Data/Pipeline/Types.pm line 123
	Data::Pipeline::Types::__ANON__(Data::Pipeline::Iterator::Source=HASH(0x2c8f348)) called at /home/cpan3/install/lib/perl5/site_perl/5.26.0/x86_64-linux-thread-multi/Moose/Meta/TypeCoercion.pm line 65
	Moose::Meta::TypeCoercion::__ANON__(Data::Pipeline::Iterator::Source=HASH(0x2c8f348)) called at /home/cpan3/install/lib/perl5/site_perl/5.26.0/x86_64-linux-thread-multi/Moose/Meta/TypeCoercion.pm line 100
	Moose::Meta::TypeCoercion::coerce(Moose::Meta::TypeCoercion=HASH(0x2c97d60), Data::Pipeline::Iterator::Source=HASH(0x2c8f348)) called at /home/cpan3/install/lib/perl5/site_perl/5.26.0/x86_64-linux-thread-multi/Moose/Meta/TypeConstraint.pm line 145
	Moose::Meta::TypeConstraint::coerce(Moose::Meta::TypeConstraint=HASH(0x2b5c040), Data::Pipeline::Iterator::Source=HASH(0x2c8f348)) called at /home/cpan3/install/lib/perl5/site_perl/5.26.0/MooseX/Types.pm line 494
	MooseX::Types::__ANON__(Data::Pipeline::Iterator::Source=HASH(0x2c8f348)) called at t/03-arraysource.t line 17
t/03-arraysource.t ..... ok
Class::MOP::load_class is deprecated at /home/cpan3/install/lib/perl5/site_perl/5.26.0/x86_64-linux-thread-multi/Class/MOP.pm line 69.
	Class::MOP::load_class("Data::Pipeline::Aggregator::Machine") called at /home/cpan3/.cpan/build/Data-Pipeline-0.02-0/blib/lib/Data/Pipeline/Machine.pm line 20
	Data::Pipeline::Machine::BEGIN() called at /home/cpan3/.cpan/build/Data-Pipeline-0.02-0/blib/lib/Data/Pipeline/Machine.pm line 22
	eval {...} called at /home/cpan3/.cpan/build/Data-Pipeline-0.02-0/blib/lib/Data/Pipeline/Machine.pm line 22
	require Data/Pipeline/Machine.pm called at /home/cpan3/.cpan/build/Data-Pipeline-0.02-0/blib/lib/Data/Pipeline/Aggregator/Machine.pm line 6
	Data::Pipeline::Aggregator::Machine::BEGIN() called at /home/cpan3/.cpan/build/Data-Pipeline-0.02-0/blib/lib/Data/Pipeline/Machine.pm line 22
	eval {...} called at /home/cpan3/.cpan/build/Data-Pipeline-0.02-0/blib/lib/Data/Pipeline/Machine.pm line 22
	require Data/Pipeline/Aggregator/Machine.pm called at /home/cpan3/.cpan/build/Data-Pipeline-0.02-0/blib/lib/Data/Pipeline/Adapter.pm line 9
	Data::Pipeline::Adapter::BEGIN() called at /home/cpan3/.cpan/build/Data-Pipeline-0.02-0/blib/lib/Data/Pipeline/Machine.pm line 22
	eval {...} called at /home/cpan3/.cpan/build/Data-Pipeline-0.02-0/blib/lib/Data/Pipeline/Machine.pm line 22
	require Data/Pipeline/Adapter.pm called at /home/cpan3/install/lib/perl5/site_perl/5.26.0/Module/Runtime.pm line 317
	Module::Runtime::require_module("Data::Pipeline::Adapter") called at /home/cpan3/install/lib/perl5/site_perl/5.26.0/Module/Runtime.pm line 381
	eval {...} called at /home/cpan3/install/lib/perl5/site_perl/5.26.0/Module/Runtime.pm line 381
	Module::Runtime::use_package_optimistically("Data::Pipeline::Adapter") called at /home/cpan3/install/lib/perl5/site_perl/5.26.0/x86_64-linux-thread-multi/Moose/Util.pm line 352
	Moose::Util::_load_user_class("Data::Pipeline::Adapter", undef) called at /home/cpan3/install/lib/perl5/site_perl/5.26.0/x86_64-linux-thread-multi/Moose/Meta/Class.pm line 567
	Moose::Meta::Class::superclasses(undef, "Data::Pipeline::Adapter") called at /home/cpan3/install/lib/perl5/site_perl/5.26.0/x86_64-linux-thread-multi/Moose.pm line 53
	Moose::extends(Moose::Meta::Class=HASH(0x2c6c658), "Data::Pipeline::Adapter") called at /home/cpan3/install/lib/perl5/site_perl/5.26.0/x86_64-linux-thread-multi/Moose/Exporter.pm line 419
	Moose::extends("Data::Pipeline::Adapter") called at /home/cpan3/.cpan/build/Data-Pipeline-0.02-0/blib/lib/Data/Pipeline/Adapter/Array.pm line 4
	require Data/Pipeline/Adapter/Array.pm called at t/04-count.t line 4
	main::BEGIN() called at /home/cpan3/.cpan/build/Data-Pipeline-0.02-0/blib/lib/Data/Pipeline/Machine.pm line 22
	eval {...} called at /home/cpan3/.cpan/build/Data-Pipeline-0.02-0/blib/lib/Data/Pipeline/Machine.pm line 22
t/04-count.t ........... ok
Class::MOP::load_class is deprecated at /home/cpan3/install/lib/perl5/site_perl/5.26.0/x86_64-linux-thread-multi/Class/MOP.pm line 69.
	Class::MOP::load_class("Data::Pipeline::Aggregator::Machine") called at /home/cpan3/.cpan/build/Data-Pipeline-0.02-0/blib/lib/Data/Pipeline/Machine.pm line 20
	Data::Pipeline::Machine::BEGIN() called at /home/cpan3/.cpan/build/Data-Pipeline-0.02-0/blib/lib/Data/Pipeline/Machine.pm line 22
	eval {...} called at /home/cpan3/.cpan/build/Data-Pipeline-0.02-0/blib/lib/Data/Pipeline/Machine.pm line 22
	require Data/Pipeline/Machine.pm called at /home/cpan3/.cpan/build/Data-Pipeline-0.02-0/blib/lib/Data/Pipeline/Aggregator/Machine.pm line 6
	Data::Pipeline::Aggregator::Machine::BEGIN() called at /home/cpan3/.cpan/build/Data-Pipeline-0.02-0/blib/lib/Data/Pipeline/Machine.pm line 22
	eval {...} called at /home/cpan3/.cpan/build/Data-Pipeline-0.02-0/blib/lib/Data/Pipeline/Machine.pm line 22
	require Data/Pipeline/Aggregator/Machine.pm called at /home/cpan3/.cpan/build/Data-Pipeline-0.02-0/blib/lib/Data/Pipeline/Adapter.pm line 9
	Data::Pipeline::Adapter::BEGIN() called at /home/cpan3/.cpan/build/Data-Pipeline-0.02-0/blib/lib/Data/Pipeline/Machine.pm line 22
	eval {...} called at /home/cpan3/.cpan/build/Data-Pipeline-0.02-0/blib/lib/Data/Pipeline/Machine.pm line 22
	require Data/Pipeline/Adapter.pm called at t/00-compile.t line 16
	main::BEGIN() called at /home/cpan3/.cpan/build/Data-Pipeline-0.02-0/blib/lib/Data/Pipeline/Machine.pm line 22
	eval {...} called at /home/cpan3/.cpan/build/Data-Pipeline-0.02-0/blib/lib/Data/Pipeline/Machine.pm line 22
	eval 'package main;
BEGIN { ${^WARNING_BITS} = $args[-1] if defined $args[-1] }
#line 16 t/00-compile.t
use Data::Pipeline::Adapter @{$args[0]};
1;
' called at /home/cpan3/install/lib/perl5/site_perl/5.26.0/Test/More.pm line 1031
	Test::More::_eval("package main;\x{a}BEGIN { \${^WARNING_BITS} = \$args[-1] if defined"..., ARRAY(0x12042a8), undef) called at /home/cpan3/install/lib/perl5/site_perl/5.26.0/Test/More.pm line 1007
	Test::More::use_ok("Data::Pipeline::Adapter") called at t/00-compile.t line 16
	main::BEGIN() called at /home/cpan3/.cpan/build/Data-Pipeline-0.02-0/blib/lib/Data/Pipeline/Machine.pm line 22
	eval {...} called at /home/cpan3/.cpan/build/Data-Pipeline-0.02-0/blib/lib/Data/Pipeline/Machine.pm line 22
Class::MOP::load_class is deprecated at /home/cpan3/install/lib/perl5/site_perl/5.26.0/x86_64-linux-thread-multi/Class/MOP.pm line 69.
	Class::MOP::load_class("Data::Pipeline::Aggregator::Machine") called at /home/cpan3/.cpan/build/Data-Pipeline-0.02-0/blib/lib/Data/Pipeline/Machine.pm line 20
	Data::Pipeline::Machine::BEGIN() called at /home/cpan3/.cpan/build/Data-Pipeline-0.02-0/blib/lib/Data/Pipeline/Machine.pm line 22
	eval {...} called at /home/cpan3/.cpan/build/Data-Pipeline-0.02-0/blib/lib/Data/Pipeline/Machine.pm line 22
	require Data/Pipeline/Machine.pm called at /home/cpan3/.cpan/build/Data-Pipeline-0.02-0/blib/lib/Data/Pipeline/Aggregator/Machine.pm line 6
	Data::Pipeline::Aggregator::Machine::BEGIN() called at /home/cpan3/.cpan/build/Data-Pipeline-0.02-0/blib/lib/Data/Pipeline/Machine.pm line 22
	eval {...} called at /home/cpan3/.cpan/build/Data-Pipeline-0.02-0/blib/lib/Data/Pipeline/Machine.pm line 22
	require Data/Pipeline/Aggregator/Machine.pm called at /home/cpan3/.cpan/build/Data-Pipeline-0.02-0/blib/lib/Data/Pipeline/Adapter.pm line 9
	Data::Pipeline::Adapter::BEGIN() called at /home/cpan3/.cpan/build/Data-Pipeline-0.02-0/blib/lib/Data/Pipeline/Machine.pm line 22
	eval {...} called at /home/cpan3/.cpan/build/Data-Pipeline-0.02-0/blib/lib/Data/Pipeline/Machine.pm line 22
	require Data/Pipeline/Adapter.pm called at /home/cpan3/install/lib/perl5/site_perl/5.26.0/Module/Runtime.pm line 317
	Module::Runtime::require_module("Data::Pipeline::Adapter") called at /home/cpan3/install/lib/perl5/site_perl/5.26.0/Module/Runtime.pm line 381
	eval {...} called at /home/cpan3/install/lib/perl5/site_perl/5.26.0/Module/Runtime.pm line 381
	Module::Runtime::use_package_optimistically("Data::Pipeline::Adapter") called at /home/cpan3/install/lib/perl5/site_perl/5.26.0/x86_64-linux-thread-multi/Moose/Util.pm line 352
	Moose::Util::_load_user_class("Data::Pipeline::Adapter", undef) called at /home/cpan3/install/lib/perl5/site_perl/5.26.0/x86_64-linux-thread-multi/Moose/Meta/Class.pm line 567
	Moose::Meta::Class::superclasses(undef, "Data::Pipeline::Adapter") called at /home/cpan3/install/lib/perl5/site_perl/5.26.0/x86_64-linux-thread-multi/Moose.pm line 53
	Moose::extends(Moose::Meta::Class=HASH(0x1e01508), "Data::Pipeline::Adapter") called at /home/cpan3/install/lib/perl5/site_perl/5.26.0/x86_64-linux-thread-multi/Moose/Exporter.pm line 419
	Moose::extends("Data::Pipeline::Adapter") called at /home/cpan3/.cpan/build/Data-Pipeline-0.02-0/blib/lib/Data/Pipeline/Adapter/Array.pm line 4
	require Data/Pipeline/Adapter/Array.pm called at t/05-truncate.t line 4
	main::BEGIN() called at /home/cpan3/.cpan/build/Data-Pipeline-0.02-0/blib/lib/Data/Pipeline/Machine.pm line 22
	eval {...} called at /home/cpan3/.cpan/build/Data-Pipeline-0.02-0/blib/lib/Data/Pipeline/Machine.pm line 22
t/05-truncate.t ........ ok
t/00-compile.t ......... ok
Class::MOP::load_class is deprecated at /home/cpan3/install/lib/perl5/site_perl/5.26.0/x86_64-linux-thread-multi/Class/MOP.pm line 69.
	Class::MOP::load_class("Data::Pipeline::Aggregator::Pipeline") called at /home/cpan3/.cpan/build/Data-Pipeline-0.02-0/blib/lib/Data/Pipeline.pm line 70
	eval {...} called at /home/cpan3/.cpan/build/Data-Pipeline-0.02-0/blib/lib/Data/Pipeline.pm line 70
	Data::Pipeline::_find_class("Pipeline") called at /home/cpan3/.cpan/build/Data-Pipeline-0.02-0/blib/lib/Data/Pipeline.pm line 23
	Data::Pipeline::import("Data::Pipeline", "Pipeline", "Truncate", "Count", "Array") called at t/06-pipeline.t line 4
	main::BEGIN() called at t/06-pipeline.t line 4
	eval {...} called at t/06-pipeline.t line 4
Class::MOP::load_class is deprecated at /home/cpan3/install/lib/perl5/site_perl/5.26.0/x86_64-linux-thread-multi/Class/MOP.pm line 69.
	Class::MOP::load_class("Data::Pipeline::Aggregator::Machine") called at /home/cpan3/.cpan/build/Data-Pipeline-0.02-0/blib/lib/Data/Pipeline/Machine.pm line 20
	Data::Pipeline::Machine::BEGIN() called at /home/cpan3/.cpan/build/Data-Pipeline-0.02-0/blib/lib/Data/Pipeline/Machine.pm line 22
	eval {...} called at /home/cpan3/.cpan/build/Data-Pipeline-0.02-0/blib/lib/Data/Pipeline/Machine.pm line 22
	require Data/Pipeline/Machine.pm called at /home/cpan3/.cpan/build/Data-Pipeline-0.02-0/blib/lib/Data/Pipeline/Aggregator/Pipeline.pm line 10
	Data::Pipeline::Aggregator::Pipeline::BEGIN() called at /home/cpan3/.cpan/build/Data-Pipeline-0.02-0/blib/lib/Data/Pipeline/Machine.pm line 22
	eval {...} called at /home/cpan3/.cpan/build/Data-Pipeline-0.02-0/blib/lib/Data/Pipeline/Machine.pm line 22
	require Data/Pipeline/Aggregator/Pipeline.pm called at /home/cpan3/install/lib/perl5/site_perl/5.26.0/Module/Runtime.pm line 317
	Module::Runtime::require_module("Data::Pipeline::Aggregator::Pipeline") called at /home/cpan3/install/lib/perl5/site_perl/5.26.0/Class/Load.pm line 174
	Class::Load::try {...} () called at /home/cpan3/install/lib/perl5/site_perl/5.26.0/Try/Tiny.pm line 99
	eval {...} called at /home/cpan3/install/lib/perl5/site_perl/5.26.0/Try/Tiny.pm line 94
	Try::Tiny::try(CODE(0x2079400), Try::Tiny::Catch=REF(0x3061f38)) called at /home/cpan3/install/lib/perl5/site_perl/5.26.0/Class/Load.pm line 180
	Class::Load::try_load_class("Data::Pipeline::Aggregator::Pipeline", undef) called at /home/cpan3/install/lib/perl5/site_perl/5.26.0/Class/Load.pm line 35
	Class::Load::load_class("Data::Pipeline::Aggregator::Pipeline") called at /home/cpan3/.cpan/build/Data-Pipeline-0.02-0/blib/lib/Data/Pipeline.pm line 70
	eval {...} called at /home/cpan3/.cpan/build/Data-Pipeline-0.02-0/blib/lib/Data/Pipeline.pm line 70
	Data::Pipeline::_find_class("Pipeline") called at /home/cpan3/.cpan/build/Data-Pipeline-0.02-0/blib/lib/Data/Pipeline.pm line 23
	Data::Pipeline::import("Data::Pipeline", "Pipeline", "Truncate", "Count", "Array") called at t/06-pipeline.t line 4
	main::BEGIN() called at /home/cpan3/.cpan/build/Data-Pipeline-0.02-0/blib/lib/Data/Pipeline/Machine.pm line 22
	eval {...} called at /home/cpan3/.cpan/build/Data-Pipeline-0.02-0/blib/lib/Data/Pipeline/Machine.pm line 22
Class::MOP::load_class is deprecated at /home/cpan3/install/lib/perl5/site_perl/5.26.0/x86_64-linux-thread-multi/Class/MOP.pm line 69.
	Class::MOP::load_class("Data::Pipeline::Iterator") called at /home/cpan3/.cpan/build/Data-Pipeline-0.02-0/blib/lib/Data/Pipeline/Types.pm line 133
	Data::Pipeline::Types::__ANON__(Data::Pipeline::Adapter::Array=HASH(0x3298880)) called at /home/cpan3/install/lib/perl5/site_perl/5.26.0/x86_64-linux-thread-multi/Moose/Meta/TypeCoercion.pm line 65
	Moose::Meta::TypeCoercion::__ANON__(Data::Pipeline::Adapter::Array=HASH(0x3298880)) called at /home/cpan3/install/lib/perl5/site_perl/5.26.0/x86_64-linux-thread-multi/Moose/Meta/TypeCoercion.pm line 100
	Moose::Meta::TypeCoercion::coerce(Moose::Meta::TypeCoercion=HASH(0x3073098), Data::Pipeline::Adapter::Array=HASH(0x3298880)) called at /home/cpan3/install/lib/perl5/site_perl/5.26.0/x86_64-linux-thread-multi/Moose/Meta/TypeConstraint.pm line 145
	Moose::Meta::TypeConstraint::coerce(Moose::Meta::TypeConstraint=HASH(0x3029c58), Data::Pipeline::Adapter::Array=HASH(0x3298880)) called at /home/cpan3/install/lib/perl5/site_perl/5.26.0/MooseX/Types.pm line 494
	MooseX::Types::__ANON__(Data::Pipeline::Adapter::Array=HASH(0x3298880)) called at /home/cpan3/.cpan/build/Data-Pipeline-0.02-0/blib/lib/Data/Pipeline/Aggregator/Pipeline.pm line 47
	Data::Pipeline::Aggregator::Pipeline::transform(Data::Pipeline::Aggregator::Pipeline=HASH(0x32c9bc0), Data::Pipeline::Adapter::Array=HASH(0x3298880)) called at t/06-pipeline.t line 19
Class::MOP::load_class is deprecated at /home/cpan3/install/lib/perl5/site_perl/5.26.0/x86_64-linux-thread-multi/Class/MOP.pm line 69.
	Class::MOP::load_class("Data::Pipeline::Aggregator::Pipeline") called at /home/cpan3/.cpan/build/Data-Pipeline-0.02-0/blib/lib/Data/Pipeline.pm line 70
	eval {...} called at /home/cpan3/.cpan/build/Data-Pipeline-0.02-0/blib/lib/Data/Pipeline.pm line 70
	Data::Pipeline::_find_class("Pipeline") called at /home/cpan3/.cpan/build/Data-Pipeline-0.02-0/blib/lib/Data/Pipeline.pm line 23
	Data::Pipeline::import("Data::Pipeline", "Pipeline", "Count", "CSV") called at t/07-csvsource.t line 23
	main::BEGIN() called at t/07-csvsource.t line 23
	eval {...} called at t/07-csvsource.t line 23
Class::MOP::load_class is deprecated at /home/cpan3/install/lib/perl5/site_perl/5.26.0/x86_64-linux-thread-multi/Class/MOP.pm line 69.
	Class::MOP::load_class("Data::Pipeline::Aggregator::Machine") called at /home/cpan3/.cpan/build/Data-Pipeline-0.02-0/blib/lib/Data/Pipeline/Machine.pm line 20
	Data::Pipeline::Machine::BEGIN() called at /home/cpan3/.cpan/build/Data-Pipeline-0.02-0/blib/lib/Data/Pipeline/Machine.pm line 22
	eval {...} called at /home/cpan3/.cpan/build/Data-Pipeline-0.02-0/blib/lib/Data/Pipeline/Machine.pm line 22
	require Data/Pipeline/Machine.pm called at /home/cpan3/.cpan/build/Data-Pipeline-0.02-0/blib/lib/Data/Pipeline/Aggregator/Pipeline.pm line 10
	Data::Pipeline::Aggregator::Pipeline::BEGIN() called at /home/cpan3/.cpan/build/Data-Pipeline-0.02-0/blib/lib/Data/Pipeline/Machine.pm line 22
	eval {...} called at /home/cpan3/.cpan/build/Data-Pipeline-0.02-0/blib/lib/Data/Pipeline/Machine.pm line 22
	require Data/Pipeline/Aggregator/Pipeline.pm called at /home/cpan3/install/lib/perl5/site_perl/5.26.0/Module/Runtime.pm line 317
	Module::Runtime::require_module("Data::Pipeline::Aggregator::Pipeline") called at /home/cpan3/install/lib/perl5/site_perl/5.26.0/Class/Load.pm line 174
	Class::Load::try {...} () called at /home/cpan3/install/lib/perl5/site_perl/5.26.0/Try/Tiny.pm line 99
	eval {...} called at /home/cpan3/install/lib/perl5/site_perl/5.26.0/Try/Tiny.pm line 94
	Try::Tiny::try(CODE(0x37b6040), Try::Tiny::Catch=REF(0x37abcc0)) called at /home/cpan3/install/lib/perl5/site_perl/5.26.0/Class/Load.pm line 180
	Class::Load::try_load_class("Data::Pipeline::Aggregator::Pipeline", undef) called at /home/cpan3/install/lib/perl5/site_perl/5.26.0/Class/Load.pm line 35
	Class::Load::load_class("Data::Pipeline::Aggregator::Pipeline") called at /home/cpan3/.cpan/build/Data-Pipeline-0.02-0/blib/lib/Data/Pipeline.pm line 70
	eval {...} called at /home/cpan3/.cpan/build/Data-Pipeline-0.02-0/blib/lib/Data/Pipeline.pm line 70
	Data::Pipeline::_find_class("Pipeline") called at /home/cpan3/.cpan/build/Data-Pipeline-0.02-0/blib/lib/Data/Pipeline.pm line 23
	Data::Pipeline::import("Data::Pipeline", "Pipeline", "Count", "CSV") called at t/07-csvsource.t line 23
	main::BEGIN() called at /home/cpan3/.cpan/build/Data-Pipeline-0.02-0/blib/lib/Data/Pipeline/Machine.pm line 22
	eval {...} called at /home/cpan3/.cpan/build/Data-Pipeline-0.02-0/blib/lib/Data/Pipeline/Machine.pm line 22
Class::MOP::load_class is deprecated at /home/cpan3/install/lib/perl5/site_perl/5.26.0/x86_64-linux-thread-multi/Class/MOP.pm line 69.
	Class::MOP::load_class("Data::Pipeline::Iterator") called at /home/cpan3/.cpan/build/Data-Pipeline-0.02-0/blib/lib/Data/Pipeline/Types.pm line 133
	Data::Pipeline::Types::__ANON__(Data::Pipeline::Adapter::CSV=HASH(0x382ea98)) called at /home/cpan3/install/lib/perl5/site_perl/5.26.0/x86_64-linux-thread-multi/Moose/Meta/TypeCoercion.pm line 65
	Moose::Meta::TypeCoercion::__ANON__(Data::Pipeline::Adapter::CSV=HASH(0x382ea98)) called at /home/cpan3/install/lib/perl5/site_perl/5.26.0/x86_64-linux-thread-multi/Moose/Meta/TypeCoercion.pm line 100
	Moose::Meta::TypeCoercion::coerce(Moose::Meta::TypeCoercion=HASH(0x37bcc80), Data::Pipeline::Adapter::CSV=HASH(0x382ea98)) called at /home/cpan3/install/lib/perl5/site_perl/5.26.0/x86_64-linux-thread-multi/Moose/Meta/TypeConstraint.pm line 145
	Moose::Meta::TypeConstraint::coerce(Moose::Meta::TypeConstraint=HASH(0x3796280), Data::Pipeline::Adapter::CSV=HASH(0x382ea98)) called at /home/cpan3/install/lib/perl5/site_perl/5.26.0/MooseX/Types.pm line 494
	MooseX::Types::__ANON__(Data::Pipeline::Adapter::CSV=HASH(0x382ea98)) called at /home/cpan3/.cpan/build/Data-Pipeline-0.02-0/blib/lib/Data/Pipeline/Action.pm line 23
	Data::Pipeline::Action::transform(Data::Pipeline::Action::Count=HASH(0x2264a70), Data::Pipeline::Adapter::CSV=HASH(0x382ea98)) called at t/07-csvsource.t line 26
t/06-pipeline.t ........ ok
t/07-csvsource.t ....... ok
Class::MOP::load_class is deprecated at /home/cpan3/install/lib/perl5/site_perl/5.26.0/x86_64-linux-thread-multi/Class/MOP.pm line 69.
	Class::MOP::load_class("Data::Pipeline::Adapter::Array") called at /home/cpan3/.cpan/build/Data-Pipeline-0.02-0/blib/lib/Data/Pipeline/Types.pm line 78
	Data::Pipeline::Types::__ANON__(ARRAY(0x23a3960)) called at /home/cpan3/install/lib/perl5/site_perl/5.26.0/x86_64-linux-thread-multi/Moose/Meta/TypeCoercion.pm line 65
	Moose::Meta::TypeCoercion::__ANON__(ARRAY(0x23a3960)) called at /home/cpan3/install/lib/perl5/site_perl/5.26.0/x86_64-linux-thread-multi/Moose/Meta/TypeCoercion.pm line 100
	Moose::Meta::TypeCoercion::coerce(Moose::Meta::TypeCoercion=HASH(0x2d9b4f8), ARRAY(0x23a3960)) called at /home/cpan3/install/lib/perl5/site_perl/5.26.0/x86_64-linux-thread-multi/Moose/Meta/TypeConstraint.pm line 145
	Moose::Meta::TypeConstraint::coerce(Moose::Meta::TypeConstraint=HASH(0x38a3d80), ARRAY(0x23a3960)) called at /home/cpan3/install/lib/perl5/site_perl/5.26.0/MooseX/Types.pm line 494
	MooseX::Types::__ANON__(ARRAY(0x23a3960)) called at t/08-types.t line 28
Class::MOP::load_class is deprecated at /home/cpan3/install/lib/perl5/site_perl/5.26.0/x86_64-linux-thread-multi/Class/MOP.pm line 69.
	Class::MOP::load_class("Data::Pipeline::Aggregator::Machine") called at /home/cpan3/.cpan/build/Data-Pipeline-0.02-0/blib/lib/Data/Pipeline/Machine.pm line 20
	Data::Pipeline::Machine::BEGIN() called at /home/cpan3/.cpan/build/Data-Pipeline-0.02-0/blib/lib/Data/Pipeline/Machine.pm line 22
	eval {...} called at /home/cpan3/.cpan/build/Data-Pipeline-0.02-0/blib/lib/Data/Pipeline/Machine.pm line 22
	require Data/Pipeline/Machine.pm called at /home/cpan3/.cpan/build/Data-Pipeline-0.02-0/blib/lib/Data/Pipeline/Aggregator/Machine.pm line 6
	Data::Pipeline::Aggregator::Machine::BEGIN() called at /home/cpan3/.cpan/build/Data-Pipeline-0.02-0/blib/lib/Data/Pipeline/Machine.pm line 22
	eval {...} called at /home/cpan3/.cpan/build/Data-Pipeline-0.02-0/blib/lib/Data/Pipeline/Machine.pm line 22
	require Data/Pipeline/Aggregator/Machine.pm called at /home/cpan3/.cpan/build/Data-Pipeline-0.02-0/blib/lib/Data/Pipeline/Adapter.pm line 9
	Data::Pipeline::Adapter::BEGIN() called at /home/cpan3/.cpan/build/Data-Pipeline-0.02-0/blib/lib/Data/Pipeline/Machine.pm line 22
	eval {...} called at /home/cpan3/.cpan/build/Data-Pipeline-0.02-0/blib/lib/Data/Pipeline/Machine.pm line 22
	require Data/Pipeline/Adapter.pm called at /home/cpan3/install/lib/perl5/site_perl/5.26.0/Module/Runtime.pm line 317
	Module::Runtime::require_module("Data::Pipeline::Adapter") called at /home/cpan3/install/lib/perl5/site_perl/5.26.0/Module/Runtime.pm line 381
	eval {...} called at /home/cpan3/install/lib/perl5/site_perl/5.26.0/Module/Runtime.pm line 381
	Module::Runtime::use_package_optimistically("Data::Pipeline::Adapter") called at /home/cpan3/install/lib/perl5/site_perl/5.26.0/x86_64-linux-thread-multi/Moose/Util.pm line 352
	Moose::Util::_load_user_class("Data::Pipeline::Adapter", undef) called at /home/cpan3/install/lib/perl5/site_perl/5.26.0/x86_64-linux-thread-multi/Moose/Meta/Class.pm line 567
	Moose::Meta::Class::superclasses(undef, "Data::Pipeline::Adapter") called at /home/cpan3/install/lib/perl5/site_perl/5.26.0/x86_64-linux-thread-multi/Moose.pm line 53
	Moose::extends(Moose::Meta::Class=HASH(0x3955308), "Data::Pipeline::Adapter") called at /home/cpan3/install/lib/perl5/site_perl/5.26.0/x86_64-linux-thread-multi/Moose/Exporter.pm line 419
	Moose::extends("Data::Pipeline::Adapter") called at /home/cpan3/.cpan/build/Data-Pipeline-0.02-0/blib/lib/Data/Pipeline/Adapter/Array.pm line 4
	require Data/Pipeline/Adapter/Array.pm called at /home/cpan3/install/lib/perl5/site_perl/5.26.0/Module/Runtime.pm line 317
	Module::Runtime::require_module("Data::Pipeline::Adapter::Array") called at /home/cpan3/install/lib/perl5/site_perl/5.26.0/Class/Load.pm line 174
	Class::Load::try {...} () called at /home/cpan3/install/lib/perl5/site_perl/5.26.0/Try/Tiny.pm line 99
	eval {...} called at /home/cpan3/install/lib/perl5/site_perl/5.26.0/Try/Tiny.pm line 94
	Try::Tiny::try(CODE(0x393ea90), Try::Tiny::Catch=REF(0x393e928)) called at /home/cpan3/install/lib/perl5/site_perl/5.26.0/Class/Load.pm line 180
	Class::Load::try_load_class("Data::Pipeline::Adapter::Array", undef) called at /home/cpan3/install/lib/perl5/site_perl/5.26.0/Class/Load.pm line 35
	Class::Load::load_class("Data::Pipeline::Adapter::Array") called at /home/cpan3/.cpan/build/Data-Pipeline-0.02-0/blib/lib/Data/Pipeline/Types.pm line 78
	Data::Pipeline::Types::__ANON__(ARRAY(0x23a3960)) called at /home/cpan3/install/lib/perl5/site_perl/5.26.0/x86_64-linux-thread-multi/Moose/Meta/TypeCoercion.pm line 65
	Moose::Meta::TypeCoercion::__ANON__(ARRAY(0x23a3960)) called at /home/cpan3/install/lib/perl5/site_perl/5.26.0/x86_64-linux-thread-multi/Moose/Meta/TypeCoercion.pm line 100
	Moose::Meta::TypeCoercion::coerce(Moose::Meta::TypeCoercion=HASH(0x2d9b4f8), ARRAY(0x23a3960)) called at /home/cpan3/install/lib/perl5/site_perl/5.26.0/x86_64-linux-thread-multi/Moose/Meta/TypeConstraint.pm line 145
	Moose::Meta::TypeConstraint::coerce(Moose::Meta::TypeConstraint=HASH(0x38a3d80), ARRAY(0x23a3960)) called at /home/cpan3/install/lib/perl5/site_perl/5.26.0/MooseX/Types.pm line 494
	MooseX::Types::__ANON__(ARRAY(0x23a3960)) called at t/08-types.t line 28
t/08-types.t ........... ok
Class::MOP::load_class is deprecated at /home/cpan3/install/lib/perl5/site_perl/5.26.0/x86_64-linux-thread-multi/Class/MOP.pm line 69.
	Class::MOP::load_class("Data::Pipeline::Aggregator::Machine") called at /home/cpan3/.cpan/build/Data-Pipeline-0.02-0/blib/lib/Data/Pipeline/Machine.pm line 20
	Data::Pipeline::Machine::BEGIN() called at /home/cpan3/.cpan/build/Data-Pipeline-0.02-0/blib/lib/Data/Pipeline/Machine.pm line 22
	eval {...} called at /home/cpan3/.cpan/build/Data-Pipeline-0.02-0/blib/lib/Data/Pipeline/Machine.pm line 22
	require Data/Pipeline/Machine.pm called at t/11-machine.t line 6
	My::Machine::BEGIN() called at /home/cpan3/.cpan/build/Data-Pipeline-0.02-0/blib/lib/Data/Pipeline/Machine.pm line 22
	eval {...} called at /home/cpan3/.cpan/build/Data-Pipeline-0.02-0/blib/lib/Data/Pipeline/Machine.pm line 22
Class::MOP::load_class is deprecated at /home/cpan3/install/lib/perl5/site_perl/5.26.0/x86_64-linux-thread-multi/Class/MOP.pm line 69.
	Class::MOP::load_class("Data::Pipeline::Aggregator::Array") called at /home/cpan3/.cpan/build/Data-Pipeline-0.02-0/blib/lib/Data/Pipeline.pm line 70
	eval {...} called at /home/cpan3/.cpan/build/Data-Pipeline-0.02-0/blib/lib/Data/Pipeline.pm line 70
	Data::Pipeline::_find_class("Array") called at /home/cpan3/.cpan/build/Data-Pipeline-0.02-0/blib/lib/Data/Pipeline.pm line 23
	Data::Pipeline::import("Data::Pipeline", "Array", "Count", "CSV") called at t/11-machine.t line 7
	My::Machine::BEGIN() called at t/11-machine.t line 7
	eval {...} called at t/11-machine.t line 7
t/09-rename.t .......... ok
Class::MOP::load_class is deprecated at /home/cpan3/install/lib/perl5/site_perl/5.26.0/x86_64-linux-thread-multi/Class/MOP.pm line 69.
	Class::MOP::load_class("Data::Pipeline::Iterator") called at /home/cpan3/.cpan/build/Data-Pipeline-0.02-0/blib/lib/Data/Pipeline/Types.pm line 133
	Data::Pipeline::Types::__ANON__(Data::Pipeline::Adapter::Array=HASH(0x27a6330)) called at /home/cpan3/install/lib/perl5/site_perl/5.26.0/x86_64-linux-thread-multi/Moose/Meta/TypeCoercion.pm line 65
	Moose::Meta::TypeCoercion::__ANON__(Data::Pipeline::Adapter::Array=HASH(0x27a6330)) called at /home/cpan3/install/lib/perl5/site_perl/5.26.0/x86_64-linux-thread-multi/Moose/Meta/TypeCoercion.pm line 100
	Moose::Meta::TypeCoercion::coerce(Moose::Meta::TypeCoercion=HASH(0x3d2e188), Data::Pipeline::Adapter::Array=HASH(0x27a6330)) called at /home/cpan3/install/lib/perl5/site_perl/5.26.0/x86_64-linux-thread-multi/Moose/Meta/TypeConstraint.pm line 145
	Moose::Meta::TypeConstraint::coerce(Moose::Meta::TypeConstraint=HASH(0x3cf44c8), Data::Pipeline::Adapter::Array=HASH(0x27a6330)) called at /home/cpan3/install/lib/perl5/site_perl/5.26.0/MooseX/Types.pm line 494
	MooseX::Types::__ANON__(Data::Pipeline::Adapter::Array=HASH(0x27a6330)) called at /home/cpan3/.cpan/build/Data-Pipeline-0.02-0/blib/lib/Data/Pipeline/Aggregator/Pipeline.pm line 30
	Data::Pipeline::Aggregator::Pipeline::from(Data::Pipeline::Aggregator::Pipeline=HASH(0x4128708), "array", Data::Pipeline::Iterator=HASH(0x411eec0)) called at /home/cpan3/.cpan/build/Data-Pipeline-0.02-0/blib/lib/Data/Pipeline/Aggregator/Machine.pm line 124
	Data::Pipeline::Aggregator::Machine::__ANON__() called at /home/cpan3/.cpan/build/Data-Pipeline-0.02-0/blib/lib/Data/Pipeline/Machine.pm line 162
	Data::Pipeline::Machine::with_options(CODE(0x27a5bc8), HASH(0x27a5c88)) called at /home/cpan3/.cpan/build/Data-Pipeline-0.02-0/blib/lib/Data/Pipeline/Aggregator/Machine.pm line 125
	Data::Pipeline::Aggregator::Machine::from(Data::Pipeline::Aggregator::Machine=HASH(0x3cbefb8), "foo", "array", Data::Pipeline::Iterator=HASH(0x411eec0)) called at /home/cpan3/.cpan/build/Data-Pipeline-0.02-0/blib/lib/Data/Pipeline/Machine/Surrogate.pm line 38
	Data::Pipeline::Machine::Surrogate::from(Data::Pipeline::Machine::Surrogate=HASH(0x411e380)) called at /home/cpan3/.cpan/build/Data-Pipeline-0.02-0/blib/lib/Data/Pipeline/Types.pm line 143
	Data::Pipeline::Types::__ANON__(Data::Pipeline::Machine::Surrogate=HASH(0x411e380)) called at /home/cpan3/install/lib/perl5/site_perl/5.26.0/x86_64-linux-thread-multi/Moose/Meta/TypeCoercion.pm line 65
	Moose::Meta::TypeCoercion::__ANON__(Data::Pipeline::Machine::Surrogate=HASH(0x411e380)) called at /home/cpan3/install/lib/perl5/site_perl/5.26.0/x86_64-linux-thread-multi/Moose/Meta/TypeCoercion.pm line 100
	Moose::Meta::TypeCoercion::coerce(Moose::Meta::TypeCoercion=HASH(0x3d2e188), Data::Pipeline::Machine::Surrogate=HASH(0x411e380)) called at /home/cpan3/install/lib/perl5/site_perl/5.26.0/x86_64-linux-thread-multi/Moose/Meta/TypeConstraint.pm line 145
	Moose::Meta::TypeConstraint::coerce(Moose::Meta::TypeConstraint=HASH(0x3cf44c8), Data::Pipeline::Machine::Surrogate=HASH(0x411e380)) called at /home/cpan3/install/lib/perl5/site_perl/5.26.0/MooseX/Types.pm line 494
	MooseX::Types::__ANON__(Data::Pipeline::Machine::Surrogate=HASH(0x411e380)) called at /home/cpan3/.cpan/build/Data-Pipeline-0.02-0/blib/lib/Data/Pipeline/Aggregator/Pipeline.pm line 30
	Data::Pipeline::Aggregator::Pipeline::from(Data::Pipeline::Aggregator::Pipeline=HASH(0x41358f0), "array", ARRAY(0x4135b90)) called at /home/cpan3/.cpan/build/Data-Pipeline-0.02-0/blib/lib/Data/Pipeline/Aggregator/Machine.pm line 124
	Data::Pipeline::Aggregator::Machine::__ANON__() called at /home/cpan3/.cpan/build/Data-Pipeline-0.02-0/blib/lib/Data/Pipeline/Machine.pm line 162
	Data::Pipeline::Machine::with_options(CODE(0x4135c68), HASH(0x27a5988)) called at /home/cpan3/.cpan/build/Data-Pipeline-0.02-0/blib/lib/Data/Pipeline/Aggregator/Machine.pm line 125
	Data::Pipeline::Aggregator::Machine::from(Data::Pipeline::Aggregator::Machine=HASH(0x3cbefb8), "array", ARRAY(0x4135b90)) called at inline delegation in Data::Pipeline::Machine for _m->from (attribute declared in /home/cpan3/.cpan/build/Data-Pipeline-0.02-0/blib/lib/Data/Pipeline/Machine.pm at line 31) line 18
	Data::Pipeline::Machine::from(My::Machine=HASH(0x4135740), "array", ARRAY(0x4135b90)) called at t/11-machine.t line 42
Class::MOP::load_class is deprecated at /home/cpan3/install/lib/perl5/site_perl/5.26.0/x86_64-linux-thread-multi/Class/MOP.pm line 69.
	Class::MOP::load_class("Data::Pipeline::Aggregator::Pipeline") called at /home/cpan3/.cpan/build/Data-Pipeline-0.02-0/blib/lib/Data/Pipeline.pm line 70
	eval {...} called at /home/cpan3/.cpan/build/Data-Pipeline-0.02-0/blib/lib/Data/Pipeline.pm line 70
	Data::Pipeline::_find_class("Pipeline") called at /home/cpan3/.cpan/build/Data-Pipeline-0.02-0/blib/lib/Data/Pipeline.pm line 23
	Data::Pipeline::import("Data::Pipeline", "Pipeline", "Count", "Array") called at t/12-options.t line 3
	main::BEGIN() called at t/12-options.t line 3
	eval {...} called at t/12-options.t line 3
Class::MOP::load_class is deprecated at /home/cpan3/install/lib/perl5/site_perl/5.26.0/x86_64-linux-thread-multi/Class/MOP.pm line 69.
	Class::MOP::load_class("Data::Pipeline::Aggregator::Machine") called at /home/cpan3/.cpan/build/Data-Pipeline-0.02-0/blib/lib/Data/Pipeline/Machine.pm line 20
	Data::Pipeline::Machine::BEGIN() called at /home/cpan3/.cpan/build/Data-Pipeline-0.02-0/blib/lib/Data/Pipeline/Machine.pm line 22
	eval {...} called at /home/cpan3/.cpan/build/Data-Pipeline-0.02-0/blib/lib/Data/Pipeline/Machine.pm line 22
	require Data/Pipeline/Machine.pm called at /home/cpan3/.cpan/build/Data-Pipeline-0.02-0/blib/lib/Data/Pipeline/Aggregator/Pipeline.pm line 10
	Data::Pipeline::Aggregator::Pipeline::BEGIN() called at /home/cpan3/.cpan/build/Data-Pipeline-0.02-0/blib/lib/Data/Pipeline/Machine.pm line 22
	eval {...} called at /home/cpan3/.cpan/build/Data-Pipeline-0.02-0/blib/lib/Data/Pipeline/Machine.pm line 22
	require Data/Pipeline/Aggregator/Pipeline.pm called at /home/cpan3/install/lib/perl5/site_perl/5.26.0/Module/Runtime.pm line 317
	Module::Runtime::require_module("Data::Pipeline::Aggregator::Pipeline") called at /home/cpan3/install/lib/perl5/site_perl/5.26.0/Class/Load.pm line 174
	Class::Load::try {...} () called at /home/cpan3/install/lib/perl5/site_perl/5.26.0/Try/Tiny.pm line 99
	eval {...} called at /home/cpan3/install/lib/perl5/site_perl/5.26.0/Try/Tiny.pm line 94
	Try::Tiny::try(CODE(0x2a278a0), Try::Tiny::Catch=REF(0x2a35f60)) called at /home/cpan3/install/lib/perl5/site_perl/5.26.0/Class/Load.pm line 180
	Class::Load::try_load_class("Data::Pipeline::Aggregator::Pipeline", undef) called at /home/cpan3/install/lib/perl5/site_perl/5.26.0/Class/Load.pm line 35
	Class::Load::load_class("Data::Pipeline::Aggregator::Pipeline") called at /home/cpan3/.cpan/build/Data-Pipeline-0.02-0/blib/lib/Data/Pipeline.pm line 70
	eval {...} called at /home/cpan3/.cpan/build/Data-Pipeline-0.02-0/blib/lib/Data/Pipeline.pm line 70
	Data::Pipeline::_find_class("Pipeline") called at /home/cpan3/.cpan/build/Data-Pipeline-0.02-0/blib/lib/Data/Pipeline.pm line 23
	Data::Pipeline::import("Data::Pipeline", "Pipeline", "Count", "Array") called at t/12-options.t line 3
	main::BEGIN() called at /home/cpan3/.cpan/build/Data-Pipeline-0.02-0/blib/lib/Data/Pipeline/Machine.pm line 22
	eval {...} called at /home/cpan3/.cpan/build/Data-Pipeline-0.02-0/blib/lib/Data/Pipeline/Machine.pm line 22
t/11-machine.t ......... ok
Class::MOP::load_class is deprecated at /home/cpan3/install/lib/perl5/site_perl/5.26.0/x86_64-linux-thread-multi/Class/MOP.pm line 69.
	Class::MOP::load_class("Data::Pipeline::Adapter::Array") called at /home/cpan3/.cpan/build/Data-Pipeline-0.02-0/blib/lib/Data/Pipeline/Types.pm line 83
	Data::Pipeline::Types::__ANON__(1) called at /home/cpan3/install/lib/perl5/site_perl/5.26.0/x86_64-linux-thread-multi/Moose/Meta/TypeCoercion.pm line 65
	Moose::Meta::TypeCoercion::__ANON__(1) called at /home/cpan3/install/lib/perl5/site_perl/5.26.0/x86_64-linux-thread-multi/Moose/Meta/TypeCoercion.pm line 100
	Moose::Meta::TypeCoercion::coerce(Moose::Meta::TypeCoercion=HASH(0x2a00430), 1) called at /home/cpan3/install/lib/perl5/site_perl/5.26.0/x86_64-linux-thread-multi/Moose/Meta/TypeConstraint.pm line 145
	Moose::Meta::TypeConstraint::coerce(Moose::Meta::TypeConstraint=HASH(0x2906540), 1) called at /home/cpan3/install/lib/perl5/site_perl/5.26.0/MooseX/Types.pm line 494
	MooseX::Types::__ANON__(1) called at /home/cpan3/install/lib/perl5/site_perl/5.26.0/Sub/Exporter/ForMethods.pm line 102
	Data::Pipeline::Types::to_Adapter(1) called at /home/cpan3/.cpan/build/Data-Pipeline-0.02-0/blib/lib/Data/Pipeline/Types.pm line 128
	Data::Pipeline::Types::__ANON__(1) called at /home/cpan3/install/lib/perl5/site_perl/5.26.0/x86_64-linux-thread-multi/Moose/Meta/TypeCoercion.pm line 65
	Moose::Meta::TypeCoercion::__ANON__(1) called at /home/cpan3/install/lib/perl5/site_perl/5.26.0/x86_64-linux-thread-multi/Moose/Meta/TypeCoercion.pm line 100
	Moose::Meta::TypeCoercion::coerce(Moose::Meta::TypeCoercion=HASH(0x2a47b18), 1) called at /home/cpan3/install/lib/perl5/site_perl/5.26.0/x86_64-linux-thread-multi/Moose/Meta/TypeConstraint.pm line 145
	Moose::Meta::TypeConstraint::coerce(Moose::Meta::TypeConstraint=HASH(0x29fda98), 1) called at /home/cpan3/install/lib/perl5/site_perl/5.26.0/MooseX/Types.pm line 494
	MooseX::Types::__ANON__(1) called at /home/cpan3/.cpan/build/Data-Pipeline-0.02-0/blib/lib/Data/Pipeline/Iterator/Options.pm line 45
	Data::Pipeline::Iterator::Options::build_source(Data::Pipeline::Iterator::Options=HASH(0x2c71038)) called at /home/cpan3/.cpan/build/Data-Pipeline-0.02-0/blib/lib/Data/Pipeline/Iterator/Options.pm line 24
	Data::Pipeline::Iterator::Options::__ANON__(Data::Pipeline::Iterator::Options=HASH(0x2c71038)) called at accessor Data::Pipeline::Iterator::Options::source (defined at /home/cpan3/.cpan/build/Data-Pipeline-0.02-0/blib/lib/Data/Pipeline/Iterator/Options.pm line 27) line 17
	Data::Pipeline::Iterator::Options::source(Data::Pipeline::Iterator::Options=HASH(0x2c71038)) called at /home/cpan3/.cpan/build/Data-Pipeline-0.02-0/blib/lib/Data/Pipeline/Iterator.pm line 53
	Data::Pipeline::Iterator::finished(Data::Pipeline::Iterator::Options=HASH(0x2c71038)) called at t/12-options.t line 23
t/12-options.t ......... ok
Unescaped left brace in regex is deprecated here (and will be fatal in Perl 5.30), passed through in regex; marked by <-- HERE in m/([^\\]){ <-- HERE / at unkown line 144.
Unescaped left brace in regex is deprecated here (and will be fatal in Perl 5.30), passed through in regex; marked by <-- HERE in m/([^\\]){ <-- HERE / at unkown line 146.
Unescaped left brace in regex is deprecated here (and will be fatal in Perl 5.30), passed through in regex; marked by <-- HERE in m/([^\\]){ <-- HERE / at unkown line 151.
Unescaped left brace in regex is deprecated here (and will be fatal in Perl 5.30), passed through in regex; marked by <-- HERE in m/([^\\]){ <-- HERE / at unkown line 153.
Class::MOP::load_class is deprecated at /home/cpan3/install/lib/perl5/site_perl/5.26.0/x86_64-linux-thread-multi/Class/MOP.pm line 69.
	Class::MOP::load_class("Data::Pipeline::Aggregator::Machine") called at /home/cpan3/.cpan/build/Data-Pipeline-0.02-0/blib/lib/Data/Pipeline/Machine.pm line 20
	Data::Pipeline::Machine::BEGIN() called at /home/cpan3/.cpan/build/Data-Pipeline-0.02-0/blib/lib/Data/Pipeline/Machine.pm line 22
	eval {...} called at /home/cpan3/.cpan/build/Data-Pipeline-0.02-0/blib/lib/Data/Pipeline/Machine.pm line 22
	require Data/Pipeline/Machine.pm called at unkown line 638
	Data::Pipeline::Parser::BEGIN() called at /home/cpan3/.cpan/build/Data-Pipeline-0.02-0/blib/lib/Data/Pipeline/Machine.pm line 22
	eval {...} called at /home/cpan3/.cpan/build/Data-Pipeline-0.02-0/blib/lib/Data/Pipeline/Machine.pm line 22
	require Data/Pipeline/Parser.pm called at t/20-script.t line 3
	main::BEGIN() called at /home/cpan3/.cpan/build/Data-Pipeline-0.02-0/blib/lib/Data/Pipeline/Machine.pm line 22
	eval {...} called at /home/cpan3/.cpan/build/Data-Pipeline-0.02-0/blib/lib/Data/Pipeline/Machine.pm line 22
Class::MOP::load_class is deprecated at /home/cpan3/install/lib/perl5/site_perl/5.26.0/x86_64-linux-thread-multi/Class/MOP.pm line 69.
	Class::MOP::load_class("Data::Pipeline::Adapter::Array") called at unkown line 1005
	eval {...} called at unkown line 1005
	Data::Pipeline::Parser::_load_filter(Data::Pipeline::Parser=HASH(0x26e3ed0), "Adapter", "Array") called at unkown line 988
	Data::Pipeline::Parser::load_actions(Data::Pipeline::Parser=HASH(0x26e3ed0), "Adapter", "Array") called at unkown line 264
	Data::Pipeline::Parser::__ANON__() called at unkown line 61
	Data::Pipeline::Parser::__ANON__() called at unkown line 978
	Data::Pipeline::Parser::_eval_in_m(Data::Pipeline::Parser=HASH(0x26e3ed0), "", CODE(0x26a8ae8)) called at unkown line 883
	Data::Pipeline::Parser::parse(Data::Pipeline::Parser=HASH(0x26acc60), HASH(0xe24fd8), "\x{a}    IN: Array\x{a}    OUT: Array\x{a}    USE: Identity\x{a}\x{a}    PIPELINE"..., HASH(0xe44a70)) called at t/20-script.t line 9
Class::MOP::load_class is deprecated at /home/cpan3/install/lib/perl5/site_perl/5.26.0/x86_64-linux-thread-multi/Class/MOP.pm line 69.
	Class::MOP::load_class("Data::Pipeline::Iterator") called at /home/cpan3/.cpan/build/Data-Pipeline-0.02-0/blib/lib/Data/Pipeline/Types.pm line 133
	Data::Pipeline::Types::__ANON__(Data::Pipeline::Adapter::Array=HASH(0x267be78)) called at /home/cpan3/install/lib/perl5/site_perl/5.26.0/x86_64-linux-thread-multi/Moose/Meta/TypeCoercion.pm line 65
	Moose::Meta::TypeCoercion::__ANON__(Data::Pipeline::Adapter::Array=HASH(0x267be78)) called at /home/cpan3/install/lib/perl5/site_perl/5.26.0/x86_64-linux-thread-multi/Moose/Meta/TypeCoercion.pm line 100
	Moose::Meta::TypeCoercion::coerce(Moose::Meta::TypeCoercion=HASH(0x2522dd8), Data::Pipeline::Adapter::Array=HASH(0x267be78)) called at /home/cpan3/install/lib/perl5/site_perl/5.26.0/x86_64-linux-thread-multi/Moose/Meta/TypeConstraint.pm line 145
	Moose::Meta::TypeConstraint::coerce(Moose::Meta::TypeConstraint=HASH(0x19b4cb8), Data::Pipeline::Adapter::Array=HASH(0x267be78)) called at /home/cpan3/install/lib/perl5/site_perl/5.26.0/MooseX/Types.pm line 494
	MooseX::Types::__ANON__(Data::Pipeline::Adapter::Array=HASH(0x267be78)) called at /home/cpan3/.cpan/build/Data-Pipeline-0.02-0/blib/lib/Data/Pipeline/Aggregator/Pipeline.pm line 30
	Data::Pipeline::Aggregator::Pipeline::from(Data::Pipeline::Aggregator::Pipeline=HASH(0x14c0e70), "array", ARRAY(0xe44a70)) called at /home/cpan3/.cpan/build/Data-Pipeline-0.02-0/blib/lib/Data/Pipeline/Aggregator/Machine.pm line 124
	Data::Pipeline::Aggregator::Machine::__ANON__() called at /home/cpan3/.cpan/build/Data-Pipeline-0.02-0/blib/lib/Data/Pipeline/Machine.pm line 162
	Data::Pipeline::Machine::with_options(CODE(0x14941c0), HASH(0x147c900)) called at /home/cpan3/.cpan/build/Data-Pipeline-0.02-0/blib/lib/Data/Pipeline/Aggregator/Machine.pm line 125
	Data::Pipeline::Aggregator::Machine::from(Data::Pipeline::Aggregator::Machine=HASH(0x26a4ae8), "array", ARRAY(0xe44a70)) called at unkown line 966
	Data::Pipeline::Parser::run(Data::Pipeline::Parser=HASH(0x26e3ed0), "from", HASH(0x26a8db8), "to", ARRAY(0x267c7c0)) called at t/20-script.t line 24
Class::MOP::load_class is deprecated at /home/cpan3/install/lib/perl5/site_perl/5.26.0/x86_64-linux-thread-multi/Class/MOP.pm line 69.
	Class::MOP::load_class("Data::Pipeline::Aggregator::Pipeline") called at /home/cpan3/.cpan/build/Data-Pipeline-0.02-0/blib/lib/Data/Pipeline.pm line 70
	eval {...} called at /home/cpan3/.cpan/build/Data-Pipeline-0.02-0/blib/lib/Data/Pipeline.pm line 70
	Data::Pipeline::_find_class("Pipeline") called at /home/cpan3/.cpan/build/Data-Pipeline-0.02-0/blib/lib/Data/Pipeline.pm line 23
	Data::Pipeline::import("Data::Pipeline", "Pipeline", "UrlBuilder") called at t/13-uribuilder.t line 3
	main::BEGIN() called at t/13-uribuilder.t line 3
	eval {...} called at t/13-uribuilder.t line 3
Class::MOP::load_class is deprecated at /home/cpan3/install/lib/perl5/site_perl/5.26.0/x86_64-linux-thread-multi/Class/MOP.pm line 69.
	Class::MOP::load_class("Data::Pipeline::Aggregator::Machine") called at /home/cpan3/.cpan/build/Data-Pipeline-0.02-0/blib/lib/Data/Pipeline/Machine.pm line 20
	Data::Pipeline::Machine::BEGIN() called at /home/cpan3/.cpan/build/Data-Pipeline-0.02-0/blib/lib/Data/Pipeline/Machine.pm line 22
	eval {...} called at /home/cpan3/.cpan/build/Data-Pipeline-0.02-0/blib/lib/Data/Pipeline/Machine.pm line 22
	require Data/Pipeline/Machine.pm called at /home/cpan3/.cpan/build/Data-Pipeline-0.02-0/blib/lib/Data/Pipeline/Aggregator/Pipeline.pm line 10
	Data::Pipeline::Aggregator::Pipeline::BEGIN() called at /home/cpan3/.cpan/build/Data-Pipeline-0.02-0/blib/lib/Data/Pipeline/Machine.pm line 22
	eval {...} called at /home/cpan3/.cpan/build/Data-Pipeline-0.02-0/blib/lib/Data/Pipeline/Machine.pm line 22
	require Data/Pipeline/Aggregator/Pipeline.pm called at /home/cpan3/install/lib/perl5/site_perl/5.26.0/Module/Runtime.pm line 317
	Module::Runtime::require_module("Data::Pipeline::Aggregator::Pipeline") called at /home/cpan3/install/lib/perl5/site_perl/5.26.0/Class/Load.pm line 174
	Class::Load::try {...} () called at /home/cpan3/install/lib/perl5/site_perl/5.26.0/Try/Tiny.pm line 99
	eval {...} called at /home/cpan3/install/lib/perl5/site_perl/5.26.0/Try/Tiny.pm line 94
	Try::Tiny::try(CODE(0x1edb540), Try::Tiny::Catch=REF(0x1ee9d40)) called at /home/cpan3/install/lib/perl5/site_perl/5.26.0/Class/Load.pm line 180
	Class::Load::try_load_class("Data::Pipeline::Aggregator::Pipeline", undef) called at /home/cpan3/install/lib/perl5/site_perl/5.26.0/Class/Load.pm line 35
	Class::Load::load_class("Data::Pipeline::Aggregator::Pipeline") called at /home/cpan3/.cpan/build/Data-Pipeline-0.02-0/blib/lib/Data/Pipeline.pm line 70
	eval {...} called at /home/cpan3/.cpan/build/Data-Pipeline-0.02-0/blib/lib/Data/Pipeline.pm line 70
	Data::Pipeline::_find_class("Pipeline") called at /home/cpan3/.cpan/build/Data-Pipeline-0.02-0/blib/lib/Data/Pipeline.pm line 23
	Data::Pipeline::import("Data::Pipeline", "Pipeline", "UrlBuilder") called at t/13-uribuilder.t line 3
	main::BEGIN() called at /home/cpan3/.cpan/build/Data-Pipeline-0.02-0/blib/lib/Data/Pipeline/Machine.pm line 22
	eval {...} called at /home/cpan3/.cpan/build/Data-Pipeline-0.02-0/blib/lib/Data/Pipeline/Machine.pm line 22
Class::MOP::load_class is deprecated at /home/cpan3/install/lib/perl5/site_perl/5.26.0/x86_64-linux-thread-multi/Class/MOP.pm line 69.
	Class::MOP::load_class("Data::Pipeline::Iterator") called at /home/cpan3/.cpan/build/Data-Pipeline-0.02-0/blib/lib/Data/Pipeline/Types.pm line 133
	Data::Pipeline::Types::__ANON__(Data::Pipeline::Adapter::UrlBuilder=HASH(0x21b0f48)) called at /home/cpan3/install/lib/perl5/site_perl/5.26.0/x86_64-linux-thread-multi/Moose/Meta/TypeCoercion.pm line 65
	Moose::Meta::TypeCoercion::__ANON__(Data::Pipeline::Adapter::UrlBuilder=HASH(0x21b0f48)) called at /home/cpan3/install/lib/perl5/site_perl/5.26.0/x86_64-linux-thread-multi/Moose/Meta/TypeCoercion.pm line 100
	Moose::Meta::TypeCoercion::coerce(Moose::Meta::TypeCoercion=HASH(0x1efb9f0), Data::Pipeline::Adapter::UrlBuilder=HASH(0x21b0f48)) called at /home/cpan3/install/lib/perl5/site_perl/5.26.0/x86_64-linux-thread-multi/Moose/Meta/TypeConstraint.pm line 145
	Moose::Meta::TypeConstraint::coerce(Moose::Meta::TypeConstraint=HASH(0x1eb19a0), Data::Pipeline::Adapter::UrlBuilder=HASH(0x21b0f48)) called at /home/cpan3/install/lib/perl5/site_perl/5.26.0/MooseX/Types.pm line 494
	MooseX::Types::__ANON__(Data::Pipeline::Adapter::UrlBuilder=HASH(0x21b0f48)) called at /home/cpan3/.cpan/build/Data-Pipeline-0.02-0/blib/lib/Data/Pipeline/Aggregator/Pipeline.pm line 47
	Data::Pipeline::Aggregator::Pipeline::transform(Data::Pipeline::Aggregator::Pipeline=HASH(0x21935b8), Data::Pipeline::Adapter::UrlBuilder=HASH(0x21b0f48)) called at t/13-uribuilder.t line 16
t/13-uribuilder.t ...... ok
t/20-script.t .......... ok
All tests successful.
Files=14, Tests=137,  3 wallclock secs ( 0.06 usr  0.03 sys +  8.64 cusr  0.35 csys =  9.08 CPU)
Result: PASS

------------------------------
PREREQUISITES
------------------------------

Prerequisite modules loaded:

requires:

    Module              Need Have    
    ------------------- ---- --------
    Moose               2.06 2.2004  

build_requires:

    Module              Need Have    
    ------------------- ---- --------
    ExtUtils::MakeMaker 6.36 7.24    
    Test::More          0    1.302078

configure_requires:

    Module              Need Have    
    ------------------- ---- --------
    ExtUtils::MakeMaker 6.36 7.24    


------------------------------
ENVIRONMENT AND OTHER CONTEXT
------------------------------

Environment variables:

    AUTOMATED_TESTING = 1
    HARNESS_OPTIONS = j3
    LANG = en_US.UTF-8
    PATH = /usr/local/bin:/usr/bin:/bin:/usr/local/games:/usr/games
    PERL5LIB = 
    PERL5OPT = 
    PERL5_CPANPLUS_IS_RUNNING = 10733
    PERL5_CPAN_IS_RUNNING = 10733
    PERL5_CPAN_IS_RUNNING_IN_RECURSION = 28781,10733
    PERL_CR_SMOKER_CURRENT = Data-Pipeline-0.02
    PERL_CR_SMOKER_RUNONCE = 1
    PERL_EXTUTILS_AUTOINSTALL = --defaultdeps
    PERL_MM_USE_DEFAULT = 1
    SHELL = /bin/bash
    TERM = putty-256color

Perl special variables (and OS-specific diagnostics, for MSWin32):

    $^X = /home/cpan3/install/bin/perl
    $UID/$EUID = 1004 / 1004
    $GID = 1004 1004
    $EGID = 1004 1004

Perl module toolchain versions installed:

    Module              Have    
    ------------------- --------
    CPAN                2.16    
    CPAN::Meta          2.150010
    Cwd                 3.62    
    ExtUtils::CBuilder  0.280224
    ExtUtils::Command   7.24    
    ExtUtils::Install   2.04    
    ExtUtils::MakeMaker 7.24    
    ExtUtils::Manifest  1.70    
    ExtUtils::ParseXS   3.30    
    File::Spec          3.62    
    JSON                2.91_04 
    JSON::PP            2.27400 
    Module::Build       0.4222  
    Module::Signature   0.81    
    Parse::CPAN::Meta   2.150010
    Test::Harness       3.39    
    Test::More          1.302078
    YAML                1.23    
    YAML::Syck          1.29    
    version             0.9917  


--

Summary of my perl5 (revision 5 version 26 subversion 0) configuration:
  Commit id: f57d8456e7b8d6b2dad0bb49899cfdc68007b794
  Platform:
    osname=linux
    osvers=3.16.0-4-amd64
    archname=x86_64-linux-thread-multi
    uname='linux digitalis 3.16.0-4-amd64 #1 smp debian 3.16.36-1+deb8u2 (2016-10-19) x86_64 gnulinux '
    config_args='-Dusedevel -DDEBUGGING -Dusethreads -Dprefix=/home/cpan3/install -Uversiononly -des'
    hint=recommended
    useposix=true
    d_sigaction=define
    useithreads=define
    usemultiplicity=define
    use64bitint=define
    use64bitall=define
    uselongdouble=undef
    usemymalloc=n
    default_inc_excludes_dot=define
    bincompat5005=undef
  Compiler:
    cc='cc'
    ccflags ='-D_REENTRANT -D_GNU_SOURCE -fwrapv -DDEBUGGING -fno-strict-aliasing -pipe -fstack-protector-strong -I/usr/local/include -D_LARGEFILE_SOURCE -D_FILE_OFFSET_BITS=64 -D_FORTIFY_SOURCE=2'
    optimize='-O2 -g'
    cppflags='-D_REENTRANT -D_GNU_SOURCE -fwrapv -DDEBUGGING -fno-strict-aliasing -pipe -fstack-protector-strong -I/usr/local/include'
    ccversion=''
    gccversion='4.9.2'
    gccosandvers=''
    intsize=4
    longsize=8
    ptrsize=8
    doublesize=8
    byteorder=12345678
    doublekind=3
    d_longlong=define
    longlongsize=8
    d_longdbl=define
    longdblsize=16
    longdblkind=3
    ivtype='long'
    ivsize=8
    nvtype='double'
    nvsize=8
    Off_t='off_t'
    lseeksize=8
    alignbytes=8
    prototype=define
  Linker and Libraries:
    ld='cc'
    ldflags =' -fstack-protector-strong -L/usr/local/lib'
    libpth=/usr/local/lib /usr/lib/gcc/x86_64-linux-gnu/4.9/include-fixed /usr/include/x86_64-linux-gnu /usr/lib /lib/x86_64-linux-gnu /lib/../lib /usr/lib/x86_64-linux-gnu /usr/lib/../lib /lib /lib64 /usr/lib64
    libs=-lpthread -lnsl -ldl -lm -lcrypt -lutil -lc
    perllibs=-lpthread -lnsl -ldl -lm -lcrypt -lutil -lc
    libc=libc-2.19.so
    so=so
    useshrplib=false
    libperl=libperl.a
    gnulibc_version='2.19'
  Dynamic Linking:
    dlsrc=dl_dlopen.xs
    dlext=so
    d_dlsymun=undef
    ccdlflags='-Wl,-E'
    cccdlflags='-fPIC'
    lddlflags='-shared -O2 -g -L/usr/local/lib -fstack-protector-strong'


Characteristics of this binary (from libperl): 
  Compile-time options:
    DEBUGGING
    HAS_TIMES
    MULTIPLICITY
    PERLIO_LAYERS
    PERL_COPY_ON_WRITE
    PERL_DONT_CREATE_GVSV
    PERL_IMPLICIT_CONTEXT
    PERL_MALLOC_WRAP
    PERL_OP_PARENT
    PERL_PRESERVE_IVUV
    PERL_TRACK_MEMPOOL
    PERL_USE_DEVEL
    USE_64_BIT_ALL
    USE_64_BIT_INT
    USE_ITHREADS
    USE_LARGE_FILES
    USE_LOCALE
    USE_LOCALE_COLLATE
    USE_LOCALE_CTYPE
    USE_LOCALE_NUMERIC
    USE_LOCALE_TIME
    USE_PERLIO
    USE_PERL_ATOF
    USE_REENTRANT_API
  Built under linux
  Compiled at Apr 11 2017 21:41:23
  %ENV:
    PERL5LIB=""
    PERL5OPT=""
    PERL5_CPANPLUS_IS_RUNNING="10733"
    PERL5_CPAN_IS_RUNNING="10733"
    PERL5_CPAN_IS_RUNNING_IN_RECURSION="28781,10733"
    PERL_CR_SMOKER_CURRENT="Data-Pipeline-0.02"
    PERL_CR_SMOKER_RUNONCE="1"
    PERL_EXTUTILS_AUTOINSTALL="--defaultdeps"
    PERL_MM_USE_DEFAULT="1"
  @INC:
    /home/cpan3/install/lib/perl5/site_perl/5.26.0/x86_64-linux-thread-multi
    /home/cpan3/install/lib/perl5/site_perl/5.26.0
    /home/cpan3/install/lib/perl5/5.26.0/x86_64-linux-thread-multi
    /home/cpan3/install/lib/perl5/5.26.0