Plack-Component-Tags-HTML v0.18 Perl 5 v5.36.1 x86_64-linux-ld

Status
Pass
From
Andreas J. König (ANDK)
Dist
Plack-Component-Tags-HTML v0.18
Platform
Perl 5 v5.36.1 x86_64-linux-ld
Date
2024-05-10 20:22:29
ID
0617607c-0f0b-11ef-a2d0-33a1a57ad6c8
This distribution has been tested as part of the CPAN Testers
project, supporting the Perl programming language.  See
http://wiki.cpantesters.org/ for more information or email
questions to cpan-testers-discuss@perl.org


--
Dear Michal Josef Spacek,

This is a computer-generated report for Plack-Component-Tags-HTML-0.18
on perl 5.36.1, created by CPAN-Reporter-1.2018.

Thank you for uploading your work to CPAN.  Congratulations!
All tests were successful.

Sections of this report:

    * Tester comments
    * Program output
    * Prerequisites
    * Environment and other context

------------------------------
TESTER COMMENTS
------------------------------

Additional comments from tester:

this report is from an automated smoke testing program
and was not reviewed by a human for accuracy

------------------------------
PROGRAM OUTPUT
------------------------------

Output from '/usr/bin/make test':

PERL_DL_NONLAZY=1 "/home/sand/src/perl/repoperls/installed-perls/host/k93msid/v5.36.1/fc43/bin/perl" "-MExtUtils::Command::MM" "-MTest::Harness" "-e" "undef *Test::Harness::Switches; test_harness(0, 'inc', 'blib/lib', 'blib/arch')" t/Plack-Component-Tags-HTML/*.t
t/Plack-Component-Tags-HTML/01-use.t ............................. ok
t/Plack-Component-Tags-HTML/02-version.t ......................... ok
t/Plack-Component-Tags-HTML/03-app-explicit_tags.t ............... ok
t/Plack-Component-Tags-HTML/04-app-minimal.t ..................... ok
t/Plack-Component-Tags-HTML/05-app-psgi_app.t .................... ok
t/Plack-Component-Tags-HTML/06-app-tags_middle.t ................. ok
t/Plack-Component-Tags-HTML/07-app-tags_middle_with_html_lang.t .. ok
t/Plack-Component-Tags-HTML/08-app-tags_middle_without_title.t ... ok
t/Plack-Component-Tags-HTML/09-app-xml_error.t ................... ok
All tests successful.
Files=9, Tests=39,  2 wallclock secs ( 0.05 usr  0.01 sys +  1.18 cusr  0.22 csys =  1.46 CPU)
Result: PASS

------------------------------
PREREQUISITES
------------------------------

Prerequisite modules loaded:

requires:

    Module                   Need  Have      
    ------------------------ ----- ----------
    CSS::Struct::Output::Raw 0     0.05      
    Encode                   0     3.21      
    Error::Pure              0     0.31      
    perl                     5.008 5.036001  
    Plack::Component         0     0         
    Plack::Util::Accessor    0     0         
    Readonly                 0     2.05      
    Scalar::Util             0     1.63      
    Tags::HTML::Page::Begin  0.16  0.16      
    Tags::HTML::Page::End    0     0.05      
    Tags::Output::Raw        0     0.15      

build_requires:

    Module                   Need  Have      
    ------------------------ ----- ----------
    English                  0     1.11      
    Error::Pure::Utils       0     0.31      
    ExtUtils::MakeMaker      6.59  7.70      
    HTTP::Request::Common    0     6.45      
    Plack::Test              0     0         
    Tags::Output::Raw        0     0.15      
    Test::MockObject         0     1.20200122
    Test::More               0     1.302195  
    Test::NoWarnings         0     1.06      

configure_requires:

    Module                   Need  Have      
    ------------------------ ----- ----------
    ExtUtils::MakeMaker      6.59  7.70      


------------------------------
ENVIRONMENT AND OTHER CONTEXT
------------------------------

Environment variables:

    AUTOMATED_TESTING = 1
    LANG = en_US.UTF-8
    LANGUAGE = en_US:en
    PATH = /home/sand/bin:/usr/local/bin:/usr/bin:/bin:/usr/games:/usr/local/perl/bin:/usr/X11/bin:/sbin:/usr/sbin
    PERL5LIB = 
    PERL5OPT = 
    PERL5_CPANPLUS_IS_RUNNING = 810054
    PERL5_CPAN_IS_RUNNING = 810054
    PERL_CANARY_STABILITY_NOPROMPT = 1
    PERL_MM_USE_DEFAULT = 1
    PERL_USE_UNSAFE_INC = 1
    SHELL = /usr/bin/zsh
    TERM = screen

Perl special variables (and OS-specific diagnostics, for MSWin32):

    $^X = /home/sand/src/perl/repoperls/installed-perls/host/k93msid/v5.36.1/fc43/bin/perl
    $UID/$EUID = 1005 / 1005
    $GID = 1005 1005
    $EGID = 1005 1005

Perl module toolchain versions installed:

    Module              Have    
    ------------------- --------
    CPAN                2.34    
    CPAN::Meta          2.150010
    Cwd                 3.84    
    ExtUtils::CBuilder  0.280236
    ExtUtils::Command   7.70    
    ExtUtils::Install   2.20    
    ExtUtils::MakeMaker 7.70    
    ExtUtils::Manifest  1.73    
    ExtUtils::ParseXS   3.51    
    File::Spec          3.84    
    JSON                4.10    
    JSON::PP            4.16    
    Module::Build       0.42_35 
    Module::Signature   0.88    
    Parse::CPAN::Meta   2.150010
    Test::Harness       3.44    
    Test::More          1.302195
    YAML                1.30    
    YAML::Syck          1.34    
    version             0.9929  


--

Summary of my perl5 (revision 5 version 36 subversion 1) configuration:
  Commit id: 42e3343be621a2b9cdb98befd92de43cc0b7ef3e
  Platform:
    osname=linux
    osvers=6.1.0-7-amd64
    archname=x86_64-linux-ld
    uname='linux k93msid 6.1.0-7-amd64 #1 smp preempt_dynamic debian 6.1.20-1 (2023-03-19) x86_64 gnulinux '
    config_args='-Dprefix=/home/sand/src/perl/repoperls/installed-perls/host/k93msid/v5.36.1/fc43 -Dmyhostname=k93msid -Dinstallusrbinperl=n -Uversiononly -Dusedevel -des -Ui_db -Dlibswanted=cl pthread socket inet nsl gdbm dbm malloc dl ld sun m crypt sec util c cposix posix ucb BSD gdbm_compat -Uuseithreads -Duselongdouble -DEBUGGING=both'
    hint=recommended
    useposix=true
    d_sigaction=define
    useithreads=undef
    usemultiplicity=undef
    use64bitint=define
    use64bitall=define
    uselongdouble=define
    usemymalloc=n
    default_inc_excludes_dot=define
  Compiler:
    cc='cc'
    ccflags ='-fwrapv -DDEBUGGING -fno-strict-aliasing -pipe -fstack-protector-strong -I/usr/local/include -D_LARGEFILE_SOURCE -D_FILE_OFFSET_BITS=64 -D_FORTIFY_SOURCE=2'
    optimize='-O2 -g'
    cppflags='-fwrapv -DDEBUGGING -fno-strict-aliasing -pipe -fstack-protector-strong -I/usr/local/include'
    ccversion=''
    gccversion='12.2.0'
    gccosandvers=''
    intsize=4
    longsize=8
    ptrsize=8
    doublesize=8
    byteorder=12345678
    doublekind=3
    d_longlong=define
    longlongsize=8
    d_longdbl=define
    longdblsize=16
    longdblkind=3
    ivtype='long'
    ivsize=8
    nvtype='long double'
    nvsize=16
    Off_t='off_t'
    lseeksize=8
    alignbytes=16
    prototype=define
  Linker and Libraries:
    ld='cc'
    ldflags =' -fstack-protector-strong -L/usr/local/lib'
    libpth=/usr/local/lib /usr/lib/x86_64-linux-gnu /usr/lib /usr/lib64
    libs=-lpthread -lnsl -ldl -lm -lcrypt -lutil -lc
    perllibs=-lpthread -lnsl -ldl -lm -lcrypt -lutil -lc
    libc=/lib/x86_64-linux-gnu/libc.so.6
    so=so
    useshrplib=false
    libperl=libperl.a
    gnulibc_version='2.36'
  Dynamic Linking:
    dlsrc=dl_dlopen.xs
    dlext=so
    d_dlsymun=undef
    ccdlflags='-Wl,-E'
    cccdlflags='-fPIC'
    lddlflags='-shared -O2 -g -L/usr/local/lib -fstack-protector-strong'


Characteristics of this binary (from libperl): 
  Compile-time options:
    DEBUGGING
    HAS_TIMES
    PERLIO_LAYERS
    PERL_COPY_ON_WRITE
    PERL_DONT_CREATE_GVSV
    PERL_MALLOC_WRAP
    PERL_OP_PARENT
    PERL_PRESERVE_IVUV
    PERL_USE_DEVEL
    USE_64_BIT_ALL
    USE_64_BIT_INT
    USE_LARGE_FILES
    USE_LOCALE
    USE_LOCALE_COLLATE
    USE_LOCALE_CTYPE
    USE_LOCALE_NUMERIC
    USE_LOCALE_TIME
    USE_LONG_DOUBLE
    USE_PERLIO
    USE_PERL_ATOF
  Built under linux
  Compiled at Apr 24 2023 01:37:25
  %ENV:
    PERL5LIB=""
    PERL5OPT=""
    PERL5_CPANPLUS_IS_RUNNING="810054"
    PERL5_CPAN_IS_RUNNING="810054"
    PERL_CANARY_STABILITY_NOPROMPT="1"
    PERL_MM_USE_DEFAULT="1"
    PERL_USE_UNSAFE_INC="1"
  @INC:
    /home/sand/src/perl/repoperls/installed-perls/host/k93msid/v5.36.1/fc43/lib/site_perl/5.36.1/x86_64-linux-ld
    /home/sand/src/perl/repoperls/installed-perls/host/k93msid/v5.36.1/fc43/lib/site_perl/5.36.1
    /home/sand/src/perl/repoperls/installed-perls/host/k93msid/v5.36.1/fc43/lib/5.36.1/x86_64-linux-ld
    /home/sand/src/perl/repoperls/installed-perls/host/k93msid/v5.36.1/fc43/lib/5.36.1
    .