Data-MARC-Leader v0.06 Perl 5 v5.12.5 x86_64-linux-ld

Status
Pass
From
Andreas J. König (ANDK)
Dist
Data-MARC-Leader v0.06
Platform
Perl 5 v5.12.5 x86_64-linux-ld
Date
2025-06-02 08:17:28
ID
05db133c-3f8a-11f0-81a4-fe6f0e9f5b3e
This distribution has been tested as part of the CPAN Testers
project, supporting the Perl programming language.  See
http://wiki.cpantesters.org/ for more information or email
questions to cpan-testers-discuss@perl.org


--
Dear Michal Josef Spacek,

This is a computer-generated report for Data-MARC-Leader-0.06
on perl 5.12.5, created by CPAN-Reporter-1.2020.

Thank you for uploading your work to CPAN.  Congratulations!
All tests were successful.

Sections of this report:

    * Tester comments
    * Program output
    * Prerequisites
    * Environment and other context

------------------------------
TESTER COMMENTS
------------------------------

Additional comments from tester:

this report is from an automated smoke testing program
and was not reviewed by a human for accuracy

------------------------------
PROGRAM OUTPUT
------------------------------

Output from '/usr/bin/make test':

PERL_DL_NONLAZY=1 "/home/sand/src/perl/repoperls/installed-perls/host/k93msid/v5.12.5/fc43/bin/perl" "-MExtUtils::Command::MM" "-MTest::Harness" "-e" "undef *Test::Harness::Switches; test_harness(0, 'inc', 'blib/lib', 'blib/arch')" t/Data-MARC-Leader-Utils-ENG/*.t t/Data-MARC-Leader-Utils/*.t t/Data-MARC-Leader/*.t
t/Data-MARC-Leader-Utils-ENG/01-use.t ........................... ok
t/Data-MARC-Leader-Utils-ENG/02-version.t ....................... ok
t/Data-MARC-Leader-Utils/01-use.t ............................... ok
t/Data-MARC-Leader-Utils/02-version.t ........................... ok
t/Data-MARC-Leader-Utils/03-new.t ............................... ok
t/Data-MARC-Leader-Utils/04-desc_bibliographic_level.t .......... ok
t/Data-MARC-Leader-Utils/05-desc_char_coding_scheme.t ........... ok
t/Data-MARC-Leader-Utils/06-desc_descriptive_cataloging_form.t .. ok
t/Data-MARC-Leader/01-use.t ..................................... ok
t/Data-MARC-Leader/02-version.t ................................. ok
t/Data-MARC-Leader/03-new.t ..................................... ok
All tests successful.
Files=11, Tests=26,  4 wallclock secs ( 0.04 usr  0.03 sys +  0.75 cusr  0.36 csys =  1.18 CPU)
Result: PASS

------------------------------
PREREQUISITES
------------------------------

Prerequisite modules loaded:

requires:

    Module              Need  Have    
    ------------------- ----- --------
    Class::Utils        0     0.14    
    English             0     1.04    
    Error::Pure         0     0.34    
    Mo                  0     0.40    
    Mo::utils           0.22  0.29    
    perl                5.008 5.012005
    Readonly            0     2.05    

build_requires:

    Module              Need  Have    
    ------------------- ----- --------
    ExtUtils::MakeMaker 6.59  7.74    
    Test::More          0     1.302201
    Test::NoWarnings    0     1.06    

configure_requires:

    Module              Need  Have    
    ------------------- ----- --------
    ExtUtils::MakeMaker 6.59  7.74    


------------------------------
ENVIRONMENT AND OTHER CONTEXT
------------------------------

Environment variables:

    AUTOMATED_TESTING = 1
    LANG = en_US.UTF-8
    LANGUAGE = en_US:en
    PATH = /home/sand/bin:/usr/local/bin:/usr/bin:/bin:/usr/games:/usr/local/perl/bin:/usr/X11/bin:/sbin:/usr/sbin
    PERL5LIB = 
    PERL5OPT = 
    PERL5_CPANPLUS_IS_RUNNING = 16863
    PERL5_CPAN_IS_RUNNING = 16863
    PERL_CANARY_STABILITY_NOPROMPT = 1
    PERL_MM_USE_DEFAULT = 1
    PERL_USE_UNSAFE_INC = 1
    SHELL = /usr/bin/zsh
    TERM = screen

Perl special variables (and OS-specific diagnostics, for MSWin32):

    $^X = /home/sand/src/perl/repoperls/installed-perls/host/k93msid/v5.12.5/fc43/bin/perl
    $UID/$EUID = 1005 / 1005
    $GID = 1005 1005
    $EGID = 1005 1005

Perl module toolchain versions installed:

    Module              Have    
    ------------------- --------
    CPAN                2.33    
    CPAN::Meta          2.150010
    Cwd                 3.75    
    ExtUtils::CBuilder  0.280236
    ExtUtils::Command   7.74    
    ExtUtils::Install   2.22    
    ExtUtils::MakeMaker 7.74    
    ExtUtils::Manifest  1.75    
    ExtUtils::ParseXS   3.57    
    File::Spec          3.75    
    JSON                4.10    
    JSON::PP            4.11    
    Module::Build       0.4234  
    Module::Signature   0.89    
    Parse::CPAN::Meta   2.150010
    Test2               1.302201
    Test::Harness       3.50    
    Test::More          1.302201
    YAML                1.30    
    YAML::Syck          1.34    
    version             0.9929  


--

Summary of my perl5 (revision 5 version 12 subversion 5) configuration:
  Derived from: 9a9cbd715960a905dcbc9166349a73a64a007e4e
  Platform:
    osname=linux, osvers=5.16.0-5-amd64, archname=x86_64-linux-ld
    uname='linux k93msid 5.16.0-5-amd64 #1 smp preempt debian 5.16.14-1 (2022-03-15) x86_64 gnulinux '
    config_args='-Dprefix=/home/sand/src/perl/repoperls/installed-perls/host/k93msid/v5.12.5/fc43 -Dmyhostname=k93msid -Dinstallusrbinperl=n -Uversiononly -Dusedevel -des -Ui_db -Dlibswanted=cl pthread socket inet nsl gdbm dbm malloc dl ld sun m crypt sec util c cposix posix ucb BSD gdbm_compat -Uuseithreads -Duselongdouble -DEBUGGING=both'
    hint=recommended, useposix=true, d_sigaction=define
    useithreads=undef, usemultiplicity=undef
    useperlio=define, d_sfio=undef, uselargefiles=define, usesocks=undef
    use64bitint=define, use64bitall=define, uselongdouble=define
    usemymalloc=n, bincompat5005=undef
  Compiler:
    cc='cc', ccflags ='-fwrapv -DDEBUGGING -fno-strict-aliasing -pipe -fstack-protector -I/usr/local/include -D_LARGEFILE_SOURCE -D_FILE_OFFSET_BITS=64',
    optimize='-O2 -g',
    cppflags='-fwrapv -DDEBUGGING -fno-strict-aliasing -pipe -fstack-protector -I/usr/local/include'
    ccversion='', gccversion='11.2.0', gccosandvers=''
    intsize=4, longsize=8, ptrsize=8, doublesize=8, byteorder=12345678
    d_longlong=define, longlongsize=8, d_longdbl=define, longdblsize=16
    ivtype='long', ivsize=8, nvtype='long double', nvsize=16, Off_t='off_t', lseeksize=8
    alignbytes=16, prototype=define
  Linker and Libraries:
    ld='cc', ldflags =' -fstack-protector -L/usr/local/lib'
    libpth=/usr/local/lib /lib/x86_64-linux-gnu /lib/../lib /usr/lib/x86_64-linux-gnu /usr/lib/../lib /lib /usr/lib
    libs=-lpthread -lnsl -ldl -lm -lcrypt -lutil -lc
    perllibs=-lpthread -lnsl -ldl -lm -lcrypt -lutil -lc
    libc=libc-2.33.so, so=so, useshrplib=false, libperl=libperl.a
    gnulibc_version='2.33'
  Dynamic Linking:
    dlsrc=dl_dlopen.xs, dlext=so, d_dlsymun=undef, ccdlflags='-Wl,-E'
    cccdlflags='-fPIC', lddlflags='-shared -O2 -g -L/usr/local/lib -fstack-protector'


Characteristics of this binary (from libperl): 
  Compile-time options: DEBUGGING PERL_DONT_CREATE_GVSV PERL_MALLOC_WRAP
                        PERL_USE_DEVEL USE_64_BIT_ALL USE_64_BIT_INT
                        USE_LARGE_FILES USE_LONG_DOUBLE USE_PERLIO
                        USE_PERL_ATOF
  Locally applied patches:
	uncommitted-changes
  Built under linux
  Compiled at Mar 18 2022 09:31:19
  %ENV:
    PERL5LIB=""
    PERL5OPT=""
    PERL5_CPANPLUS_IS_RUNNING="16863"
    PERL5_CPAN_IS_RUNNING="16863"
    PERL_CANARY_STABILITY_NOPROMPT="1"
    PERL_MM_USE_DEFAULT="1"
    PERL_USE_UNSAFE_INC="1"
  @INC:
    /home/sand/src/perl/repoperls/installed-perls/host/k93msid/v5.12.5/fc43/lib/site_perl/5.12.5/x86_64-linux-ld
    /home/sand/src/perl/repoperls/installed-perls/host/k93msid/v5.12.5/fc43/lib/site_perl/5.12.5
    /home/sand/src/perl/repoperls/installed-perls/host/k93msid/v5.12.5/fc43/lib/5.12.5/x86_64-linux-ld
    /home/sand/src/perl/repoperls/installed-perls/host/k93msid/v5.12.5/fc43/lib/5.12.5
    .