Report for Dancer2-Plugin-Auth-Extensible-0.703

Back
From: metabase:user:30977d10-2aae-11df-837a-5e0a49663a4f
Subject: PASS Dancer2-Plugin-Auth-Extensible-0.703 v5.12.4 GNU/Linux
Date: 2017-01-11T18:16:07Z

This distribution has been tested as part of the CPAN Testers
project, supporting the Perl programming language.  See
http://wiki.cpantesters.org/ for more information or email
questions to cpan-testers-discuss@perl.org


--
Dear Stefan Hornburg (Racke),

This is a computer-generated report for Dancer2-Plugin-Auth-Extensible-0.703
on perl 5.12.4, created by CPAN-Reporter-1.2017.

Thank you for uploading your work to CPAN.  Congratulations!
All tests were successful.

Sections of this report:

    * Tester comments
    * Program output
    * Prerequisites
    * Environment and other context

------------------------------
TESTER COMMENTS
------------------------------

Additional comments from tester:

this report is from an automated smoke testing program
and was not reviewed by a human for accuracy

------------------------------
PROGRAM OUTPUT
------------------------------

Output from '/usr/bin/make test':

Skip blib/lib/auto/share/dist/Dancer2-Plugin-Auth-Extensible/views/login.tt (unchanged)
Skip blib/lib/auto/share/dist/Dancer2-Plugin-Auth-Extensible/views/login_denied.tt (unchanged)
Skip blib/lib/auto/share/dist/Dancer2-Plugin-Auth-Extensible/views/transparent_login.tt (unchanged)
PERL_DL_NONLAZY=1 "/home/stro/perl/5.12.4m/bin/perl" "-MExtUtils::Command::MM" "-MTest::Harness" "-e" "undef *Test::Harness::Switches; test_harness(0, 'blib/lib', 'blib/arch')" t/*.t
# Testing Dancer2::Plugin::Auth::Extensible 0.703, Perl 5.012004, /home/stro/perl/5.12.4m/bin/perl
t/00-load.t .......................... ok
t/01-role-provider.t ................. ok
t/disable_roles.t .................... ok
t/exploding-provider.t ............... ok
t/login-without-redirect.t ........... ok
t/manifest.t ......................... skipped: Author tests not required for installation
t/no-default-pages.t ................. ok
t/no-get-user-details.t .............. ok
t/no-login-handler.t ................. ok
t/no-provider-configured.t ........... ok
t/no-realms-configured.t ............. ok
t/no-reset-password-handler.t ........ ok
t/one-realm.t ........................ ok
t/plugin-provider-config-extended.t .. ok
t/plugin-provider-config.t ........... ok
t/pod-coverage.t ..................... skipped: Author tests not required for installation
t/pod.t .............................. skipped: Author tests not required for installation
All tests successful.
Files=17, Tests=163, 10 wallclock secs ( 0.14 usr  0.01 sys +  6.11 cusr  0.25 csys =  6.51 CPU)
Result: PASS

------------------------------
PREREQUISITES
------------------------------

Prerequisite modules loaded:

requires:

    Module                  Need     Have    
    ----------------------- -------- --------
    Carp                    0        1.38    
    Crypt::SaltedHash       0        0.09    
    Dancer2                 0.204000 0.204001
    Dancer2::Core::Types    0        0.204001
    Dancer2::FileUtils      0        0.204001
    Dancer2::Plugin         0        0.204001
    Dancer2::Template::Tiny 0        0.204001
    File::Share             0        0.25    
    HTTP::BrowserDetect     0        3.14    
    List::Util              0        1.46    
    Module::Runtime         0        0.014   
    Moo                     2.000000 2.002004
    Moo::Role               0        2.002004
    namespace::clean        0        0.27    
    perl                    5.006000 5.012004
    Plack                   1.0029   1.0040  
    Scalar::Util            0        1.46    
    Session::Token          0        1.503   
    Try::Tiny               0        0.27    
    URI::Escape             0        3.31    
    YAML                    0        1.18    

build_requires:

    Module                  Need     Have    
    ----------------------- -------- --------
    DateTime                0        1.39    
    File::ShareDir::Install 0.06     0.11    
    HTTP::Cookies           0        6.01    
    HTTP::Request::Common   0        6.11    
    Path::Tiny              0.016    0.098   
    Plack::Test             0        0       
    Test::Deep              0.114    1.123   
    Test::Exception         0        0.43    
    Test::MockDateTime      0        0.02    
    Test::More              0        1.302059
    Test::Warnings          0        0.025   

configure_requires:

    Module                  Need     Have    
    ----------------------- -------- --------
    ExtUtils::MakeMaker     0        7.24    
    File::ShareDir::Install 0.06     0.11    


------------------------------
ENVIRONMENT AND OTHER CONTEXT
------------------------------

Environment variables:

    AUTOMATED_TESTING = 1
    LANG = en_US.UTF-8
    PATH = /usr/local/bin:/usr/bin:/bin:/usr/local/games:/usr/games
    PERL5LIB = 
    PERL5OPT = 
    PERL5_CPANPLUS_IS_RUNNING = 7135
    PERL5_CPAN_IS_RUNNING = 7135
    PERL5_CPAN_IS_RUNNING_IN_RECURSION = 1008,7135
    PERL_CR_SMOKER_CURRENT = Dancer2-Plugin-Auth-Extensible-Rights-0.01
    PERL_EXTUTILS_AUTOINSTALL = --defaultdeps
    PERL_MM_USE_DEFAULT = 1
    SHELL = /bin/bash
    TERM = xterm

Perl special variables (and OS-specific diagnostics, for MSWin32):

    $^X = /home/stro/perl/5.12.4m/bin/perl
    $UID/$EUID = 1000 / 1000
    $GID = 1000 24 25 29 30 44 46 108 114 1000
    $EGID = 1000 24 25 29 30 44 46 108 114 1000

Perl module toolchain versions installed:

    Module              Have    
    ------------------- --------
    CPAN                2.15    
    CPAN::Meta          2.150010
    Cwd                 3.62    
    ExtUtils::CBuilder  0.280224
    ExtUtils::Command   7.24    
    ExtUtils::Install   1.55    
    ExtUtils::MakeMaker 7.24    
    ExtUtils::Manifest  1.70    
    ExtUtils::ParseXS   3.30    
    File::Spec          3.62    
    JSON                2.90    
    JSON::PP            2.27300 
    Module::Build       0.4220  
    Module::Signature   0.81    
    Parse::CPAN::Meta   2.150010
    Test::Harness       3.35    
    Test::More          1.302059
    YAML                1.18    
    YAML::Syck          1.29    
    version             0.9917  


--

Summary of my perl5 (revision 5 version 12 subversion 4) configuration:
   
  Platform:
    osname=linux, osvers=3.16.0-4-amd64, archname=x86_64-linux-multi
    uname='linux vm-debian-001 3.16.0-4-amd64 #1 smp debian 3.16.7-ckt11-1 (2015-05-24) x86_64 gnulinux '
    config_args=''
    hint=recommended, useposix=true, d_sigaction=define
    useithreads=undef, usemultiplicity=define
    useperlio=define, d_sfio=undef, uselargefiles=define, usesocks=undef
    use64bitint=define, use64bitall=define, uselongdouble=undef
    usemymalloc=n, bincompat5005=undef
  Compiler:
    cc='cc', ccflags ='-fno-strict-aliasing -pipe -fstack-protector -I/usr/local/include -D_LARGEFILE_SOURCE -D_FILE_OFFSET_BITS=64',
    optimize='-O2',
    cppflags='-fno-strict-aliasing -pipe -fstack-protector -I/usr/local/include'
    ccversion='', gccversion='4.9.2', gccosandvers=''
    intsize=4, longsize=8, ptrsize=8, doublesize=8, byteorder=12345678
    d_longlong=define, longlongsize=8, d_longdbl=define, longdblsize=16
    ivtype='long', ivsize=8, nvtype='double', nvsize=8, Off_t='off_t', lseeksize=8
    alignbytes=8, prototype=define
  Linker and Libraries:
    ld='cc', ldflags =' -fstack-protector -L/usr/local/lib'
    libpth=/usr/local/lib /lib/x86_64-linux-gnu /lib/../lib /usr/lib/x86_64-linux-gnu /usr/lib/../lib /lib /usr/lib
    libs=-lnsl -ldl -lm -lcrypt -lutil -lc
    perllibs=-lnsl -ldl -lm -lcrypt -lutil -lc
    libc=, so=so, useshrplib=false, libperl=libperl.a
    gnulibc_version='2.19'
  Dynamic Linking:
    dlsrc=dl_dlopen.xs, dlext=so, d_dlsymun=undef, ccdlflags='-Wl,-E'
    cccdlflags='-fPIC', lddlflags='-shared -O2 -L/usr/local/lib -fstack-protector'


Characteristics of this binary (from libperl): 
  Compile-time options: MULTIPLICITY PERL_DONT_CREATE_GVSV
                        PERL_IMPLICIT_CONTEXT PERL_MALLOC_WRAP USE_64_BIT_ALL
                        USE_64_BIT_INT USE_LARGE_FILES USE_PERLIO
                        USE_PERL_ATOF
  Built under linux
  Compiled at Jul 17 2015 17:06:07
  %ENV:
    PERL5LIB=""
    PERL5OPT=""
    PERL5_CPANPLUS_IS_RUNNING="7135"
    PERL5_CPAN_IS_RUNNING="7135"
    PERL5_CPAN_IS_RUNNING_IN_RECURSION="1008,7135"
    PERL_CR_SMOKER_CURRENT="Dancer2-Plugin-Auth-Extensible-Rights-0.01"
    PERL_EXTUTILS_AUTOINSTALL="--defaultdeps"
    PERL_MM_USE_DEFAULT="1"
  @INC:
    /home/stro/perl/5.12.4m/lib/site_perl/5.12.4/x86_64-linux-multi
    /home/stro/perl/5.12.4m/lib/site_perl/5.12.4
    /home/stro/perl/5.12.4m/lib/5.12.4/x86_64-linux-multi
    /home/stro/perl/5.12.4m/lib/5.12.4
    .